BEGIN:VCALENDAR
VERSION:2.0
PRODID:-//Chehalis Lutheran - ECPv6.15.20//NONSGML v1.0//EN
CALSCALE:GREGORIAN
METHOD:PUBLISH
X-ORIGINAL-URL:https://www.chehalislutheran.org
X-WR-CALDESC:Events for Chehalis Lutheran
REFRESH-INTERVAL;VALUE=DURATION:PT1H
X-Robots-Tag:noindex
X-PUBLISHED-TTL:PT1H
BEGIN:VTIMEZONE
TZID:America/Los_Angeles
BEGIN:DAYLIGHT
TZOFFSETFROM:-0800
TZOFFSETTO:-0700
TZNAME:PDT
DTSTART:20220313T100000
END:DAYLIGHT
BEGIN:STANDARD
TZOFFSETFROM:-0700
TZOFFSETTO:-0800
TZNAME:PST
DTSTART:20221106T090000
END:STANDARD
BEGIN:DAYLIGHT
TZOFFSETFROM:-0800
TZOFFSETTO:-0700
TZNAME:PDT
DTSTART:20230312T100000
END:DAYLIGHT
BEGIN:STANDARD
TZOFFSETFROM:-0700
TZOFFSETTO:-0800
TZNAME:PST
DTSTART:20231105T090000
END:STANDARD
BEGIN:DAYLIGHT
TZOFFSETFROM:-0800
TZOFFSETTO:-0700
TZNAME:PDT
DTSTART:20240310T100000
END:DAYLIGHT
BEGIN:STANDARD
TZOFFSETFROM:-0700
TZOFFSETTO:-0800
TZNAME:PST
DTSTART:20241103T090000
END:STANDARD
BEGIN:DAYLIGHT
TZOFFSETFROM:-0800
TZOFFSETTO:-0700
TZNAME:PDT
DTSTART:20250309T100000
END:DAYLIGHT
BEGIN:STANDARD
TZOFFSETFROM:-0700
TZOFFSETTO:-0800
TZNAME:PST
DTSTART:20251102T090000
END:STANDARD
BEGIN:DAYLIGHT
TZOFFSETFROM:-0800
TZOFFSETTO:-0700
TZNAME:PDT
DTSTART:20260308T100000
END:DAYLIGHT
BEGIN:STANDARD
TZOFFSETFROM:-0700
TZOFFSETTO:-0800
TZNAME:PST
DTSTART:20261101T090000
END:STANDARD
BEGIN:DAYLIGHT
TZOFFSETFROM:-0800
TZOFFSETTO:-0700
TZNAME:PDT
DTSTART:20270314T100000
END:DAYLIGHT
BEGIN:STANDARD
TZOFFSETFROM:-0700
TZOFFSETTO:-0800
TZNAME:PST
DTSTART:20271107T090000
END:STANDARD
END:VTIMEZONE
BEGIN:VEVENT
DTSTART;TZID=America/Los_Angeles:20260414T130000
DTEND;TZID=America/Los_Angeles:20260414T143000
DTSTAMP:20260423T113139
CREATED:20230927T173712Z
LAST-MODIFIED:20230927T173712Z
UID:25145-1776171600-1776177000@www.chehalislutheran.org
SUMMARY:LWML
DESCRIPTION:LWML
URL:https://www.chehalislutheran.org/event/23341/2026-04-14/
END:VEVENT
BEGIN:VEVENT
DTSTART;TZID=America/Los_Angeles:20260310T130000
DTEND;TZID=America/Los_Angeles:20260310T143000
DTSTAMP:20260423T113139
CREATED:20230927T173712Z
LAST-MODIFIED:20230927T173712Z
UID:24990-1773147600-1773153000@www.chehalislutheran.org
SUMMARY:LWML
DESCRIPTION:LWML
URL:https://www.chehalislutheran.org/event/23341/2026-03-10/
END:VEVENT
BEGIN:VEVENT
DTSTART;TZID=America/Los_Angeles:20260210T130000
DTEND;TZID=America/Los_Angeles:20260210T143000
DTSTAMP:20260423T113139
CREATED:20230927T173712Z
LAST-MODIFIED:20230927T173712Z
UID:24861-1770728400-1770733800@www.chehalislutheran.org
SUMMARY:LWML
DESCRIPTION:LWML
URL:https://www.chehalislutheran.org/event/23341/2026-02-10/
END:VEVENT
BEGIN:VEVENT
DTSTART;TZID=America/Los_Angeles:20260113T130000
DTEND;TZID=America/Los_Angeles:20260113T143000
DTSTAMP:20260423T113139
CREATED:20230927T173712Z
LAST-MODIFIED:20230927T173712Z
UID:24701-1768309200-1768314600@www.chehalislutheran.org
SUMMARY:LWML
DESCRIPTION:LWML
URL:https://www.chehalislutheran.org/event/23341/2026-01-13/
END:VEVENT
BEGIN:VEVENT
DTSTART;TZID=America/Los_Angeles:20251209T130000
DTEND;TZID=America/Los_Angeles:20251209T143000
DTSTAMP:20260423T113139
CREATED:20230927T173712Z
LAST-MODIFIED:20230927T173712Z
UID:24474-1765285200-1765290600@www.chehalislutheran.org
SUMMARY:LWML
DESCRIPTION:LWML
URL:https://www.chehalislutheran.org/event/23341/2025-12-09/
END:VEVENT
BEGIN:VEVENT
DTSTART;TZID=America/Los_Angeles:20231010T130000
DTEND;TZID=America/Los_Angeles:20231010T143000
DTSTAMP:20260423T113139
CREATED:20230927T173712Z
LAST-MODIFIED:20231205T190947Z
UID:23341-1696942800-1696948200@www.chehalislutheran.org
SUMMARY:LWML
DESCRIPTION:LWML
URL:https://www.chehalislutheran.org/event/23341/2023-10-10/
END:VEVENT
END:VCALENDAR