BEGIN:VCALENDAR
VERSION:2.0
PRODID:-//Chehalis Lutheran - ECPv6.15.20//NONSGML v1.0//EN
CALSCALE:GREGORIAN
METHOD:PUBLISH
X-WR-CALNAME:Chehalis Lutheran
X-ORIGINAL-URL:https://www.chehalislutheran.org
X-WR-CALDESC:Events for Chehalis Lutheran
REFRESH-INTERVAL;VALUE=DURATION:PT1H
X-Robots-Tag:noindex
X-PUBLISHED-TTL:PT1H
BEGIN:VTIMEZONE
TZID:America/Los_Angeles
BEGIN:DAYLIGHT
TZOFFSETFROM:-0800
TZOFFSETTO:-0700
TZNAME:PDT
DTSTART:20250309T100000
END:DAYLIGHT
BEGIN:STANDARD
TZOFFSETFROM:-0700
TZOFFSETTO:-0800
TZNAME:PST
DTSTART:20251102T090000
END:STANDARD
BEGIN:DAYLIGHT
TZOFFSETFROM:-0800
TZOFFSETTO:-0700
TZNAME:PDT
DTSTART:20260308T100000
END:DAYLIGHT
BEGIN:STANDARD
TZOFFSETFROM:-0700
TZOFFSETTO:-0800
TZNAME:PST
DTSTART:20261101T090000
END:STANDARD
BEGIN:DAYLIGHT
TZOFFSETFROM:-0800
TZOFFSETTO:-0700
TZNAME:PDT
DTSTART:20270314T100000
END:DAYLIGHT
BEGIN:STANDARD
TZOFFSETFROM:-0700
TZOFFSETTO:-0800
TZNAME:PST
DTSTART:20271107T090000
END:STANDARD
END:VTIMEZONE
BEGIN:VEVENT
DTSTART;TZID=America/Los_Angeles:20260429T100000
DTEND;TZID=America/Los_Angeles:20260429T113000
DTSTAMP:20260423T093200
CREATED:20240501T164820Z
LAST-MODIFIED:20251010T013601Z
UID:26859-1777456800-1777462200@www.chehalislutheran.org
SUMMARY:Adult Bible Study
DESCRIPTION:
URL:https://www.chehalislutheran.org/event/adult-bible-study-2/2026-04-29/
END:VEVENT
BEGIN:VEVENT
DTSTART;TZID=America/Los_Angeles:20260506T100000
DTEND;TZID=America/Los_Angeles:20260506T113000
DTSTAMP:20260423T093200
CREATED:20240501T164820Z
LAST-MODIFIED:20251010T013601Z
UID:25586-1778061600-1778067000@www.chehalislutheran.org
SUMMARY:Adult Bible Study
DESCRIPTION:
URL:https://www.chehalislutheran.org/event/adult-bible-study-2/2026-05-06/
END:VEVENT
BEGIN:VEVENT
DTSTART;TZID=America/Los_Angeles:20260513T100000
DTEND;TZID=America/Los_Angeles:20260513T113000
DTSTAMP:20260423T093200
CREATED:20240501T164820Z
LAST-MODIFIED:20251010T013601Z
UID:25603-1778666400-1778671800@www.chehalislutheran.org
SUMMARY:Adult Bible Study
DESCRIPTION:
URL:https://www.chehalislutheran.org/event/adult-bible-study-2/2026-05-13/
END:VEVENT
BEGIN:VEVENT
DTSTART;TZID=America/Los_Angeles:20260520T100000
DTEND;TZID=America/Los_Angeles:20260520T113000
DTSTAMP:20260423T093200
CREATED:20240501T164820Z
LAST-MODIFIED:20251010T013601Z
UID:25616-1779271200-1779276600@www.chehalislutheran.org
SUMMARY:Adult Bible Study
DESCRIPTION:
URL:https://www.chehalislutheran.org/event/adult-bible-study-2/2026-05-20/
END:VEVENT
BEGIN:VEVENT
DTSTART;TZID=America/Los_Angeles:20260527T100000
DTEND;TZID=America/Los_Angeles:20260527T113000
DTSTAMP:20260423T093200
CREATED:20240501T164820Z
LAST-MODIFIED:20251010T013602Z
UID:25630-1779876000-1779881400@www.chehalislutheran.org
SUMMARY:Adult Bible Study
DESCRIPTION:
URL:https://www.chehalislutheran.org/event/adult-bible-study-2/2026-05-27/
END:VEVENT
BEGIN:VEVENT
DTSTART;TZID=America/Los_Angeles:20260603T100000
DTEND;TZID=America/Los_Angeles:20260603T113000
DTSTAMP:20260423T093200
CREATED:20240501T164820Z
LAST-MODIFIED:20251010T013603Z
UID:25646-1780480800-1780486200@www.chehalislutheran.org
SUMMARY:Adult Bible Study
DESCRIPTION:
URL:https://www.chehalislutheran.org/event/adult-bible-study-2/2026-06-03/
END:VEVENT
BEGIN:VEVENT
DTSTART;TZID=America/Los_Angeles:20260610T100000
DTEND;TZID=America/Los_Angeles:20260610T113000
DTSTAMP:20260423T093200
CREATED:20240501T164820Z
LAST-MODIFIED:20251010T013603Z
UID:25682-1781085600-1781091000@www.chehalislutheran.org
SUMMARY:Adult Bible Study
DESCRIPTION:
URL:https://www.chehalislutheran.org/event/adult-bible-study-2/2026-06-10/
END:VEVENT
BEGIN:VEVENT
DTSTART;TZID=America/Los_Angeles:20260617T100000
DTEND;TZID=America/Los_Angeles:20260617T113000
DTSTAMP:20260423T093200
CREATED:20240501T164820Z
LAST-MODIFIED:20251010T013603Z
UID:25696-1781690400-1781695800@www.chehalislutheran.org
SUMMARY:Adult Bible Study
DESCRIPTION:
URL:https://www.chehalislutheran.org/event/adult-bible-study-2/2026-06-17/
END:VEVENT
BEGIN:VEVENT
DTSTART;TZID=America/Los_Angeles:20260624T100000
DTEND;TZID=America/Los_Angeles:20260624T113000
DTSTAMP:20260423T093200
CREATED:20240501T164820Z
LAST-MODIFIED:20251010T013604Z
UID:25701-1782295200-1782300600@www.chehalislutheran.org
SUMMARY:Adult Bible Study
DESCRIPTION:
URL:https://www.chehalislutheran.org/event/adult-bible-study-2/2026-06-24/
END:VEVENT
BEGIN:VEVENT
DTSTART;TZID=America/Los_Angeles:20260701T100000
DTEND;TZID=America/Los_Angeles:20260701T113000
DTSTAMP:20260423T093200
CREATED:20240501T164820Z
LAST-MODIFIED:20251010T013604Z
UID:25724-1782900000-1782905400@www.chehalislutheran.org
SUMMARY:Adult Bible Study
DESCRIPTION:
URL:https://www.chehalislutheran.org/event/adult-bible-study-2/2026-07-01/
END:VEVENT
BEGIN:VEVENT
DTSTART;TZID=America/Los_Angeles:20260708T100000
DTEND;TZID=America/Los_Angeles:20260708T113000
DTSTAMP:20260423T093200
CREATED:20240501T164820Z
LAST-MODIFIED:20251010T013604Z
UID:25736-1783504800-1783510200@www.chehalislutheran.org
SUMMARY:Adult Bible Study
DESCRIPTION:
URL:https://www.chehalislutheran.org/event/adult-bible-study-2/2026-07-08/
END:VEVENT
BEGIN:VEVENT
DTSTART;TZID=America/Los_Angeles:20260715T100000
DTEND;TZID=America/Los_Angeles:20260715T113000
DTSTAMP:20260423T093200
CREATED:20240501T164820Z
LAST-MODIFIED:20251010T013604Z
UID:25749-1784109600-1784115000@www.chehalislutheran.org
SUMMARY:Adult Bible Study
DESCRIPTION:
URL:https://www.chehalislutheran.org/event/adult-bible-study-2/2026-07-15/
END:VEVENT
BEGIN:VEVENT
DTSTART;TZID=America/Los_Angeles:20260722T100000
DTEND;TZID=America/Los_Angeles:20260722T113000
DTSTAMP:20260423T093200
CREATED:20240501T164820Z
LAST-MODIFIED:20251010T013604Z
UID:25753-1784714400-1784719800@www.chehalislutheran.org
SUMMARY:Adult Bible Study
DESCRIPTION:
URL:https://www.chehalislutheran.org/event/adult-bible-study-2/2026-07-22/
END:VEVENT
BEGIN:VEVENT
DTSTART;TZID=America/Los_Angeles:20260729T100000
DTEND;TZID=America/Los_Angeles:20260729T113000
DTSTAMP:20260423T093200
CREATED:20240501T164820Z
LAST-MODIFIED:20251010T013605Z
UID:25765-1785319200-1785324600@www.chehalislutheran.org
SUMMARY:Adult Bible Study
DESCRIPTION:
URL:https://www.chehalislutheran.org/event/adult-bible-study-2/2026-07-29/
END:VEVENT
BEGIN:VEVENT
DTSTART;TZID=America/Los_Angeles:20260805T100000
DTEND;TZID=America/Los_Angeles:20260805T113000
DTSTAMP:20260423T093200
CREATED:20240501T164820Z
LAST-MODIFIED:20251010T013605Z
UID:25770-1785924000-1785929400@www.chehalislutheran.org
SUMMARY:Adult Bible Study
DESCRIPTION:
URL:https://www.chehalislutheran.org/event/adult-bible-study-2/2026-08-05/
END:VEVENT
BEGIN:VEVENT
DTSTART;TZID=America/Los_Angeles:20260812T100000
DTEND;TZID=America/Los_Angeles:20260812T113000
DTSTAMP:20260423T093200
CREATED:20240501T164820Z
LAST-MODIFIED:20251010T013606Z
UID:25776-1786528800-1786534200@www.chehalislutheran.org
SUMMARY:Adult Bible Study
DESCRIPTION:
URL:https://www.chehalislutheran.org/event/adult-bible-study-2/2026-08-12/
END:VEVENT
BEGIN:VEVENT
DTSTART;TZID=America/Los_Angeles:20260819T100000
DTEND;TZID=America/Los_Angeles:20260819T113000
DTSTAMP:20260423T093200
CREATED:20240501T164820Z
LAST-MODIFIED:20251010T013606Z
UID:25796-1787133600-1787139000@www.chehalislutheran.org
SUMMARY:Adult Bible Study
DESCRIPTION:
URL:https://www.chehalislutheran.org/event/adult-bible-study-2/2026-08-19/
END:VEVENT
BEGIN:VEVENT
DTSTART;TZID=America/Los_Angeles:20260826T100000
DTEND;TZID=America/Los_Angeles:20260826T113000
DTSTAMP:20260423T093200
CREATED:20240501T164820Z
LAST-MODIFIED:20251010T013606Z
UID:25811-1787738400-1787743800@www.chehalislutheran.org
SUMMARY:Adult Bible Study
DESCRIPTION:
URL:https://www.chehalislutheran.org/event/adult-bible-study-2/2026-08-26/
END:VEVENT
BEGIN:VEVENT
DTSTART;TZID=America/Los_Angeles:20260902T100000
DTEND;TZID=America/Los_Angeles:20260902T113000
DTSTAMP:20260423T093200
CREATED:20240501T164820Z
LAST-MODIFIED:20251010T013607Z
UID:25904-1788343200-1788348600@www.chehalislutheran.org
SUMMARY:Adult Bible Study
DESCRIPTION:
URL:https://www.chehalislutheran.org/event/adult-bible-study-2/2026-09-02/
END:VEVENT
BEGIN:VEVENT
DTSTART;TZID=America/Los_Angeles:20260909T100000
DTEND;TZID=America/Los_Angeles:20260909T113000
DTSTAMP:20260423T093200
CREATED:20240501T164820Z
LAST-MODIFIED:20251010T013607Z
UID:25920-1788948000-1788953400@www.chehalislutheran.org
SUMMARY:Adult Bible Study
DESCRIPTION:
URL:https://www.chehalislutheran.org/event/adult-bible-study-2/2026-09-09/
END:VEVENT
BEGIN:VEVENT
DTSTART;TZID=America/Los_Angeles:20260916T100000
DTEND;TZID=America/Los_Angeles:20260916T113000
DTSTAMP:20260423T093200
CREATED:20240501T164820Z
LAST-MODIFIED:20251010T013607Z
UID:25933-1789552800-1789558200@www.chehalislutheran.org
SUMMARY:Adult Bible Study
DESCRIPTION:
URL:https://www.chehalislutheran.org/event/adult-bible-study-2/2026-09-16/
END:VEVENT
BEGIN:VEVENT
DTSTART;TZID=America/Los_Angeles:20260923T100000
DTEND;TZID=America/Los_Angeles:20260923T113000
DTSTAMP:20260423T093200
CREATED:20240501T164820Z
LAST-MODIFIED:20251010T013607Z
UID:25947-1790157600-1790163000@www.chehalislutheran.org
SUMMARY:Adult Bible Study
DESCRIPTION:
URL:https://www.chehalislutheran.org/event/adult-bible-study-2/2026-09-23/
END:VEVENT
BEGIN:VEVENT
DTSTART;TZID=America/Los_Angeles:20260930T100000
DTEND;TZID=America/Los_Angeles:20260930T113000
DTSTAMP:20260423T093200
CREATED:20240501T164820Z
LAST-MODIFIED:20251010T013607Z
UID:25962-1790762400-1790767800@www.chehalislutheran.org
SUMMARY:Adult Bible Study
DESCRIPTION:
URL:https://www.chehalislutheran.org/event/adult-bible-study-2/2026-09-30/
END:VEVENT
BEGIN:VEVENT
DTSTART;TZID=America/Los_Angeles:20261007T100000
DTEND;TZID=America/Los_Angeles:20261007T113000
DTSTAMP:20260423T093200
CREATED:20240501T164820Z
LAST-MODIFIED:20251010T013608Z
UID:25989-1791367200-1791372600@www.chehalislutheran.org
SUMMARY:Adult Bible Study
DESCRIPTION:
URL:https://www.chehalislutheran.org/event/adult-bible-study-2/2026-10-07/
END:VEVENT
BEGIN:VEVENT
DTSTART;TZID=America/Los_Angeles:20261014T100000
DTEND;TZID=America/Los_Angeles:20261014T113000
DTSTAMP:20260423T093200
CREATED:20240501T164820Z
LAST-MODIFIED:20251010T013608Z
UID:26000-1791972000-1791977400@www.chehalislutheran.org
SUMMARY:Adult Bible Study
DESCRIPTION:
URL:https://www.chehalislutheran.org/event/adult-bible-study-2/2026-10-14/
END:VEVENT
BEGIN:VEVENT
DTSTART;TZID=America/Los_Angeles:20261021T100000
DTEND;TZID=America/Los_Angeles:20261021T113000
DTSTAMP:20260423T093200
CREATED:20240501T164820Z
LAST-MODIFIED:20251010T013609Z
UID:26012-1792576800-1792582200@www.chehalislutheran.org
SUMMARY:Adult Bible Study
DESCRIPTION:
URL:https://www.chehalislutheran.org/event/adult-bible-study-2/2026-10-21/
END:VEVENT
BEGIN:VEVENT
DTSTART;TZID=America/Los_Angeles:20261028T100000
DTEND;TZID=America/Los_Angeles:20261028T113000
DTSTAMP:20260423T093200
CREATED:20240501T164820Z
LAST-MODIFIED:20251010T013609Z
UID:26025-1793181600-1793187000@www.chehalislutheran.org
SUMMARY:Adult Bible Study
DESCRIPTION:
URL:https://www.chehalislutheran.org/event/adult-bible-study-2/2026-10-28/
END:VEVENT
BEGIN:VEVENT
DTSTART;TZID=America/Los_Angeles:20261104T100000
DTEND;TZID=America/Los_Angeles:20261104T113000
DTSTAMP:20260423T093200
CREATED:20240501T164820Z
LAST-MODIFIED:20251010T013610Z
UID:26056-1793786400-1793791800@www.chehalislutheran.org
SUMMARY:Adult Bible Study
DESCRIPTION:
URL:https://www.chehalislutheran.org/event/adult-bible-study-2/2026-11-04/
END:VEVENT
BEGIN:VEVENT
DTSTART;TZID=America/Los_Angeles:20261111T100000
DTEND;TZID=America/Los_Angeles:20261111T113000
DTSTAMP:20260423T093200
CREATED:20240501T164820Z
LAST-MODIFIED:20251010T013610Z
UID:26073-1794391200-1794396600@www.chehalislutheran.org
SUMMARY:Adult Bible Study
DESCRIPTION:
URL:https://www.chehalislutheran.org/event/adult-bible-study-2/2026-11-11/
END:VEVENT
BEGIN:VEVENT
DTSTART;TZID=America/Los_Angeles:20261118T100000
DTEND;TZID=America/Los_Angeles:20261118T113000
DTSTAMP:20260423T093200
CREATED:20240501T164820Z
LAST-MODIFIED:20251010T013610Z
UID:26078-1794996000-1795001400@www.chehalislutheran.org
SUMMARY:Adult Bible Study
DESCRIPTION:
URL:https://www.chehalislutheran.org/event/adult-bible-study-2/2026-11-18/
END:VEVENT
END:VCALENDAR