BEGIN:VCALENDAR
VERSION:2.0
PRODID:-//Chehalis Lutheran - ECPv6.15.20//NONSGML v1.0//EN
CALSCALE:GREGORIAN
METHOD:PUBLISH
X-WR-CALNAME:Chehalis Lutheran
X-ORIGINAL-URL:https://www.chehalislutheran.org
X-WR-CALDESC:Events for Chehalis Lutheran
REFRESH-INTERVAL;VALUE=DURATION:PT1H
X-Robots-Tag:noindex
X-PUBLISHED-TTL:PT1H
BEGIN:VTIMEZONE
TZID:America/Los_Angeles
BEGIN:DAYLIGHT
TZOFFSETFROM:-0800
TZOFFSETTO:-0700
TZNAME:PDT
DTSTART:20250309T100000
END:DAYLIGHT
BEGIN:STANDARD
TZOFFSETFROM:-0700
TZOFFSETTO:-0800
TZNAME:PST
DTSTART:20251102T090000
END:STANDARD
BEGIN:DAYLIGHT
TZOFFSETFROM:-0800
TZOFFSETTO:-0700
TZNAME:PDT
DTSTART:20260308T100000
END:DAYLIGHT
BEGIN:STANDARD
TZOFFSETFROM:-0700
TZOFFSETTO:-0800
TZNAME:PST
DTSTART:20261101T090000
END:STANDARD
BEGIN:DAYLIGHT
TZOFFSETFROM:-0800
TZOFFSETTO:-0700
TZNAME:PDT
DTSTART:20270314T100000
END:DAYLIGHT
BEGIN:STANDARD
TZOFFSETFROM:-0700
TZOFFSETTO:-0800
TZNAME:PST
DTSTART:20271107T090000
END:STANDARD
END:VTIMEZONE
BEGIN:VEVENT
DTSTART;TZID=America/Los_Angeles:20260426T090000
DTEND;TZID=America/Los_Angeles:20260426T103000
DTSTAMP:20260423T105236
CREATED:20240102T191451Z
LAST-MODIFIED:20240102T191451Z
UID:25164-1777194000-1777199400@www.chehalislutheran.org
SUMMARY:Divine Service
DESCRIPTION:
URL:https://www.chehalislutheran.org/event/divine-service-2/2026-04-26/
END:VEVENT
BEGIN:VEVENT
DTSTART;TZID=America/Los_Angeles:20260503T090000
DTEND;TZID=America/Los_Angeles:20260503T103000
DTSTAMP:20260423T105236
CREATED:20240102T191451Z
LAST-MODIFIED:20240102T191451Z
UID:25576-1777798800-1777804200@www.chehalislutheran.org
SUMMARY:Divine Service
DESCRIPTION:
URL:https://www.chehalislutheran.org/event/divine-service-2/2026-05-03/
END:VEVENT
BEGIN:VEVENT
DTSTART;TZID=America/Los_Angeles:20260510T090000
DTEND;TZID=America/Los_Angeles:20260510T103000
DTSTAMP:20260423T105236
CREATED:20240102T191451Z
LAST-MODIFIED:20240102T191451Z
UID:25590-1778403600-1778409000@www.chehalislutheran.org
SUMMARY:Divine Service
DESCRIPTION:
URL:https://www.chehalislutheran.org/event/divine-service-2/2026-05-10/
END:VEVENT
BEGIN:VEVENT
DTSTART;TZID=America/Los_Angeles:20260517T090000
DTEND;TZID=America/Los_Angeles:20260517T103000
DTSTAMP:20260423T105236
CREATED:20240102T191451Z
LAST-MODIFIED:20240102T191451Z
UID:25604-1779008400-1779013800@www.chehalislutheran.org
SUMMARY:Divine Service
DESCRIPTION:
URL:https://www.chehalislutheran.org/event/divine-service-2/2026-05-17/
END:VEVENT
BEGIN:VEVENT
DTSTART;TZID=America/Los_Angeles:20260524T090000
DTEND;TZID=America/Los_Angeles:20260524T103000
DTSTAMP:20260423T105236
CREATED:20240102T191451Z
LAST-MODIFIED:20240102T191451Z
UID:25617-1779613200-1779618600@www.chehalislutheran.org
SUMMARY:Divine Service
DESCRIPTION:
URL:https://www.chehalislutheran.org/event/divine-service-2/2026-05-24/
END:VEVENT
BEGIN:VEVENT
DTSTART;TZID=America/Los_Angeles:20260531T090000
DTEND;TZID=America/Los_Angeles:20260531T103000
DTSTAMP:20260423T105236
CREATED:20240102T191451Z
LAST-MODIFIED:20240102T191451Z
UID:25635-1780218000-1780223400@www.chehalislutheran.org
SUMMARY:Divine Service
DESCRIPTION:
URL:https://www.chehalislutheran.org/event/divine-service-2/2026-05-31/
END:VEVENT
BEGIN:VEVENT
DTSTART;TZID=America/Los_Angeles:20260607T090000
DTEND;TZID=America/Los_Angeles:20260607T103000
DTSTAMP:20260423T105236
CREATED:20240102T191451Z
LAST-MODIFIED:20240102T191451Z
UID:25670-1780822800-1780828200@www.chehalislutheran.org
SUMMARY:Divine Service
DESCRIPTION:
URL:https://www.chehalislutheran.org/event/divine-service-2/2026-06-07/
END:VEVENT
BEGIN:VEVENT
DTSTART;TZID=America/Los_Angeles:20260614T090000
DTEND;TZID=America/Los_Angeles:20260614T103000
DTSTAMP:20260423T105236
CREATED:20240102T191451Z
LAST-MODIFIED:20240102T191451Z
UID:25683-1781427600-1781433000@www.chehalislutheran.org
SUMMARY:Divine Service
DESCRIPTION:
URL:https://www.chehalislutheran.org/event/divine-service-2/2026-06-14/
END:VEVENT
BEGIN:VEVENT
DTSTART;TZID=America/Los_Angeles:20260621T090000
DTEND;TZID=America/Los_Angeles:20260621T103000
DTSTAMP:20260423T105236
CREATED:20240102T191451Z
LAST-MODIFIED:20240102T191451Z
UID:25697-1782032400-1782037800@www.chehalislutheran.org
SUMMARY:Divine Service
DESCRIPTION:
URL:https://www.chehalislutheran.org/event/divine-service-2/2026-06-21/
END:VEVENT
BEGIN:VEVENT
DTSTART;TZID=America/Los_Angeles:20260628T090000
DTEND;TZID=America/Los_Angeles:20260628T103000
DTSTAMP:20260423T105236
CREATED:20240102T191451Z
LAST-MODIFIED:20240102T191451Z
UID:25711-1782637200-1782642600@www.chehalislutheran.org
SUMMARY:Divine Service
DESCRIPTION:
URL:https://www.chehalislutheran.org/event/divine-service-2/2026-06-28/
END:VEVENT
BEGIN:VEVENT
DTSTART;TZID=America/Los_Angeles:20260705T090000
DTEND;TZID=America/Los_Angeles:20260705T103000
DTSTAMP:20260423T105236
CREATED:20240102T191451Z
LAST-MODIFIED:20240102T191451Z
UID:25726-1783242000-1783247400@www.chehalislutheran.org
SUMMARY:Divine Service
DESCRIPTION:
URL:https://www.chehalislutheran.org/event/divine-service-2/2026-07-05/
END:VEVENT
BEGIN:VEVENT
DTSTART;TZID=America/Los_Angeles:20260712T090000
DTEND;TZID=America/Los_Angeles:20260712T103000
DTSTAMP:20260423T105236
CREATED:20240102T191451Z
LAST-MODIFIED:20240102T191451Z
UID:25737-1783846800-1783852200@www.chehalislutheran.org
SUMMARY:Divine Service
DESCRIPTION:
URL:https://www.chehalislutheran.org/event/divine-service-2/2026-07-12/
END:VEVENT
BEGIN:VEVENT
DTSTART;TZID=America/Los_Angeles:20260719T090000
DTEND;TZID=America/Los_Angeles:20260719T103000
DTSTAMP:20260423T105236
CREATED:20240102T191451Z
LAST-MODIFIED:20240102T191451Z
UID:25750-1784451600-1784457000@www.chehalislutheran.org
SUMMARY:Divine Service
DESCRIPTION:
URL:https://www.chehalislutheran.org/event/divine-service-2/2026-07-19/
END:VEVENT
BEGIN:VEVENT
DTSTART;TZID=America/Los_Angeles:20260726T090000
DTEND;TZID=America/Los_Angeles:20260726T103000
DTSTAMP:20260423T105236
CREATED:20240102T191451Z
LAST-MODIFIED:20240102T191451Z
UID:25754-1785056400-1785061800@www.chehalislutheran.org
SUMMARY:Divine Service
DESCRIPTION:
URL:https://www.chehalislutheran.org/event/divine-service-2/2026-07-26/
END:VEVENT
BEGIN:VEVENT
DTSTART;TZID=America/Los_Angeles:20260802T090000
DTEND;TZID=America/Los_Angeles:20260802T103000
DTSTAMP:20260423T105236
CREATED:20240102T191451Z
LAST-MODIFIED:20240102T191451Z
UID:25767-1785661200-1785666600@www.chehalislutheran.org
SUMMARY:Divine Service
DESCRIPTION:
URL:https://www.chehalislutheran.org/event/divine-service-2/2026-08-02/
END:VEVENT
BEGIN:VEVENT
DTSTART;TZID=America/Los_Angeles:20260809T090000
DTEND;TZID=America/Los_Angeles:20260809T103000
DTSTAMP:20260423T105236
CREATED:20240102T191451Z
LAST-MODIFIED:20240102T191451Z
UID:25771-1786266000-1786271400@www.chehalislutheran.org
SUMMARY:Divine Service
DESCRIPTION:
URL:https://www.chehalislutheran.org/event/divine-service-2/2026-08-09/
END:VEVENT
BEGIN:VEVENT
DTSTART;TZID=America/Los_Angeles:20260816T090000
DTEND;TZID=America/Los_Angeles:20260816T103000
DTSTAMP:20260423T105236
CREATED:20240102T191451Z
LAST-MODIFIED:20240102T191451Z
UID:25787-1786870800-1786876200@www.chehalislutheran.org
SUMMARY:Divine Service
DESCRIPTION:
URL:https://www.chehalislutheran.org/event/divine-service-2/2026-08-16/
END:VEVENT
BEGIN:VEVENT
DTSTART;TZID=America/Los_Angeles:20260823T090000
DTEND;TZID=America/Los_Angeles:20260823T103000
DTSTAMP:20260423T105236
CREATED:20240102T191451Z
LAST-MODIFIED:20240102T191451Z
UID:25797-1787475600-1787481000@www.chehalislutheran.org
SUMMARY:Divine Service
DESCRIPTION:
URL:https://www.chehalislutheran.org/event/divine-service-2/2026-08-23/
END:VEVENT
BEGIN:VEVENT
DTSTART;TZID=America/Los_Angeles:20260830T090000
DTEND;TZID=America/Los_Angeles:20260830T103000
DTSTAMP:20260423T105236
CREATED:20240102T191451Z
LAST-MODIFIED:20240102T191451Z
UID:25893-1788080400-1788085800@www.chehalislutheran.org
SUMMARY:Divine Service
DESCRIPTION:
URL:https://www.chehalislutheran.org/event/divine-service-2/2026-08-30/
END:VEVENT
BEGIN:VEVENT
DTSTART;TZID=America/Los_Angeles:20260906T090000
DTEND;TZID=America/Los_Angeles:20260906T103000
DTSTAMP:20260423T105236
CREATED:20240102T191451Z
LAST-MODIFIED:20240102T191451Z
UID:25906-1788685200-1788690600@www.chehalislutheran.org
SUMMARY:Divine Service
DESCRIPTION:
URL:https://www.chehalislutheran.org/event/divine-service-2/2026-09-06/
END:VEVENT
BEGIN:VEVENT
DTSTART;TZID=America/Los_Angeles:20260913T090000
DTEND;TZID=America/Los_Angeles:20260913T103000
DTSTAMP:20260423T105236
CREATED:20240102T191451Z
LAST-MODIFIED:20240102T191451Z
UID:25921-1789290000-1789295400@www.chehalislutheran.org
SUMMARY:Divine Service
DESCRIPTION:
URL:https://www.chehalislutheran.org/event/divine-service-2/2026-09-13/
END:VEVENT
BEGIN:VEVENT
DTSTART;TZID=America/Los_Angeles:20260920T090000
DTEND;TZID=America/Los_Angeles:20260920T103000
DTSTAMP:20260423T105236
CREATED:20240102T191451Z
LAST-MODIFIED:20240102T191451Z
UID:25934-1789894800-1789900200@www.chehalislutheran.org
SUMMARY:Divine Service
DESCRIPTION:
URL:https://www.chehalislutheran.org/event/divine-service-2/2026-09-20/
END:VEVENT
BEGIN:VEVENT
DTSTART;TZID=America/Los_Angeles:20260927T090000
DTEND;TZID=America/Los_Angeles:20260927T103000
DTSTAMP:20260423T105236
CREATED:20240102T191451Z
LAST-MODIFIED:20240102T191451Z
UID:25952-1790499600-1790505000@www.chehalislutheran.org
SUMMARY:Divine Service
DESCRIPTION:
URL:https://www.chehalislutheran.org/event/divine-service-2/2026-09-27/
END:VEVENT
BEGIN:VEVENT
DTSTART;TZID=America/Los_Angeles:20261004T090000
DTEND;TZID=America/Los_Angeles:20261004T103000
DTSTAMP:20260423T105236
CREATED:20240102T191451Z
LAST-MODIFIED:20240102T191451Z
UID:25978-1791104400-1791109800@www.chehalislutheran.org
SUMMARY:Divine Service
DESCRIPTION:
URL:https://www.chehalislutheran.org/event/divine-service-2/2026-10-04/
END:VEVENT
BEGIN:VEVENT
DTSTART;TZID=America/Los_Angeles:20261011T090000
DTEND;TZID=America/Los_Angeles:20261011T103000
DTSTAMP:20260423T105236
CREATED:20240102T191451Z
LAST-MODIFIED:20240102T191451Z
UID:25994-1791709200-1791714600@www.chehalislutheran.org
SUMMARY:Divine Service
DESCRIPTION:
URL:https://www.chehalislutheran.org/event/divine-service-2/2026-10-11/
END:VEVENT
BEGIN:VEVENT
DTSTART;TZID=America/Los_Angeles:20261018T090000
DTEND;TZID=America/Los_Angeles:20261018T103000
DTSTAMP:20260423T105236
CREATED:20240102T191451Z
LAST-MODIFIED:20240102T191451Z
UID:26001-1792314000-1792319400@www.chehalislutheran.org
SUMMARY:Divine Service
DESCRIPTION:
URL:https://www.chehalislutheran.org/event/divine-service-2/2026-10-18/
END:VEVENT
BEGIN:VEVENT
DTSTART;TZID=America/Los_Angeles:20261025T090000
DTEND;TZID=America/Los_Angeles:20261025T103000
DTSTAMP:20260423T105236
CREATED:20240102T191451Z
LAST-MODIFIED:20240102T191451Z
UID:26013-1792918800-1792924200@www.chehalislutheran.org
SUMMARY:Divine Service
DESCRIPTION:
URL:https://www.chehalislutheran.org/event/divine-service-2/2026-10-25/
END:VEVENT
BEGIN:VEVENT
DTSTART;TZID=America/Los_Angeles:20261101T090000
DTEND;TZID=America/Los_Angeles:20261101T103000
DTSTAMP:20260423T105236
CREATED:20240102T191451Z
LAST-MODIFIED:20240102T191451Z
UID:26052-1793523600-1793529000@www.chehalislutheran.org
SUMMARY:Divine Service
DESCRIPTION:
URL:https://www.chehalislutheran.org/event/divine-service-2/2026-11-01/
END:VEVENT
BEGIN:VEVENT
DTSTART;TZID=America/Los_Angeles:20261108T090000
DTEND;TZID=America/Los_Angeles:20261108T103000
DTSTAMP:20260423T105236
CREATED:20240102T191451Z
LAST-MODIFIED:20240102T191451Z
UID:26057-1794128400-1794133800@www.chehalislutheran.org
SUMMARY:Divine Service
DESCRIPTION:
URL:https://www.chehalislutheran.org/event/divine-service-2/2026-11-08/
END:VEVENT
BEGIN:VEVENT
DTSTART;TZID=America/Los_Angeles:20261115T090000
DTEND;TZID=America/Los_Angeles:20261115T103000
DTSTAMP:20260423T105236
CREATED:20240102T191451Z
LAST-MODIFIED:20240102T191451Z
UID:26074-1794733200-1794738600@www.chehalislutheran.org
SUMMARY:Divine Service
DESCRIPTION:
URL:https://www.chehalislutheran.org/event/divine-service-2/2026-11-15/
END:VEVENT
END:VCALENDAR