BEGIN:VCALENDAR
VERSION:2.0
PRODID:-//Chehalis Lutheran - ECPv6.15.20//NONSGML v1.0//EN
CALSCALE:GREGORIAN
METHOD:PUBLISH
X-ORIGINAL-URL:https://www.chehalislutheran.org
X-WR-CALDESC:Events for Chehalis Lutheran
REFRESH-INTERVAL;VALUE=DURATION:PT1H
X-Robots-Tag:noindex
X-PUBLISHED-TTL:PT1H
BEGIN:VTIMEZONE
TZID:America/Los_Angeles
BEGIN:DAYLIGHT
TZOFFSETFROM:-0800
TZOFFSETTO:-0700
TZNAME:PDT
DTSTART:20240310T100000
END:DAYLIGHT
BEGIN:STANDARD
TZOFFSETFROM:-0700
TZOFFSETTO:-0800
TZNAME:PST
DTSTART:20241103T090000
END:STANDARD
BEGIN:DAYLIGHT
TZOFFSETFROM:-0800
TZOFFSETTO:-0700
TZNAME:PDT
DTSTART:20250309T100000
END:DAYLIGHT
BEGIN:STANDARD
TZOFFSETFROM:-0700
TZOFFSETTO:-0800
TZNAME:PST
DTSTART:20251102T090000
END:STANDARD
BEGIN:DAYLIGHT
TZOFFSETFROM:-0800
TZOFFSETTO:-0700
TZNAME:PDT
DTSTART:20260308T100000
END:DAYLIGHT
BEGIN:STANDARD
TZOFFSETFROM:-0700
TZOFFSETTO:-0800
TZNAME:PST
DTSTART:20261101T090000
END:STANDARD
BEGIN:DAYLIGHT
TZOFFSETFROM:-0800
TZOFFSETTO:-0700
TZNAME:PDT
DTSTART:20270314T100000
END:DAYLIGHT
BEGIN:STANDARD
TZOFFSETFROM:-0700
TZOFFSETTO:-0800
TZNAME:PST
DTSTART:20271107T090000
END:STANDARD
END:VTIMEZONE
BEGIN:VEVENT
DTSTART;TZID=America/Los_Angeles:20260419T090000
DTEND;TZID=America/Los_Angeles:20260419T103000
DTSTAMP:20260423T111448
CREATED:20250326T173256Z
LAST-MODIFIED:20250326T173256Z
UID:26731-1776589200-1776594600@www.chehalislutheran.org
SUMMARY:Divine Service
DESCRIPTION:
URL:https://www.chehalislutheran.org/event/divine-service-4/2026-04-19/
END:VEVENT
BEGIN:VEVENT
DTSTART;TZID=America/Los_Angeles:20260412T090000
DTEND;TZID=America/Los_Angeles:20260412T103000
DTSTAMP:20260423T111448
CREATED:20250326T173256Z
LAST-MODIFIED:20250326T173256Z
UID:26730-1775984400-1775989800@www.chehalislutheran.org
SUMMARY:Divine Service
DESCRIPTION:
URL:https://www.chehalislutheran.org/event/divine-service-4/2026-04-12/
END:VEVENT
BEGIN:VEVENT
DTSTART;TZID=America/Los_Angeles:20260405T090000
DTEND;TZID=America/Los_Angeles:20260405T103000
DTSTAMP:20260423T111448
CREATED:20250326T173256Z
LAST-MODIFIED:20250326T173256Z
UID:26729-1775379600-1775385000@www.chehalislutheran.org
SUMMARY:Divine Service
DESCRIPTION:
URL:https://www.chehalislutheran.org/event/divine-service-4/2026-04-05/
END:VEVENT
BEGIN:VEVENT
DTSTART;TZID=America/Los_Angeles:20260329T090000
DTEND;TZID=America/Los_Angeles:20260329T103000
DTSTAMP:20260423T111448
CREATED:20250326T173256Z
LAST-MODIFIED:20250326T173256Z
UID:26728-1774774800-1774780200@www.chehalislutheran.org
SUMMARY:Divine Service
DESCRIPTION:
URL:https://www.chehalislutheran.org/event/divine-service-4/2026-03-29/
END:VEVENT
BEGIN:VEVENT
DTSTART;TZID=America/Los_Angeles:20260322T090000
DTEND;TZID=America/Los_Angeles:20260322T103000
DTSTAMP:20260423T111448
CREATED:20250326T173256Z
LAST-MODIFIED:20250326T173256Z
UID:26727-1774170000-1774175400@www.chehalislutheran.org
SUMMARY:Divine Service
DESCRIPTION:
URL:https://www.chehalislutheran.org/event/divine-service-4/2026-03-22/
END:VEVENT
BEGIN:VEVENT
DTSTART;TZID=America/Los_Angeles:20260315T090000
DTEND;TZID=America/Los_Angeles:20260315T103000
DTSTAMP:20260423T111448
CREATED:20250326T173256Z
LAST-MODIFIED:20250326T173256Z
UID:26726-1773565200-1773570600@www.chehalislutheran.org
SUMMARY:Divine Service
DESCRIPTION:
URL:https://www.chehalislutheran.org/event/divine-service-4/2026-03-15/
END:VEVENT
BEGIN:VEVENT
DTSTART;TZID=America/Los_Angeles:20260308T090000
DTEND;TZID=America/Los_Angeles:20260308T103000
DTSTAMP:20260423T111448
CREATED:20250326T173256Z
LAST-MODIFIED:20250326T173256Z
UID:26725-1772960400-1772965800@www.chehalislutheran.org
SUMMARY:Divine Service
DESCRIPTION:
URL:https://www.chehalislutheran.org/event/divine-service-4/2026-03-08/
END:VEVENT
BEGIN:VEVENT
DTSTART;TZID=America/Los_Angeles:20260301T090000
DTEND;TZID=America/Los_Angeles:20260301T103000
DTSTAMP:20260423T111448
CREATED:20250326T173256Z
LAST-MODIFIED:20250326T173256Z
UID:26724-1772355600-1772361000@www.chehalislutheran.org
SUMMARY:Divine Service
DESCRIPTION:
URL:https://www.chehalislutheran.org/event/divine-service-4/2026-03-01/
END:VEVENT
BEGIN:VEVENT
DTSTART;TZID=America/Los_Angeles:20260222T090000
DTEND;TZID=America/Los_Angeles:20260222T103000
DTSTAMP:20260423T111448
CREATED:20250326T173256Z
LAST-MODIFIED:20250326T173256Z
UID:26723-1771750800-1771756200@www.chehalislutheran.org
SUMMARY:Divine Service
DESCRIPTION:
URL:https://www.chehalislutheran.org/event/divine-service-4/2026-02-22/
END:VEVENT
BEGIN:VEVENT
DTSTART;TZID=America/Los_Angeles:20260215T090000
DTEND;TZID=America/Los_Angeles:20260215T103000
DTSTAMP:20260423T111448
CREATED:20250326T173256Z
LAST-MODIFIED:20250326T173256Z
UID:26722-1771146000-1771151400@www.chehalislutheran.org
SUMMARY:Divine Service
DESCRIPTION:
URL:https://www.chehalislutheran.org/event/divine-service-4/2026-02-15/
END:VEVENT
BEGIN:VEVENT
DTSTART;TZID=America/Los_Angeles:20260208T090000
DTEND;TZID=America/Los_Angeles:20260208T103000
DTSTAMP:20260423T111448
CREATED:20250326T173256Z
LAST-MODIFIED:20250326T173256Z
UID:26721-1770541200-1770546600@www.chehalislutheran.org
SUMMARY:Divine Service
DESCRIPTION:
URL:https://www.chehalislutheran.org/event/divine-service-4/2026-02-08/
END:VEVENT
BEGIN:VEVENT
DTSTART;TZID=America/Los_Angeles:20260201T090000
DTEND;TZID=America/Los_Angeles:20260201T103000
DTSTAMP:20260423T111448
CREATED:20250326T173256Z
LAST-MODIFIED:20250326T173256Z
UID:26720-1769936400-1769941800@www.chehalislutheran.org
SUMMARY:Divine Service
DESCRIPTION:
URL:https://www.chehalislutheran.org/event/divine-service-4/2026-02-01/
END:VEVENT
BEGIN:VEVENT
DTSTART;TZID=America/Los_Angeles:20260125T090000
DTEND;TZID=America/Los_Angeles:20260125T103000
DTSTAMP:20260423T111448
CREATED:20250326T173256Z
LAST-MODIFIED:20250326T173256Z
UID:26719-1769331600-1769337000@www.chehalislutheran.org
SUMMARY:Divine Service
DESCRIPTION:
URL:https://www.chehalislutheran.org/event/divine-service-4/2026-01-25/
END:VEVENT
BEGIN:VEVENT
DTSTART;TZID=America/Los_Angeles:20260118T090000
DTEND;TZID=America/Los_Angeles:20260118T103000
DTSTAMP:20260423T111448
CREATED:20250326T173256Z
LAST-MODIFIED:20250326T173256Z
UID:26718-1768726800-1768732200@www.chehalislutheran.org
SUMMARY:Divine Service
DESCRIPTION:
URL:https://www.chehalislutheran.org/event/divine-service-4/2026-01-18/
END:VEVENT
BEGIN:VEVENT
DTSTART;TZID=America/Los_Angeles:20260111T090000
DTEND;TZID=America/Los_Angeles:20260111T103000
DTSTAMP:20260423T111448
CREATED:20250326T173256Z
LAST-MODIFIED:20250326T173256Z
UID:26717-1768122000-1768127400@www.chehalislutheran.org
SUMMARY:Divine Service
DESCRIPTION:
URL:https://www.chehalislutheran.org/event/divine-service-4/2026-01-11/
END:VEVENT
BEGIN:VEVENT
DTSTART;TZID=America/Los_Angeles:20251228T090000
DTEND;TZID=America/Los_Angeles:20251228T103000
DTSTAMP:20260423T111448
CREATED:20250326T173256Z
LAST-MODIFIED:20250326T173256Z
UID:26715-1766912400-1766917800@www.chehalislutheran.org
SUMMARY:Divine Service
DESCRIPTION:
URL:https://www.chehalislutheran.org/event/divine-service-4/2025-12-28/
END:VEVENT
BEGIN:VEVENT
DTSTART;TZID=America/Los_Angeles:20251221T090000
DTEND;TZID=America/Los_Angeles:20251221T103000
DTSTAMP:20260423T111448
CREATED:20250326T173256Z
LAST-MODIFIED:20250326T173256Z
UID:26714-1766307600-1766313000@www.chehalislutheran.org
SUMMARY:Divine Service
DESCRIPTION:
URL:https://www.chehalislutheran.org/event/divine-service-4/2025-12-21/
END:VEVENT
BEGIN:VEVENT
DTSTART;TZID=America/Los_Angeles:20251214T090000
DTEND;TZID=America/Los_Angeles:20251214T103000
DTSTAMP:20260423T111448
CREATED:20250326T173256Z
LAST-MODIFIED:20250326T173256Z
UID:26713-1765702800-1765708200@www.chehalislutheran.org
SUMMARY:Divine Service
DESCRIPTION:
URL:https://www.chehalislutheran.org/event/divine-service-4/2025-12-14/
END:VEVENT
BEGIN:VEVENT
DTSTART;TZID=America/Los_Angeles:20251207T090000
DTEND;TZID=America/Los_Angeles:20251207T103000
DTSTAMP:20260423T111448
CREATED:20250326T173256Z
LAST-MODIFIED:20250326T173256Z
UID:26712-1765098000-1765103400@www.chehalislutheran.org
SUMMARY:Divine Service
DESCRIPTION:
URL:https://www.chehalislutheran.org/event/divine-service-4/2025-12-07/
END:VEVENT
BEGIN:VEVENT
DTSTART;TZID=America/Los_Angeles:20251130T090000
DTEND;TZID=America/Los_Angeles:20251130T103000
DTSTAMP:20260423T111448
CREATED:20250326T173256Z
LAST-MODIFIED:20250326T173256Z
UID:26711-1764493200-1764498600@www.chehalislutheran.org
SUMMARY:Divine Service
DESCRIPTION:
URL:https://www.chehalislutheran.org/event/divine-service-4/2025-11-30/
END:VEVENT
BEGIN:VEVENT
DTSTART;TZID=America/Los_Angeles:20251123T090000
DTEND;TZID=America/Los_Angeles:20251123T103000
DTSTAMP:20260423T111448
CREATED:20250326T173256Z
LAST-MODIFIED:20250326T173256Z
UID:26710-1763888400-1763893800@www.chehalislutheran.org
SUMMARY:Divine Service
DESCRIPTION:
URL:https://www.chehalislutheran.org/event/divine-service-4/2025-11-23/
END:VEVENT
BEGIN:VEVENT
DTSTART;TZID=America/Los_Angeles:20251116T090000
DTEND;TZID=America/Los_Angeles:20251116T103000
DTSTAMP:20260423T111448
CREATED:20250326T173256Z
LAST-MODIFIED:20250326T173256Z
UID:26709-1763283600-1763289000@www.chehalislutheran.org
SUMMARY:Divine Service
DESCRIPTION:
URL:https://www.chehalislutheran.org/event/divine-service-4/2025-11-16/
END:VEVENT
BEGIN:VEVENT
DTSTART;TZID=America/Los_Angeles:20251109T090000
DTEND;TZID=America/Los_Angeles:20251109T103000
DTSTAMP:20260423T111448
CREATED:20250326T173256Z
LAST-MODIFIED:20250326T173256Z
UID:26708-1762678800-1762684200@www.chehalislutheran.org
SUMMARY:Divine Service
DESCRIPTION:
URL:https://www.chehalislutheran.org/event/divine-service-4/2025-11-09/
END:VEVENT
BEGIN:VEVENT
DTSTART;TZID=America/Los_Angeles:20251102T090000
DTEND;TZID=America/Los_Angeles:20251102T103000
DTSTAMP:20260423T111448
CREATED:20250326T173256Z
LAST-MODIFIED:20250326T173256Z
UID:26707-1762074000-1762079400@www.chehalislutheran.org
SUMMARY:Divine Service
DESCRIPTION:
URL:https://www.chehalislutheran.org/event/divine-service-4/2025-11-02/
END:VEVENT
BEGIN:VEVENT
DTSTART;TZID=America/Los_Angeles:20251026T090000
DTEND;TZID=America/Los_Angeles:20251026T103000
DTSTAMP:20260423T111448
CREATED:20250326T173256Z
LAST-MODIFIED:20250326T173256Z
UID:26706-1761469200-1761474600@www.chehalislutheran.org
SUMMARY:Divine Service
DESCRIPTION:
URL:https://www.chehalislutheran.org/event/divine-service-4/2025-10-26/
END:VEVENT
BEGIN:VEVENT
DTSTART;TZID=America/Los_Angeles:20251019T090000
DTEND;TZID=America/Los_Angeles:20251019T103000
DTSTAMP:20260423T111448
CREATED:20250326T173256Z
LAST-MODIFIED:20250326T173256Z
UID:26705-1760864400-1760869800@www.chehalislutheran.org
SUMMARY:Divine Service
DESCRIPTION:
URL:https://www.chehalislutheran.org/event/divine-service-4/2025-10-19/
END:VEVENT
BEGIN:VEVENT
DTSTART;TZID=America/Los_Angeles:20251012T090000
DTEND;TZID=America/Los_Angeles:20251012T103000
DTSTAMP:20260423T111448
CREATED:20250326T173256Z
LAST-MODIFIED:20250326T173256Z
UID:26704-1760259600-1760265000@www.chehalislutheran.org
SUMMARY:Divine Service
DESCRIPTION:
URL:https://www.chehalislutheran.org/event/divine-service-4/2025-10-12/
END:VEVENT
BEGIN:VEVENT
DTSTART;TZID=America/Los_Angeles:20251005T090000
DTEND;TZID=America/Los_Angeles:20251005T103000
DTSTAMP:20260423T111448
CREATED:20250326T173256Z
LAST-MODIFIED:20250326T173256Z
UID:26703-1759654800-1759660200@www.chehalislutheran.org
SUMMARY:Divine Service
DESCRIPTION:
URL:https://www.chehalislutheran.org/event/divine-service-4/2025-10-05/
END:VEVENT
BEGIN:VEVENT
DTSTART;TZID=America/Los_Angeles:20250928T090000
DTEND;TZID=America/Los_Angeles:20250928T103000
DTSTAMP:20260423T111448
CREATED:20250326T173256Z
LAST-MODIFIED:20250326T173256Z
UID:26702-1759050000-1759055400@www.chehalislutheran.org
SUMMARY:Divine Service
DESCRIPTION:
URL:https://www.chehalislutheran.org/event/divine-service-4/2025-09-28/
END:VEVENT
BEGIN:VEVENT
DTSTART;TZID=America/Los_Angeles:20250921T090000
DTEND;TZID=America/Los_Angeles:20250921T103000
DTSTAMP:20260423T111448
CREATED:20250326T173256Z
LAST-MODIFIED:20250326T173256Z
UID:26701-1758445200-1758450600@www.chehalislutheran.org
SUMMARY:Divine Service
DESCRIPTION:
URL:https://www.chehalislutheran.org/event/divine-service-4/2025-09-21/
END:VEVENT
END:VCALENDAR