BEGIN:VCALENDAR
VERSION:2.0
PRODID:-//Chehalis Lutheran - ECPv6.15.20//NONSGML v1.0//EN
CALSCALE:GREGORIAN
METHOD:PUBLISH
X-WR-CALNAME:Chehalis Lutheran
X-ORIGINAL-URL:https://www.chehalislutheran.org
X-WR-CALDESC:Events for Chehalis Lutheran
REFRESH-INTERVAL;VALUE=DURATION:PT1H
X-Robots-Tag:noindex
X-PUBLISHED-TTL:PT1H
BEGIN:VTIMEZONE
TZID:America/Los_Angeles
BEGIN:DAYLIGHT
TZOFFSETFROM:-0800
TZOFFSETTO:-0700
TZNAME:PDT
DTSTART:20230312T100000
END:DAYLIGHT
BEGIN:STANDARD
TZOFFSETFROM:-0700
TZOFFSETTO:-0800
TZNAME:PST
DTSTART:20231105T090000
END:STANDARD
BEGIN:DAYLIGHT
TZOFFSETFROM:-0800
TZOFFSETTO:-0700
TZNAME:PDT
DTSTART:20240310T100000
END:DAYLIGHT
BEGIN:STANDARD
TZOFFSETFROM:-0700
TZOFFSETTO:-0800
TZNAME:PST
DTSTART:20241103T090000
END:STANDARD
BEGIN:DAYLIGHT
TZOFFSETFROM:-0800
TZOFFSETTO:-0700
TZNAME:PDT
DTSTART:20250309T100000
END:DAYLIGHT
BEGIN:STANDARD
TZOFFSETFROM:-0700
TZOFFSETTO:-0800
TZNAME:PST
DTSTART:20251102T090000
END:STANDARD
END:VTIMEZONE
BEGIN:VEVENT
DTSTART;TZID=America/Los_Angeles:20240610T183000
DTEND;TZID=America/Los_Angeles:20240610T193000
DTSTAMP:20260423T153512
CREATED:20240501T163831Z
LAST-MODIFIED:20240501T163831Z
UID:25213-1718044200-1718047800@www.chehalislutheran.org
SUMMARY:Jr Catechesis
DESCRIPTION:
URL:https://www.chehalislutheran.org/event/jr-catechesis-11/2024-06-10/
END:VEVENT
BEGIN:VEVENT
DTSTART;TZID=America/Los_Angeles:20240603T183000
DTEND;TZID=America/Los_Angeles:20240603T193000
DTSTAMP:20260423T153512
CREATED:20240501T163831Z
LAST-MODIFIED:20240501T163831Z
UID:25212-1717439400-1717443000@www.chehalislutheran.org
SUMMARY:Jr Catechesis
DESCRIPTION:
URL:https://www.chehalislutheran.org/event/jr-catechesis-11/2024-06-03/
END:VEVENT
BEGIN:VEVENT
DTSTART;TZID=America/Los_Angeles:20240520T183000
DTEND;TZID=America/Los_Angeles:20240520T193000
DTSTAMP:20260423T153512
CREATED:20240501T163831Z
LAST-MODIFIED:20240501T163831Z
UID:25210-1716229800-1716233400@www.chehalislutheran.org
SUMMARY:Jr Catechesis
DESCRIPTION:
URL:https://www.chehalislutheran.org/event/jr-catechesis-11/2024-05-20/
END:VEVENT
BEGIN:VEVENT
DTSTART;TZID=America/Los_Angeles:20240513T183000
DTEND;TZID=America/Los_Angeles:20240513T193000
DTSTAMP:20260423T153512
CREATED:20240501T163831Z
LAST-MODIFIED:20240501T164010Z
UID:25208-1715625000-1715628600@www.chehalislutheran.org
SUMMARY:Jr Catechesis
DESCRIPTION:
URL:https://www.chehalislutheran.org/event/jr-catechesis-11/2024-05-13/
END:VEVENT
END:VCALENDAR