BEGIN:VCALENDAR
VERSION:2.0
PRODID:-//Chehalis Lutheran - ECPv6.15.20//NONSGML v1.0//EN
CALSCALE:GREGORIAN
METHOD:PUBLISH
X-ORIGINAL-URL:https://www.chehalislutheran.org
X-WR-CALDESC:Events for Chehalis Lutheran
REFRESH-INTERVAL;VALUE=DURATION:PT1H
X-Robots-Tag:noindex
X-PUBLISHED-TTL:PT1H
BEGIN:VTIMEZONE
TZID:America/Los_Angeles
BEGIN:DAYLIGHT
TZOFFSETFROM:-0800
TZOFFSETTO:-0700
TZNAME:PDT
DTSTART:20250309T100000
END:DAYLIGHT
BEGIN:STANDARD
TZOFFSETFROM:-0700
TZOFFSETTO:-0800
TZNAME:PST
DTSTART:20251102T090000
END:STANDARD
BEGIN:DAYLIGHT
TZOFFSETFROM:-0800
TZOFFSETTO:-0700
TZNAME:PDT
DTSTART:20260308T100000
END:DAYLIGHT
BEGIN:STANDARD
TZOFFSETFROM:-0700
TZOFFSETTO:-0800
TZNAME:PST
DTSTART:20261101T090000
END:STANDARD
BEGIN:DAYLIGHT
TZOFFSETFROM:-0800
TZOFFSETTO:-0700
TZNAME:PDT
DTSTART:20270314T100000
END:DAYLIGHT
BEGIN:STANDARD
TZOFFSETFROM:-0700
TZOFFSETTO:-0800
TZNAME:PST
DTSTART:20271107T090000
END:STANDARD
BEGIN:DAYLIGHT
TZOFFSETFROM:-0800
TZOFFSETTO:-0700
TZNAME:PDT
DTSTART:20280312T100000
END:DAYLIGHT
BEGIN:STANDARD
TZOFFSETFROM:-0700
TZOFFSETTO:-0800
TZNAME:PST
DTSTART:20281105T090000
END:STANDARD
BEGIN:DAYLIGHT
TZOFFSETFROM:-0800
TZOFFSETTO:-0700
TZNAME:PDT
DTSTART:20290311T100000
END:DAYLIGHT
BEGIN:STANDARD
TZOFFSETFROM:-0700
TZOFFSETTO:-0800
TZNAME:PST
DTSTART:20291104T090000
END:STANDARD
END:VTIMEZONE
BEGIN:VEVENT
DTSTART;TZID=America/Los_Angeles:20260512T183000
DTEND;TZID=America/Los_Angeles:20260512T200000
DTSTAMP:20260423T092345
CREATED:20240501T164138Z
LAST-MODIFIED:20240501T164138Z
UID:25600-1778610600-1778616000@www.chehalislutheran.org
SUMMARY:Lutheran Confession Study @ Olympia
DESCRIPTION:
URL:https://www.chehalislutheran.org/event/lutheran-confession-study-olympia-10/2026-05-12/
END:VEVENT
BEGIN:VEVENT
DTSTART;TZID=America/Los_Angeles:20260609T183000
DTEND;TZID=America/Los_Angeles:20260609T200000
DTSTAMP:20260423T092345
CREATED:20240501T164138Z
LAST-MODIFIED:20240501T164138Z
UID:25680-1781029800-1781035200@www.chehalislutheran.org
SUMMARY:Lutheran Confession Study @ Olympia
DESCRIPTION:
URL:https://www.chehalislutheran.org/event/lutheran-confession-study-olympia-10/2026-06-09/
END:VEVENT
BEGIN:VEVENT
DTSTART;TZID=America/Los_Angeles:20260714T183000
DTEND;TZID=America/Los_Angeles:20260714T200000
DTSTAMP:20260423T092345
CREATED:20240501T164138Z
LAST-MODIFIED:20240501T164138Z
UID:25747-1784053800-1784059200@www.chehalislutheran.org
SUMMARY:Lutheran Confession Study @ Olympia
DESCRIPTION:
URL:https://www.chehalislutheran.org/event/lutheran-confession-study-olympia-10/2026-07-14/
END:VEVENT
BEGIN:VEVENT
DTSTART;TZID=America/Los_Angeles:20260811T183000
DTEND;TZID=America/Los_Angeles:20260811T200000
DTSTAMP:20260423T092345
CREATED:20240501T164138Z
LAST-MODIFIED:20240501T164138Z
UID:25774-1786473000-1786478400@www.chehalislutheran.org
SUMMARY:Lutheran Confession Study @ Olympia
DESCRIPTION:
URL:https://www.chehalislutheran.org/event/lutheran-confession-study-olympia-10/2026-08-11/
END:VEVENT
BEGIN:VEVENT
DTSTART;TZID=America/Los_Angeles:20260908T183000
DTEND;TZID=America/Los_Angeles:20260908T200000
DTSTAMP:20260423T092345
CREATED:20240501T164138Z
LAST-MODIFIED:20240501T164138Z
UID:25918-1788892200-1788897600@www.chehalislutheran.org
SUMMARY:Lutheran Confession Study @ Olympia
DESCRIPTION:
URL:https://www.chehalislutheran.org/event/lutheran-confession-study-olympia-10/2026-09-08/
END:VEVENT
BEGIN:VEVENT
DTSTART;TZID=America/Los_Angeles:20261013T183000
DTEND;TZID=America/Los_Angeles:20261013T200000
DTSTAMP:20260423T092345
CREATED:20240501T164138Z
LAST-MODIFIED:20240501T164138Z
UID:25998-1791916200-1791921600@www.chehalislutheran.org
SUMMARY:Lutheran Confession Study @ Olympia
DESCRIPTION:
URL:https://www.chehalislutheran.org/event/lutheran-confession-study-olympia-10/2026-10-13/
END:VEVENT
BEGIN:VEVENT
DTSTART;TZID=America/Los_Angeles:20261110T183000
DTEND;TZID=America/Los_Angeles:20261110T200000
DTSTAMP:20260423T092345
CREATED:20240501T164138Z
LAST-MODIFIED:20240501T164138Z
UID:26061-1794335400-1794340800@www.chehalislutheran.org
SUMMARY:Lutheran Confession Study @ Olympia
DESCRIPTION:
URL:https://www.chehalislutheran.org/event/lutheran-confession-study-olympia-10/2026-11-10/
END:VEVENT
BEGIN:VEVENT
DTSTART;TZID=America/Los_Angeles:20261208T183000
DTEND;TZID=America/Los_Angeles:20261208T200000
DTSTAMP:20260423T092345
CREATED:20240501T164138Z
LAST-MODIFIED:20240501T164138Z
UID:26111-1796754600-1796760000@www.chehalislutheran.org
SUMMARY:Lutheran Confession Study @ Olympia
DESCRIPTION:
URL:https://www.chehalislutheran.org/event/lutheran-confession-study-olympia-10/2026-12-08/
END:VEVENT
BEGIN:VEVENT
DTSTART;TZID=America/Los_Angeles:20270112T183000
DTEND;TZID=America/Los_Angeles:20270112T200000
DTSTAMP:20260423T092345
CREATED:20240501T164138Z
LAST-MODIFIED:20240501T164138Z
UID:26224-1799778600-1799784000@www.chehalislutheran.org
SUMMARY:Lutheran Confession Study @ Olympia
DESCRIPTION:
URL:https://www.chehalislutheran.org/event/lutheran-confession-study-olympia-10/2027-01-12/
END:VEVENT
BEGIN:VEVENT
DTSTART;TZID=America/Los_Angeles:20270209T183000
DTEND;TZID=America/Los_Angeles:20270209T200000
DTSTAMP:20260423T092345
CREATED:20240501T164138Z
LAST-MODIFIED:20240501T164138Z
UID:26310-1802197800-1802203200@www.chehalislutheran.org
SUMMARY:Lutheran Confession Study @ Olympia
DESCRIPTION:
URL:https://www.chehalislutheran.org/event/lutheran-confession-study-olympia-10/2027-02-09/
END:VEVENT
BEGIN:VEVENT
DTSTART;TZID=America/Los_Angeles:20270309T183000
DTEND;TZID=America/Los_Angeles:20270309T200000
DTSTAMP:20260423T092345
CREATED:20240501T164138Z
LAST-MODIFIED:20240501T164138Z
UID:26403-1804617000-1804622400@www.chehalislutheran.org
SUMMARY:Lutheran Confession Study @ Olympia
DESCRIPTION:
URL:https://www.chehalislutheran.org/event/lutheran-confession-study-olympia-10/2027-03-09/
END:VEVENT
BEGIN:VEVENT
DTSTART;TZID=America/Los_Angeles:20270413T183000
DTEND;TZID=America/Los_Angeles:20270413T200000
DTSTAMP:20260423T092345
CREATED:20240501T164138Z
LAST-MODIFIED:20240501T164138Z
UID:26818-1807641000-1807646400@www.chehalislutheran.org
SUMMARY:Lutheran Confession Study @ Olympia
DESCRIPTION:
URL:https://www.chehalislutheran.org/event/lutheran-confession-study-olympia-10/2027-04-13/
END:VEVENT
BEGIN:VEVENT
DTSTART;TZID=America/Los_Angeles:20270511T183000
DTEND;TZID=America/Los_Angeles:20270511T200000
DTSTAMP:20260423T092345
CREATED:20240501T164138Z
LAST-MODIFIED:20240501T164138Z
UID:26907-1810060200-1810065600@www.chehalislutheran.org
SUMMARY:Lutheran Confession Study @ Olympia
DESCRIPTION:
URL:https://www.chehalislutheran.org/event/lutheran-confession-study-olympia-10/2027-05-11/
END:VEVENT
BEGIN:VEVENT
DTSTART;TZID=America/Los_Angeles:20270608T183000
DTEND;TZID=America/Los_Angeles:20270608T200000
DTSTAMP:20260423T092345
CREATED:20240501T164138Z
LAST-MODIFIED:20240501T164138Z
UID:26969-1812479400-1812484800@www.chehalislutheran.org
SUMMARY:Lutheran Confession Study @ Olympia
DESCRIPTION:
URL:https://www.chehalislutheran.org/event/lutheran-confession-study-olympia-10/2027-06-08/
END:VEVENT
BEGIN:VEVENT
DTSTART;TZID=America/Los_Angeles:20270713T183000
DTEND;TZID=America/Los_Angeles:20270713T200000
DTSTAMP:20260423T092345
CREATED:20240501T164138Z
LAST-MODIFIED:20240501T164138Z
UID:27034-1815503400-1815508800@www.chehalislutheran.org
SUMMARY:Lutheran Confession Study @ Olympia
DESCRIPTION:
URL:https://www.chehalislutheran.org/event/lutheran-confession-study-olympia-10/2027-07-13/
END:VEVENT
BEGIN:VEVENT
DTSTART;TZID=America/Los_Angeles:20270810T183000
DTEND;TZID=America/Los_Angeles:20270810T200000
DTSTAMP:20260423T092345
CREATED:20240501T164138Z
LAST-MODIFIED:20240501T164138Z
UID:27094-1817922600-1817928000@www.chehalislutheran.org
SUMMARY:Lutheran Confession Study @ Olympia
DESCRIPTION:
URL:https://www.chehalislutheran.org/event/lutheran-confession-study-olympia-10/2027-08-10/
END:VEVENT
BEGIN:VEVENT
DTSTART;TZID=America/Los_Angeles:20270914T183000
DTEND;TZID=America/Los_Angeles:20270914T200000
DTSTAMP:20260423T092345
CREATED:20240501T164138Z
LAST-MODIFIED:20240501T164138Z
UID:27148-1820946600-1820952000@www.chehalislutheran.org
SUMMARY:Lutheran Confession Study @ Olympia
DESCRIPTION:
URL:https://www.chehalislutheran.org/event/lutheran-confession-study-olympia-10/2027-09-14/
END:VEVENT
BEGIN:VEVENT
DTSTART;TZID=America/Los_Angeles:20271012T183000
DTEND;TZID=America/Los_Angeles:20271012T200000
DTSTAMP:20260423T092345
CREATED:20240501T164138Z
LAST-MODIFIED:20240501T164138Z
UID:27384-1823365800-1823371200@www.chehalislutheran.org
SUMMARY:Lutheran Confession Study @ Olympia
DESCRIPTION:
URL:https://www.chehalislutheran.org/event/lutheran-confession-study-olympia-10/2027-10-12/
END:VEVENT
BEGIN:VEVENT
DTSTART;TZID=America/Los_Angeles:20271109T183000
DTEND;TZID=America/Los_Angeles:20271109T200000
DTSTAMP:20260423T092345
CREATED:20240501T164138Z
LAST-MODIFIED:20240501T164138Z
UID:27440-1825785000-1825790400@www.chehalislutheran.org
SUMMARY:Lutheran Confession Study @ Olympia
DESCRIPTION:
URL:https://www.chehalislutheran.org/event/lutheran-confession-study-olympia-10/2027-11-09/
END:VEVENT
BEGIN:VEVENT
DTSTART;TZID=America/Los_Angeles:20271214T183000
DTEND;TZID=America/Los_Angeles:20271214T200000
DTSTAMP:20260423T092345
CREATED:20240501T164138Z
LAST-MODIFIED:20240501T164138Z
UID:27501-1828809000-1828814400@www.chehalislutheran.org
SUMMARY:Lutheran Confession Study @ Olympia
DESCRIPTION:
URL:https://www.chehalislutheran.org/event/lutheran-confession-study-olympia-10/2027-12-14/
END:VEVENT
BEGIN:VEVENT
DTSTART;TZID=America/Los_Angeles:20280111T183000
DTEND;TZID=America/Los_Angeles:20280111T200000
DTSTAMP:20260423T092345
CREATED:20240501T164138Z
LAST-MODIFIED:20240501T164138Z
UID:27550-1831228200-1831233600@www.chehalislutheran.org
SUMMARY:Lutheran Confession Study @ Olympia
DESCRIPTION:
URL:https://www.chehalislutheran.org/event/lutheran-confession-study-olympia-10/2028-01-11/
END:VEVENT
BEGIN:VEVENT
DTSTART;TZID=America/Los_Angeles:20280208T183000
DTEND;TZID=America/Los_Angeles:20280208T200000
DTSTAMP:20260423T092345
CREATED:20240501T164138Z
LAST-MODIFIED:20240501T164138Z
UID:27668-1833647400-1833652800@www.chehalislutheran.org
SUMMARY:Lutheran Confession Study @ Olympia
DESCRIPTION:
URL:https://www.chehalislutheran.org/event/lutheran-confession-study-olympia-10/2028-02-08/
END:VEVENT
BEGIN:VEVENT
DTSTART;TZID=America/Los_Angeles:20280314T183000
DTEND;TZID=America/Los_Angeles:20280314T200000
DTSTAMP:20260423T092345
CREATED:20240501T164138Z
LAST-MODIFIED:20240501T164138Z
UID:27731-1836671400-1836676800@www.chehalislutheran.org
SUMMARY:Lutheran Confession Study @ Olympia
DESCRIPTION:
URL:https://www.chehalislutheran.org/event/lutheran-confession-study-olympia-10/2028-03-14/
END:VEVENT
BEGIN:VEVENT
DTSTART;TZID=America/Los_Angeles:20280411T183000
DTEND;TZID=America/Los_Angeles:20280411T200000
DTSTAMP:20260423T092345
CREATED:20240501T164138Z
LAST-MODIFIED:20240501T164138Z
UID:27785-1839090600-1839096000@www.chehalislutheran.org
SUMMARY:Lutheran Confession Study @ Olympia
DESCRIPTION:
URL:https://www.chehalislutheran.org/event/lutheran-confession-study-olympia-10/2028-04-11/
END:VEVENT
END:VCALENDAR