BEGIN:VCALENDAR
VERSION:2.0
PRODID:-//Chehalis Lutheran - ECPv6.15.20//NONSGML v1.0//EN
CALSCALE:GREGORIAN
METHOD:PUBLISH
X-ORIGINAL-URL:https://www.chehalislutheran.org
X-WR-CALDESC:Events for Chehalis Lutheran
REFRESH-INTERVAL;VALUE=DURATION:PT1H
X-Robots-Tag:noindex
X-PUBLISHED-TTL:PT1H
BEGIN:VTIMEZONE
TZID:America/Los_Angeles
BEGIN:DAYLIGHT
TZOFFSETFROM:-0800
TZOFFSETTO:-0700
TZNAME:PDT
DTSTART:20220313T100000
END:DAYLIGHT
BEGIN:STANDARD
TZOFFSETFROM:-0700
TZOFFSETTO:-0800
TZNAME:PST
DTSTART:20221106T090000
END:STANDARD
BEGIN:DAYLIGHT
TZOFFSETFROM:-0800
TZOFFSETTO:-0700
TZNAME:PDT
DTSTART:20230312T100000
END:DAYLIGHT
BEGIN:STANDARD
TZOFFSETFROM:-0700
TZOFFSETTO:-0800
TZNAME:PST
DTSTART:20231105T090000
END:STANDARD
BEGIN:DAYLIGHT
TZOFFSETFROM:-0800
TZOFFSETTO:-0700
TZNAME:PDT
DTSTART:20240310T100000
END:DAYLIGHT
BEGIN:STANDARD
TZOFFSETFROM:-0700
TZOFFSETTO:-0800
TZNAME:PST
DTSTART:20241103T090000
END:STANDARD
BEGIN:DAYLIGHT
TZOFFSETFROM:-0800
TZOFFSETTO:-0700
TZNAME:PDT
DTSTART:20250309T100000
END:DAYLIGHT
BEGIN:STANDARD
TZOFFSETFROM:-0700
TZOFFSETTO:-0800
TZNAME:PST
DTSTART:20251102T090000
END:STANDARD
BEGIN:DAYLIGHT
TZOFFSETFROM:-0800
TZOFFSETTO:-0700
TZNAME:PDT
DTSTART:20260308T100000
END:DAYLIGHT
BEGIN:STANDARD
TZOFFSETFROM:-0700
TZOFFSETTO:-0800
TZNAME:PST
DTSTART:20261101T090000
END:STANDARD
BEGIN:DAYLIGHT
TZOFFSETFROM:-0800
TZOFFSETTO:-0700
TZNAME:PDT
DTSTART:20270314T100000
END:DAYLIGHT
BEGIN:STANDARD
TZOFFSETFROM:-0700
TZOFFSETTO:-0800
TZNAME:PST
DTSTART:20271107T090000
END:STANDARD
END:VTIMEZONE
BEGIN:VEVENT
DTSTART;TZID=America/Los_Angeles:20260324T183000
DTEND;TZID=America/Los_Angeles:20260324T193000
DTSTAMP:20260423T111448
CREATED:20230927T181001Z
LAST-MODIFIED:20230927T181001Z
UID:25005-1774377000-1774380600@www.chehalislutheran.org
SUMMARY:Lutheran Confession Study @ Peace
DESCRIPTION:
URL:https://www.chehalislutheran.org/event/lutheran-confession-study-peace-5/2026-03-24/
END:VEVENT
BEGIN:VEVENT
DTSTART;TZID=America/Los_Angeles:20260224T183000
DTEND;TZID=America/Los_Angeles:20260224T193000
DTSTAMP:20260423T111448
CREATED:20230927T181001Z
LAST-MODIFIED:20230927T181001Z
UID:24880-1771957800-1771961400@www.chehalislutheran.org
SUMMARY:Lutheran Confession Study @ Peace
DESCRIPTION:
URL:https://www.chehalislutheran.org/event/lutheran-confession-study-peace-5/2026-02-24/
END:VEVENT
BEGIN:VEVENT
DTSTART;TZID=America/Los_Angeles:20260127T183000
DTEND;TZID=America/Los_Angeles:20260127T193000
DTSTAMP:20260423T111448
CREATED:20230927T181001Z
LAST-MODIFIED:20230927T181001Z
UID:24727-1769538600-1769542200@www.chehalislutheran.org
SUMMARY:Lutheran Confession Study @ Peace
DESCRIPTION:
URL:https://www.chehalislutheran.org/event/lutheran-confession-study-peace-5/2026-01-27/
END:VEVENT
BEGIN:VEVENT
DTSTART;TZID=America/Los_Angeles:20251223T183000
DTEND;TZID=America/Los_Angeles:20251223T193000
DTSTAMP:20260423T111448
CREATED:20230927T181001Z
LAST-MODIFIED:20230927T181001Z
UID:24495-1766514600-1766518200@www.chehalislutheran.org
SUMMARY:Lutheran Confession Study @ Peace
DESCRIPTION:
URL:https://www.chehalislutheran.org/event/lutheran-confession-study-peace-5/2025-12-23/
END:VEVENT
BEGIN:VEVENT
DTSTART;TZID=America/Los_Angeles:20251125T183000
DTEND;TZID=America/Los_Angeles:20251125T193000
DTSTAMP:20260423T111448
CREATED:20230927T181001Z
LAST-MODIFIED:20230927T181001Z
UID:24027-1764095400-1764099000@www.chehalislutheran.org
SUMMARY:Lutheran Confession Study @ Peace
DESCRIPTION:
URL:https://www.chehalislutheran.org/event/lutheran-confession-study-peace-5/2025-11-25/
END:VEVENT
BEGIN:VEVENT
DTSTART;TZID=America/Los_Angeles:20251028T183000
DTEND;TZID=America/Los_Angeles:20251028T193000
DTSTAMP:20260423T111448
CREATED:20230927T181001Z
LAST-MODIFIED:20230927T181001Z
UID:23979-1761676200-1761679800@www.chehalislutheran.org
SUMMARY:Lutheran Confession Study @ Peace
DESCRIPTION:
URL:https://www.chehalislutheran.org/event/lutheran-confession-study-peace-5/2025-10-28/
END:VEVENT
BEGIN:VEVENT
DTSTART;TZID=America/Los_Angeles:20250923T183000
DTEND;TZID=America/Los_Angeles:20250923T193000
DTSTAMP:20260423T111448
CREATED:20230927T181001Z
LAST-MODIFIED:20230927T181001Z
UID:23704-1758652200-1758655800@www.chehalislutheran.org
SUMMARY:Lutheran Confession Study @ Peace
DESCRIPTION:
URL:https://www.chehalislutheran.org/event/lutheran-confession-study-peace-5/2025-09-23/
END:VEVENT
BEGIN:VEVENT
DTSTART;TZID=America/Los_Angeles:20250826T183000
DTEND;TZID=America/Los_Angeles:20250826T193000
DTSTAMP:20260423T111448
CREATED:20230927T181001Z
LAST-MODIFIED:20230927T181001Z
UID:23703-1756233000-1756236600@www.chehalislutheran.org
SUMMARY:Lutheran Confession Study @ Peace
DESCRIPTION:
URL:https://www.chehalislutheran.org/event/lutheran-confession-study-peace-5/2025-08-26/
END:VEVENT
BEGIN:VEVENT
DTSTART;TZID=America/Los_Angeles:20250722T183000
DTEND;TZID=America/Los_Angeles:20250722T193000
DTSTAMP:20260423T111448
CREATED:20230927T181001Z
LAST-MODIFIED:20230927T181001Z
UID:23702-1753209000-1753212600@www.chehalislutheran.org
SUMMARY:Lutheran Confession Study @ Peace
DESCRIPTION:
URL:https://www.chehalislutheran.org/event/lutheran-confession-study-peace-5/2025-07-22/
END:VEVENT
BEGIN:VEVENT
DTSTART;TZID=America/Los_Angeles:20250624T183000
DTEND;TZID=America/Los_Angeles:20250624T193000
DTSTAMP:20260423T111448
CREATED:20230927T181001Z
LAST-MODIFIED:20230927T181001Z
UID:23701-1750789800-1750793400@www.chehalislutheran.org
SUMMARY:Lutheran Confession Study @ Peace
DESCRIPTION:
URL:https://www.chehalislutheran.org/event/lutheran-confession-study-peace-5/2025-06-24/
END:VEVENT
BEGIN:VEVENT
DTSTART;TZID=America/Los_Angeles:20250527T183000
DTEND;TZID=America/Los_Angeles:20250527T193000
DTSTAMP:20260423T111448
CREATED:20230927T181001Z
LAST-MODIFIED:20230927T181001Z
UID:23700-1748370600-1748374200@www.chehalislutheran.org
SUMMARY:Lutheran Confession Study @ Peace
DESCRIPTION:
URL:https://www.chehalislutheran.org/event/lutheran-confession-study-peace-5/2025-05-27/
END:VEVENT
BEGIN:VEVENT
DTSTART;TZID=America/Los_Angeles:20250422T183000
DTEND;TZID=America/Los_Angeles:20250422T193000
DTSTAMP:20260423T111448
CREATED:20230927T181001Z
LAST-MODIFIED:20230927T181001Z
UID:23699-1745346600-1745350200@www.chehalislutheran.org
SUMMARY:Lutheran Confession Study @ Peace
DESCRIPTION:
URL:https://www.chehalislutheran.org/event/lutheran-confession-study-peace-5/2025-04-22/
END:VEVENT
BEGIN:VEVENT
DTSTART;TZID=America/Los_Angeles:20250325T183000
DTEND;TZID=America/Los_Angeles:20250325T193000
DTSTAMP:20260423T111448
CREATED:20230927T181001Z
LAST-MODIFIED:20230927T181001Z
UID:23698-1742927400-1742931000@www.chehalislutheran.org
SUMMARY:Lutheran Confession Study @ Peace
DESCRIPTION:
URL:https://www.chehalislutheran.org/event/lutheran-confession-study-peace-5/2025-03-25/
END:VEVENT
BEGIN:VEVENT
DTSTART;TZID=America/Los_Angeles:20250225T183000
DTEND;TZID=America/Los_Angeles:20250225T193000
DTSTAMP:20260423T111448
CREATED:20230927T181001Z
LAST-MODIFIED:20230927T181001Z
UID:23697-1740508200-1740511800@www.chehalislutheran.org
SUMMARY:Lutheran Confession Study @ Peace
DESCRIPTION:
URL:https://www.chehalislutheran.org/event/lutheran-confession-study-peace-5/2025-02-25/
END:VEVENT
BEGIN:VEVENT
DTSTART;TZID=America/Los_Angeles:20250128T183000
DTEND;TZID=America/Los_Angeles:20250128T193000
DTSTAMP:20260423T111448
CREATED:20230927T181001Z
LAST-MODIFIED:20230927T181001Z
UID:23696-1738089000-1738092600@www.chehalislutheran.org
SUMMARY:Lutheran Confession Study @ Peace
DESCRIPTION:
URL:https://www.chehalislutheran.org/event/lutheran-confession-study-peace-5/2025-01-28/
END:VEVENT
BEGIN:VEVENT
DTSTART;TZID=America/Los_Angeles:20241126T183000
DTEND;TZID=America/Los_Angeles:20241126T193000
DTSTAMP:20260423T111448
CREATED:20230927T181001Z
LAST-MODIFIED:20230927T181001Z
UID:23694-1732645800-1732649400@www.chehalislutheran.org
SUMMARY:Lutheran Confession Study @ Peace
DESCRIPTION:
URL:https://www.chehalislutheran.org/event/lutheran-confession-study-peace-5/2024-11-26/
END:VEVENT
BEGIN:VEVENT
DTSTART;TZID=America/Los_Angeles:20241022T183000
DTEND;TZID=America/Los_Angeles:20241022T193000
DTSTAMP:20260423T111448
CREATED:20230927T181001Z
LAST-MODIFIED:20230927T181001Z
UID:23693-1729621800-1729625400@www.chehalislutheran.org
SUMMARY:Lutheran Confession Study @ Peace
DESCRIPTION:
URL:https://www.chehalislutheran.org/event/lutheran-confession-study-peace-5/2024-10-22/
END:VEVENT
BEGIN:VEVENT
DTSTART;TZID=America/Los_Angeles:20240924T183000
DTEND;TZID=America/Los_Angeles:20240924T193000
DTSTAMP:20260423T111448
CREATED:20230927T181001Z
LAST-MODIFIED:20230927T181001Z
UID:23692-1727202600-1727206200@www.chehalislutheran.org
SUMMARY:Lutheran Confession Study @ Peace
DESCRIPTION:
URL:https://www.chehalislutheran.org/event/lutheran-confession-study-peace-5/2024-09-24/
END:VEVENT
BEGIN:VEVENT
DTSTART;TZID=America/Los_Angeles:20240827T183000
DTEND;TZID=America/Los_Angeles:20240827T193000
DTSTAMP:20260423T111448
CREATED:20230927T181001Z
LAST-MODIFIED:20230927T181001Z
UID:23691-1724783400-1724787000@www.chehalislutheran.org
SUMMARY:Lutheran Confession Study @ Peace
DESCRIPTION:
URL:https://www.chehalislutheran.org/event/lutheran-confession-study-peace-5/2024-08-27/
END:VEVENT
BEGIN:VEVENT
DTSTART;TZID=America/Los_Angeles:20240723T183000
DTEND;TZID=America/Los_Angeles:20240723T193000
DTSTAMP:20260423T111448
CREATED:20230927T181001Z
LAST-MODIFIED:20230927T181001Z
UID:23690-1721759400-1721763000@www.chehalislutheran.org
SUMMARY:Lutheran Confession Study @ Peace
DESCRIPTION:
URL:https://www.chehalislutheran.org/event/lutheran-confession-study-peace-5/2024-07-23/
END:VEVENT
BEGIN:VEVENT
DTSTART;TZID=America/Los_Angeles:20240625T183000
DTEND;TZID=America/Los_Angeles:20240625T193000
DTSTAMP:20260423T111448
CREATED:20230927T181001Z
LAST-MODIFIED:20230927T181001Z
UID:23689-1719340200-1719343800@www.chehalislutheran.org
SUMMARY:Lutheran Confession Study @ Peace
DESCRIPTION:
URL:https://www.chehalislutheran.org/event/lutheran-confession-study-peace-5/2024-06-25/
END:VEVENT
BEGIN:VEVENT
DTSTART;TZID=America/Los_Angeles:20240528T183000
DTEND;TZID=America/Los_Angeles:20240528T193000
DTSTAMP:20260423T111448
CREATED:20230927T181001Z
LAST-MODIFIED:20230927T181001Z
UID:23688-1716921000-1716924600@www.chehalislutheran.org
SUMMARY:Lutheran Confession Study @ Peace
DESCRIPTION:
URL:https://www.chehalislutheran.org/event/lutheran-confession-study-peace-5/2024-05-28/
END:VEVENT
BEGIN:VEVENT
DTSTART;TZID=America/Los_Angeles:20240423T183000
DTEND;TZID=America/Los_Angeles:20240423T193000
DTSTAMP:20260423T111448
CREATED:20230927T181001Z
LAST-MODIFIED:20230927T181001Z
UID:23687-1713897000-1713900600@www.chehalislutheran.org
SUMMARY:Lutheran Confession Study @ Peace
DESCRIPTION:
URL:https://www.chehalislutheran.org/event/lutheran-confession-study-peace-5/2024-04-23/
END:VEVENT
BEGIN:VEVENT
DTSTART;TZID=America/Los_Angeles:20231024T183000
DTEND;TZID=America/Los_Angeles:20231024T193000
DTSTAMP:20260423T111448
CREATED:20230927T181001Z
LAST-MODIFIED:20230927T181001Z
UID:23680-1698172200-1698175800@www.chehalislutheran.org
SUMMARY:Lutheran Confession Study @ Peace
DESCRIPTION:
URL:https://www.chehalislutheran.org/event/lutheran-confession-study-peace-5/2023-10-24/
END:VEVENT
END:VCALENDAR