BEGIN:VCALENDAR
VERSION:2.0
PRODID:-//Chehalis Lutheran - ECPv6.15.20//NONSGML v1.0//EN
CALSCALE:GREGORIAN
METHOD:PUBLISH
X-ORIGINAL-URL:https://www.chehalislutheran.org
X-WR-CALDESC:Events for Chehalis Lutheran
REFRESH-INTERVAL;VALUE=DURATION:PT1H
X-Robots-Tag:noindex
X-PUBLISHED-TTL:PT1H
BEGIN:VTIMEZONE
TZID:America/Los_Angeles
BEGIN:DAYLIGHT
TZOFFSETFROM:-0800
TZOFFSETTO:-0700
TZNAME:PDT
DTSTART:20250309T100000
END:DAYLIGHT
BEGIN:STANDARD
TZOFFSETFROM:-0700
TZOFFSETTO:-0800
TZNAME:PST
DTSTART:20251102T090000
END:STANDARD
BEGIN:DAYLIGHT
TZOFFSETFROM:-0800
TZOFFSETTO:-0700
TZNAME:PDT
DTSTART:20260308T100000
END:DAYLIGHT
BEGIN:STANDARD
TZOFFSETFROM:-0700
TZOFFSETTO:-0800
TZNAME:PST
DTSTART:20261101T090000
END:STANDARD
BEGIN:DAYLIGHT
TZOFFSETFROM:-0800
TZOFFSETTO:-0700
TZNAME:PDT
DTSTART:20270314T100000
END:DAYLIGHT
BEGIN:STANDARD
TZOFFSETFROM:-0700
TZOFFSETTO:-0800
TZNAME:PST
DTSTART:20271107T090000
END:STANDARD
BEGIN:DAYLIGHT
TZOFFSETFROM:-0800
TZOFFSETTO:-0700
TZNAME:PDT
DTSTART:20280312T100000
END:DAYLIGHT
BEGIN:STANDARD
TZOFFSETFROM:-0700
TZOFFSETTO:-0800
TZNAME:PST
DTSTART:20281105T090000
END:STANDARD
BEGIN:DAYLIGHT
TZOFFSETFROM:-0800
TZOFFSETTO:-0700
TZNAME:PDT
DTSTART:20290311T100000
END:DAYLIGHT
BEGIN:STANDARD
TZOFFSETFROM:-0700
TZOFFSETTO:-0800
TZNAME:PST
DTSTART:20291104T090000
END:STANDARD
END:VTIMEZONE
BEGIN:VEVENT
DTSTART;TZID=America/Los_Angeles:20260428T183000
DTEND;TZID=America/Los_Angeles:20260428T193000
DTSTAMP:20260423T093232
CREATED:20230927T181001Z
LAST-MODIFIED:20230927T181001Z
UID:25174-1777401000-1777404600@www.chehalislutheran.org
SUMMARY:Lutheran Confession Study @ Peace
DESCRIPTION:
URL:https://www.chehalislutheran.org/event/lutheran-confession-study-peace-5/2026-04-28/
END:VEVENT
BEGIN:VEVENT
DTSTART;TZID=America/Los_Angeles:20260526T183000
DTEND;TZID=America/Los_Angeles:20260526T193000
DTSTAMP:20260423T093232
CREATED:20230927T181001Z
LAST-MODIFIED:20230927T181001Z
UID:25627-1779820200-1779823800@www.chehalislutheran.org
SUMMARY:Lutheran Confession Study @ Peace
DESCRIPTION:
URL:https://www.chehalislutheran.org/event/lutheran-confession-study-peace-5/2026-05-26/
END:VEVENT
BEGIN:VEVENT
DTSTART;TZID=America/Los_Angeles:20260623T183000
DTEND;TZID=America/Los_Angeles:20260623T193000
DTSTAMP:20260423T093232
CREATED:20230927T181001Z
LAST-MODIFIED:20230927T181001Z
UID:25699-1782239400-1782243000@www.chehalislutheran.org
SUMMARY:Lutheran Confession Study @ Peace
DESCRIPTION:
URL:https://www.chehalislutheran.org/event/lutheran-confession-study-peace-5/2026-06-23/
END:VEVENT
BEGIN:VEVENT
DTSTART;TZID=America/Los_Angeles:20260728T183000
DTEND;TZID=America/Los_Angeles:20260728T193000
DTSTAMP:20260423T093232
CREATED:20230927T181001Z
LAST-MODIFIED:20230927T181001Z
UID:25756-1785263400-1785267000@www.chehalislutheran.org
SUMMARY:Lutheran Confession Study @ Peace
DESCRIPTION:
URL:https://www.chehalislutheran.org/event/lutheran-confession-study-peace-5/2026-07-28/
END:VEVENT
BEGIN:VEVENT
DTSTART;TZID=America/Los_Angeles:20260825T183000
DTEND;TZID=America/Los_Angeles:20260825T193000
DTSTAMP:20260423T093232
CREATED:20230927T181001Z
LAST-MODIFIED:20230927T181001Z
UID:25799-1787682600-1787686200@www.chehalislutheran.org
SUMMARY:Lutheran Confession Study @ Peace
DESCRIPTION:
URL:https://www.chehalislutheran.org/event/lutheran-confession-study-peace-5/2026-08-25/
END:VEVENT
BEGIN:VEVENT
DTSTART;TZID=America/Los_Angeles:20260922T183000
DTEND;TZID=America/Los_Angeles:20260922T193000
DTSTAMP:20260423T093232
CREATED:20230927T181001Z
LAST-MODIFIED:20230927T181001Z
UID:25937-1790101800-1790105400@www.chehalislutheran.org
SUMMARY:Lutheran Confession Study @ Peace
DESCRIPTION:
URL:https://www.chehalislutheran.org/event/lutheran-confession-study-peace-5/2026-09-22/
END:VEVENT
BEGIN:VEVENT
DTSTART;TZID=America/Los_Angeles:20261027T183000
DTEND;TZID=America/Los_Angeles:20261027T193000
DTSTAMP:20260423T093232
CREATED:20230927T181001Z
LAST-MODIFIED:20230927T181001Z
UID:26023-1793125800-1793129400@www.chehalislutheran.org
SUMMARY:Lutheran Confession Study @ Peace
DESCRIPTION:
URL:https://www.chehalislutheran.org/event/lutheran-confession-study-peace-5/2026-10-27/
END:VEVENT
BEGIN:VEVENT
DTSTART;TZID=America/Los_Angeles:20261124T183000
DTEND;TZID=America/Los_Angeles:20261124T193000
DTSTAMP:20260423T093232
CREATED:20230927T181001Z
LAST-MODIFIED:20230927T181001Z
UID:26089-1795545000-1795548600@www.chehalislutheran.org
SUMMARY:Lutheran Confession Study @ Peace
DESCRIPTION:
URL:https://www.chehalislutheran.org/event/lutheran-confession-study-peace-5/2026-11-24/
END:VEVENT
BEGIN:VEVENT
DTSTART;TZID=America/Los_Angeles:20261222T183000
DTEND;TZID=America/Los_Angeles:20261222T193000
DTSTAMP:20260423T093232
CREATED:20230927T181001Z
LAST-MODIFIED:20230927T181001Z
UID:26190-1797964200-1797967800@www.chehalislutheran.org
SUMMARY:Lutheran Confession Study @ Peace
DESCRIPTION:
URL:https://www.chehalislutheran.org/event/lutheran-confession-study-peace-5/2026-12-22/
END:VEVENT
BEGIN:VEVENT
DTSTART;TZID=America/Los_Angeles:20270126T183000
DTEND;TZID=America/Los_Angeles:20270126T193000
DTSTAMP:20260423T093232
CREATED:20230927T181001Z
LAST-MODIFIED:20230927T181001Z
UID:26254-1800988200-1800991800@www.chehalislutheran.org
SUMMARY:Lutheran Confession Study @ Peace
DESCRIPTION:
URL:https://www.chehalislutheran.org/event/lutheran-confession-study-peace-5/2027-01-26/
END:VEVENT
BEGIN:VEVENT
DTSTART;TZID=America/Los_Angeles:20270223T183000
DTEND;TZID=America/Los_Angeles:20270223T193000
DTSTAMP:20260423T093232
CREATED:20230927T181001Z
LAST-MODIFIED:20230927T181001Z
UID:26334-1803407400-1803411000@www.chehalislutheran.org
SUMMARY:Lutheran Confession Study @ Peace
DESCRIPTION:
URL:https://www.chehalislutheran.org/event/lutheran-confession-study-peace-5/2027-02-23/
END:VEVENT
BEGIN:VEVENT
DTSTART;TZID=America/Los_Angeles:20270323T183000
DTEND;TZID=America/Los_Angeles:20270323T193000
DTSTAMP:20260423T093232
CREATED:20230927T181001Z
LAST-MODIFIED:20230927T181001Z
UID:26422-1805826600-1805830200@www.chehalislutheran.org
SUMMARY:Lutheran Confession Study @ Peace
DESCRIPTION:
URL:https://www.chehalislutheran.org/event/lutheran-confession-study-peace-5/2027-03-23/
END:VEVENT
BEGIN:VEVENT
DTSTART;TZID=America/Los_Angeles:20270427T183000
DTEND;TZID=America/Los_Angeles:20270427T193000
DTSTAMP:20260423T093232
CREATED:20230927T181001Z
LAST-MODIFIED:20230927T181001Z
UID:26846-1808850600-1808854200@www.chehalislutheran.org
SUMMARY:Lutheran Confession Study @ Peace
DESCRIPTION:
URL:https://www.chehalislutheran.org/event/lutheran-confession-study-peace-5/2027-04-27/
END:VEVENT
BEGIN:VEVENT
DTSTART;TZID=America/Los_Angeles:20270525T183000
DTEND;TZID=America/Los_Angeles:20270525T193000
DTSTAMP:20260423T093232
CREATED:20230927T181001Z
LAST-MODIFIED:20230927T181001Z
UID:26933-1811269800-1811273400@www.chehalislutheran.org
SUMMARY:Lutheran Confession Study @ Peace
DESCRIPTION:
URL:https://www.chehalislutheran.org/event/lutheran-confession-study-peace-5/2027-05-25/
END:VEVENT
BEGIN:VEVENT
DTSTART;TZID=America/Los_Angeles:20270622T183000
DTEND;TZID=America/Los_Angeles:20270622T193000
DTSTAMP:20260423T093232
CREATED:20230927T181001Z
LAST-MODIFIED:20230927T181001Z
UID:27005-1813689000-1813692600@www.chehalislutheran.org
SUMMARY:Lutheran Confession Study @ Peace
DESCRIPTION:
URL:https://www.chehalislutheran.org/event/lutheran-confession-study-peace-5/2027-06-22/
END:VEVENT
BEGIN:VEVENT
DTSTART;TZID=America/Los_Angeles:20270727T183000
DTEND;TZID=America/Los_Angeles:20270727T193000
DTSTAMP:20260423T093232
CREATED:20230927T181001Z
LAST-MODIFIED:20230927T181001Z
UID:27079-1816713000-1816716600@www.chehalislutheran.org
SUMMARY:Lutheran Confession Study @ Peace
DESCRIPTION:
URL:https://www.chehalislutheran.org/event/lutheran-confession-study-peace-5/2027-07-27/
END:VEVENT
BEGIN:VEVENT
DTSTART;TZID=America/Los_Angeles:20270824T183000
DTEND;TZID=America/Los_Angeles:20270824T193000
DTSTAMP:20260423T093232
CREATED:20230927T181001Z
LAST-MODIFIED:20230927T181001Z
UID:27107-1819132200-1819135800@www.chehalislutheran.org
SUMMARY:Lutheran Confession Study @ Peace
DESCRIPTION:
URL:https://www.chehalislutheran.org/event/lutheran-confession-study-peace-5/2027-08-24/
END:VEVENT
BEGIN:VEVENT
DTSTART;TZID=America/Los_Angeles:20270928T183000
DTEND;TZID=America/Los_Angeles:20270928T193000
DTSTAMP:20260423T093232
CREATED:20230927T181001Z
LAST-MODIFIED:20230927T181001Z
UID:27174-1822156200-1822159800@www.chehalislutheran.org
SUMMARY:Lutheran Confession Study @ Peace
DESCRIPTION:
URL:https://www.chehalislutheran.org/event/lutheran-confession-study-peace-5/2027-09-28/
END:VEVENT
BEGIN:VEVENT
DTSTART;TZID=America/Los_Angeles:20271026T183000
DTEND;TZID=America/Los_Angeles:20271026T193000
DTSTAMP:20260423T093232
CREATED:20230927T181001Z
LAST-MODIFIED:20230927T181001Z
UID:27404-1824575400-1824579000@www.chehalislutheran.org
SUMMARY:Lutheran Confession Study @ Peace
DESCRIPTION:
URL:https://www.chehalislutheran.org/event/lutheran-confession-study-peace-5/2027-10-26/
END:VEVENT
BEGIN:VEVENT
DTSTART;TZID=America/Los_Angeles:20271123T183000
DTEND;TZID=America/Los_Angeles:20271123T193000
DTSTAMP:20260423T093232
CREATED:20230927T181001Z
LAST-MODIFIED:20230927T181001Z
UID:27460-1826994600-1826998200@www.chehalislutheran.org
SUMMARY:Lutheran Confession Study @ Peace
DESCRIPTION:
URL:https://www.chehalislutheran.org/event/lutheran-confession-study-peace-5/2027-11-23/
END:VEVENT
BEGIN:VEVENT
DTSTART;TZID=America/Los_Angeles:20271228T183000
DTEND;TZID=America/Los_Angeles:20271228T193000
DTSTAMP:20260423T093232
CREATED:20230927T181001Z
LAST-MODIFIED:20230927T181001Z
UID:27524-1830018600-1830022200@www.chehalislutheran.org
SUMMARY:Lutheran Confession Study @ Peace
DESCRIPTION:
URL:https://www.chehalislutheran.org/event/lutheran-confession-study-peace-5/2027-12-28/
END:VEVENT
BEGIN:VEVENT
DTSTART;TZID=America/Los_Angeles:20280125T183000
DTEND;TZID=America/Los_Angeles:20280125T193000
DTSTAMP:20260423T093232
CREATED:20230927T181001Z
LAST-MODIFIED:20230927T181001Z
UID:27578-1832437800-1832441400@www.chehalislutheran.org
SUMMARY:Lutheran Confession Study @ Peace
DESCRIPTION:
URL:https://www.chehalislutheran.org/event/lutheran-confession-study-peace-5/2028-01-25/
END:VEVENT
BEGIN:VEVENT
DTSTART;TZID=America/Los_Angeles:20280222T183000
DTEND;TZID=America/Los_Angeles:20280222T193000
DTSTAMP:20260423T093232
CREATED:20230927T181001Z
LAST-MODIFIED:20230927T181001Z
UID:27692-1834857000-1834860600@www.chehalislutheran.org
SUMMARY:Lutheran Confession Study @ Peace
DESCRIPTION:
URL:https://www.chehalislutheran.org/event/lutheran-confession-study-peace-5/2028-02-22/
END:VEVENT
BEGIN:VEVENT
DTSTART;TZID=America/Los_Angeles:20280328T183000
DTEND;TZID=America/Los_Angeles:20280328T193000
DTSTAMP:20260423T093232
CREATED:20230927T181001Z
LAST-MODIFIED:20230927T181001Z
UID:27765-1837881000-1837884600@www.chehalislutheran.org
SUMMARY:Lutheran Confession Study @ Peace
DESCRIPTION:
URL:https://www.chehalislutheran.org/event/lutheran-confession-study-peace-5/2028-03-28/
END:VEVENT
END:VCALENDAR