BEGIN:VCALENDAR
VERSION:2.0
PRODID:-//Chehalis Lutheran - ECPv6.15.20//NONSGML v1.0//EN
CALSCALE:GREGORIAN
METHOD:PUBLISH
X-WR-CALNAME:Chehalis Lutheran
X-ORIGINAL-URL:https://www.chehalislutheran.org
X-WR-CALDESC:Events for Chehalis Lutheran
REFRESH-INTERVAL;VALUE=DURATION:PT1H
X-Robots-Tag:noindex
X-PUBLISHED-TTL:PT1H
BEGIN:VTIMEZONE
TZID:America/Los_Angeles
BEGIN:DAYLIGHT
TZOFFSETFROM:-0800
TZOFFSETTO:-0700
TZNAME:PDT
DTSTART:20230312T100000
END:DAYLIGHT
BEGIN:STANDARD
TZOFFSETFROM:-0700
TZOFFSETTO:-0800
TZNAME:PST
DTSTART:20231105T090000
END:STANDARD
BEGIN:DAYLIGHT
TZOFFSETFROM:-0800
TZOFFSETTO:-0700
TZNAME:PDT
DTSTART:20240310T100000
END:DAYLIGHT
BEGIN:STANDARD
TZOFFSETFROM:-0700
TZOFFSETTO:-0800
TZNAME:PST
DTSTART:20241103T090000
END:STANDARD
BEGIN:DAYLIGHT
TZOFFSETFROM:-0800
TZOFFSETTO:-0700
TZNAME:PDT
DTSTART:20250309T100000
END:DAYLIGHT
BEGIN:STANDARD
TZOFFSETFROM:-0700
TZOFFSETTO:-0800
TZNAME:PST
DTSTART:20251102T090000
END:STANDARD
BEGIN:DAYLIGHT
TZOFFSETFROM:-0800
TZOFFSETTO:-0700
TZNAME:PDT
DTSTART:20260308T100000
END:DAYLIGHT
BEGIN:STANDARD
TZOFFSETFROM:-0700
TZOFFSETTO:-0800
TZNAME:PST
DTSTART:20261101T090000
END:STANDARD
BEGIN:DAYLIGHT
TZOFFSETFROM:-0800
TZOFFSETTO:-0700
TZNAME:PDT
DTSTART:20270314T100000
END:DAYLIGHT
BEGIN:STANDARD
TZOFFSETFROM:-0700
TZOFFSETTO:-0800
TZNAME:PST
DTSTART:20271107T090000
END:STANDARD
END:VTIMEZONE
BEGIN:VEVENT
DTSTART;TZID=America/Los_Angeles:20260405T083000
DTEND;TZID=America/Los_Angeles:20260405T090000
DTSTAMP:20260423T110340
CREATED:20240131T172345Z
LAST-MODIFIED:20240131T172345Z
UID:25031-1775377800-1775379600@www.chehalislutheran.org
SUMMARY:Matins
DESCRIPTION:
URL:https://www.chehalislutheran.org/event/matins-3/2026-04-05/
END:VEVENT
BEGIN:VEVENT
DTSTART;TZID=America/Los_Angeles:20260301T083000
DTEND;TZID=America/Los_Angeles:20260301T090000
DTSTAMP:20260423T110340
CREATED:20240131T172345Z
LAST-MODIFIED:20240131T172345Z
UID:24974-1772353800-1772355600@www.chehalislutheran.org
SUMMARY:Matins
DESCRIPTION:
URL:https://www.chehalislutheran.org/event/matins-3/2026-03-01/
END:VEVENT
BEGIN:VEVENT
DTSTART;TZID=America/Los_Angeles:20260201T083000
DTEND;TZID=America/Los_Angeles:20260201T090000
DTSTAMP:20260423T110340
CREATED:20240131T172345Z
LAST-MODIFIED:20240131T172345Z
UID:24850-1769934600-1769936400@www.chehalislutheran.org
SUMMARY:Matins
DESCRIPTION:
URL:https://www.chehalislutheran.org/event/matins-3/2026-02-01/
END:VEVENT
BEGIN:VEVENT
DTSTART;TZID=America/Los_Angeles:20260104T083000
DTEND;TZID=America/Los_Angeles:20260104T090000
DTSTAMP:20260423T110340
CREATED:20240131T172345Z
LAST-MODIFIED:20240131T172345Z
UID:24757-1767515400-1767517200@www.chehalislutheran.org
SUMMARY:Matins
DESCRIPTION:
URL:https://www.chehalislutheran.org/event/matins-3/2026-01-04/
END:VEVENT
BEGIN:VEVENT
DTSTART;TZID=America/Los_Angeles:20251207T083000
DTEND;TZID=America/Los_Angeles:20251207T090000
DTSTAMP:20260423T110340
CREATED:20240131T172345Z
LAST-MODIFIED:20240131T172345Z
UID:24756-1765096200-1765098000@www.chehalislutheran.org
SUMMARY:Matins
DESCRIPTION:
URL:https://www.chehalislutheran.org/event/matins-3/2025-12-07/
END:VEVENT
BEGIN:VEVENT
DTSTART;TZID=America/Los_Angeles:20251102T083000
DTEND;TZID=America/Los_Angeles:20251102T090000
DTSTAMP:20260423T110340
CREATED:20240131T172345Z
LAST-MODIFIED:20240131T172345Z
UID:24755-1762072200-1762074000@www.chehalislutheran.org
SUMMARY:Matins
DESCRIPTION:
URL:https://www.chehalislutheran.org/event/matins-3/2025-11-02/
END:VEVENT
BEGIN:VEVENT
DTSTART;TZID=America/Los_Angeles:20251005T083000
DTEND;TZID=America/Los_Angeles:20251005T090000
DTSTAMP:20260423T110340
CREATED:20240131T172345Z
LAST-MODIFIED:20240131T172345Z
UID:24754-1759653000-1759654800@www.chehalislutheran.org
SUMMARY:Matins
DESCRIPTION:
URL:https://www.chehalislutheran.org/event/matins-3/2025-10-05/
END:VEVENT
BEGIN:VEVENT
DTSTART;TZID=America/Los_Angeles:20250907T083000
DTEND;TZID=America/Los_Angeles:20250907T090000
DTSTAMP:20260423T110340
CREATED:20240131T172345Z
LAST-MODIFIED:20240131T172345Z
UID:24753-1757233800-1757235600@www.chehalislutheran.org
SUMMARY:Matins
DESCRIPTION:
URL:https://www.chehalislutheran.org/event/matins-3/2025-09-07/
END:VEVENT
BEGIN:VEVENT
DTSTART;TZID=America/Los_Angeles:20250803T083000
DTEND;TZID=America/Los_Angeles:20250803T090000
DTSTAMP:20260423T110340
CREATED:20240131T172345Z
LAST-MODIFIED:20240131T172345Z
UID:24752-1754209800-1754211600@www.chehalislutheran.org
SUMMARY:Matins
DESCRIPTION:
URL:https://www.chehalislutheran.org/event/matins-3/2025-08-03/
END:VEVENT
BEGIN:VEVENT
DTSTART;TZID=America/Los_Angeles:20250706T083000
DTEND;TZID=America/Los_Angeles:20250706T090000
DTSTAMP:20260423T110340
CREATED:20240131T172345Z
LAST-MODIFIED:20240131T172345Z
UID:24751-1751790600-1751792400@www.chehalislutheran.org
SUMMARY:Matins
DESCRIPTION:
URL:https://www.chehalislutheran.org/event/matins-3/2025-07-06/
END:VEVENT
BEGIN:VEVENT
DTSTART;TZID=America/Los_Angeles:20250601T083000
DTEND;TZID=America/Los_Angeles:20250601T090000
DTSTAMP:20260423T110340
CREATED:20240131T172345Z
LAST-MODIFIED:20240131T172345Z
UID:24750-1748766600-1748768400@www.chehalislutheran.org
SUMMARY:Matins
DESCRIPTION:
URL:https://www.chehalislutheran.org/event/matins-3/2025-06-01/
END:VEVENT
BEGIN:VEVENT
DTSTART;TZID=America/Los_Angeles:20250504T083000
DTEND;TZID=America/Los_Angeles:20250504T090000
DTSTAMP:20260423T110340
CREATED:20240131T172345Z
LAST-MODIFIED:20240131T172345Z
UID:24749-1746347400-1746349200@www.chehalislutheran.org
SUMMARY:Matins
DESCRIPTION:
URL:https://www.chehalislutheran.org/event/matins-3/2025-05-04/
END:VEVENT
BEGIN:VEVENT
DTSTART;TZID=America/Los_Angeles:20250406T083000
DTEND;TZID=America/Los_Angeles:20250406T090000
DTSTAMP:20260423T110340
CREATED:20240131T172345Z
LAST-MODIFIED:20240131T172345Z
UID:24748-1743928200-1743930000@www.chehalislutheran.org
SUMMARY:Matins
DESCRIPTION:
URL:https://www.chehalislutheran.org/event/matins-3/2025-04-06/
END:VEVENT
BEGIN:VEVENT
DTSTART;TZID=America/Los_Angeles:20250302T083000
DTEND;TZID=America/Los_Angeles:20250302T090000
DTSTAMP:20260423T110340
CREATED:20240131T172345Z
LAST-MODIFIED:20240131T172345Z
UID:24747-1740904200-1740906000@www.chehalislutheran.org
SUMMARY:Matins
DESCRIPTION:
URL:https://www.chehalislutheran.org/event/matins-3/2025-03-02/
END:VEVENT
BEGIN:VEVENT
DTSTART;TZID=America/Los_Angeles:20250105T083000
DTEND;TZID=America/Los_Angeles:20250105T090000
DTSTAMP:20260423T110340
CREATED:20240131T172345Z
LAST-MODIFIED:20240131T172345Z
UID:24745-1736065800-1736067600@www.chehalislutheran.org
SUMMARY:Matins
DESCRIPTION:
URL:https://www.chehalislutheran.org/event/matins-3/2025-01-05/
END:VEVENT
BEGIN:VEVENT
DTSTART;TZID=America/Los_Angeles:20241201T083000
DTEND;TZID=America/Los_Angeles:20241201T090000
DTSTAMP:20260423T110340
CREATED:20240131T172345Z
LAST-MODIFIED:20240131T172345Z
UID:24743-1733041800-1733043600@www.chehalislutheran.org
SUMMARY:Matins
DESCRIPTION:
URL:https://www.chehalislutheran.org/event/matins-3/2024-12-01/
END:VEVENT
BEGIN:VEVENT
DTSTART;TZID=America/Los_Angeles:20241103T083000
DTEND;TZID=America/Los_Angeles:20241103T090000
DTSTAMP:20260423T110340
CREATED:20240131T172345Z
LAST-MODIFIED:20240131T172345Z
UID:24742-1730622600-1730624400@www.chehalislutheran.org
SUMMARY:Matins
DESCRIPTION:
URL:https://www.chehalislutheran.org/event/matins-3/2024-11-03/
END:VEVENT
BEGIN:VEVENT
DTSTART;TZID=America/Los_Angeles:20241006T083000
DTEND;TZID=America/Los_Angeles:20241006T090000
DTSTAMP:20260423T110340
CREATED:20240131T172345Z
LAST-MODIFIED:20240131T172345Z
UID:24741-1728203400-1728205200@www.chehalislutheran.org
SUMMARY:Matins
DESCRIPTION:
URL:https://www.chehalislutheran.org/event/matins-3/2024-10-06/
END:VEVENT
BEGIN:VEVENT
DTSTART;TZID=America/Los_Angeles:20240901T083000
DTEND;TZID=America/Los_Angeles:20240901T090000
DTSTAMP:20260423T110340
CREATED:20240131T172345Z
LAST-MODIFIED:20240131T172345Z
UID:24740-1725179400-1725181200@www.chehalislutheran.org
SUMMARY:Matins
DESCRIPTION:
URL:https://www.chehalislutheran.org/event/matins-3/2024-09-01/
END:VEVENT
BEGIN:VEVENT
DTSTART;TZID=America/Los_Angeles:20240804T083000
DTEND;TZID=America/Los_Angeles:20240804T090000
DTSTAMP:20260423T110340
CREATED:20240131T172345Z
LAST-MODIFIED:20240131T172345Z
UID:24739-1722760200-1722762000@www.chehalislutheran.org
SUMMARY:Matins
DESCRIPTION:
URL:https://www.chehalislutheran.org/event/matins-3/2024-08-04/
END:VEVENT
BEGIN:VEVENT
DTSTART;TZID=America/Los_Angeles:20240707T083000
DTEND;TZID=America/Los_Angeles:20240707T090000
DTSTAMP:20260423T110340
CREATED:20240131T172345Z
LAST-MODIFIED:20240131T172345Z
UID:24738-1720341000-1720342800@www.chehalislutheran.org
SUMMARY:Matins
DESCRIPTION:
URL:https://www.chehalislutheran.org/event/matins-3/2024-07-07/
END:VEVENT
BEGIN:VEVENT
DTSTART;TZID=America/Los_Angeles:20240602T083000
DTEND;TZID=America/Los_Angeles:20240602T090000
DTSTAMP:20260423T110340
CREATED:20240131T172345Z
LAST-MODIFIED:20240131T172345Z
UID:24737-1717317000-1717318800@www.chehalislutheran.org
SUMMARY:Matins
DESCRIPTION:
URL:https://www.chehalislutheran.org/event/matins-3/2024-06-02/
END:VEVENT
BEGIN:VEVENT
DTSTART;TZID=America/Los_Angeles:20240505T083000
DTEND;TZID=America/Los_Angeles:20240505T090000
DTSTAMP:20260423T110340
CREATED:20240131T172345Z
LAST-MODIFIED:20240131T172345Z
UID:24736-1714897800-1714899600@www.chehalislutheran.org
SUMMARY:Matins
DESCRIPTION:
URL:https://www.chehalislutheran.org/event/matins-3/2024-05-05/
END:VEVENT
BEGIN:VEVENT
DTSTART;TZID=America/Los_Angeles:20240204T083000
DTEND;TZID=America/Los_Angeles:20240204T090000
DTSTAMP:20260423T110340
CREATED:20240131T172345Z
LAST-MODIFIED:20240131T172345Z
UID:24733-1707035400-1707037200@www.chehalislutheran.org
SUMMARY:Matins
DESCRIPTION:
URL:https://www.chehalislutheran.org/event/matins-3/2024-02-04/
END:VEVENT
END:VCALENDAR