BEGIN:VCALENDAR
VERSION:2.0
PRODID:-//Chehalis Lutheran - ECPv6.15.20//NONSGML v1.0//EN
CALSCALE:GREGORIAN
METHOD:PUBLISH
X-ORIGINAL-URL:https://www.chehalislutheran.org
X-WR-CALDESC:Events for Chehalis Lutheran
REFRESH-INTERVAL;VALUE=DURATION:PT1H
X-Robots-Tag:noindex
X-PUBLISHED-TTL:PT1H
BEGIN:VTIMEZONE
TZID:America/Los_Angeles
BEGIN:DAYLIGHT
TZOFFSETFROM:-0800
TZOFFSETTO:-0700
TZNAME:PDT
DTSTART:20250309T100000
END:DAYLIGHT
BEGIN:STANDARD
TZOFFSETFROM:-0700
TZOFFSETTO:-0800
TZNAME:PST
DTSTART:20251102T090000
END:STANDARD
BEGIN:DAYLIGHT
TZOFFSETFROM:-0800
TZOFFSETTO:-0700
TZNAME:PDT
DTSTART:20260308T100000
END:DAYLIGHT
BEGIN:STANDARD
TZOFFSETFROM:-0700
TZOFFSETTO:-0800
TZNAME:PST
DTSTART:20261101T090000
END:STANDARD
BEGIN:DAYLIGHT
TZOFFSETFROM:-0800
TZOFFSETTO:-0700
TZNAME:PDT
DTSTART:20270314T100000
END:DAYLIGHT
BEGIN:STANDARD
TZOFFSETFROM:-0700
TZOFFSETTO:-0800
TZNAME:PST
DTSTART:20271107T090000
END:STANDARD
BEGIN:DAYLIGHT
TZOFFSETFROM:-0800
TZOFFSETTO:-0700
TZNAME:PDT
DTSTART:20280312T100000
END:DAYLIGHT
BEGIN:STANDARD
TZOFFSETFROM:-0700
TZOFFSETTO:-0800
TZNAME:PST
DTSTART:20281105T090000
END:STANDARD
BEGIN:DAYLIGHT
TZOFFSETFROM:-0800
TZOFFSETTO:-0700
TZNAME:PDT
DTSTART:20290311T100000
END:DAYLIGHT
BEGIN:STANDARD
TZOFFSETFROM:-0700
TZOFFSETTO:-0800
TZNAME:PST
DTSTART:20291104T090000
END:STANDARD
END:VTIMEZONE
BEGIN:VEVENT
DTSTART;TZID=America/Los_Angeles:20260503T083000
DTEND;TZID=America/Los_Angeles:20260503T090000
DTSTAMP:20260423T092339
CREATED:20240131T172345Z
LAST-MODIFIED:20240131T172345Z
UID:25575-1777797000-1777798800@www.chehalislutheran.org
SUMMARY:Matins
DESCRIPTION:
URL:https://www.chehalislutheran.org/event/matins-3/2026-05-03/
END:VEVENT
BEGIN:VEVENT
DTSTART;TZID=America/Los_Angeles:20260607T083000
DTEND;TZID=America/Los_Angeles:20260607T090000
DTSTAMP:20260423T092339
CREATED:20240131T172345Z
LAST-MODIFIED:20240131T172345Z
UID:25669-1780821000-1780822800@www.chehalislutheran.org
SUMMARY:Matins
DESCRIPTION:
URL:https://www.chehalislutheran.org/event/matins-3/2026-06-07/
END:VEVENT
BEGIN:VEVENT
DTSTART;TZID=America/Los_Angeles:20260705T083000
DTEND;TZID=America/Los_Angeles:20260705T090000
DTSTAMP:20260423T092339
CREATED:20240131T172345Z
LAST-MODIFIED:20240131T172345Z
UID:25725-1783240200-1783242000@www.chehalislutheran.org
SUMMARY:Matins
DESCRIPTION:
URL:https://www.chehalislutheran.org/event/matins-3/2026-07-05/
END:VEVENT
BEGIN:VEVENT
DTSTART;TZID=America/Los_Angeles:20260802T083000
DTEND;TZID=America/Los_Angeles:20260802T090000
DTSTAMP:20260423T092339
CREATED:20240131T172345Z
LAST-MODIFIED:20240131T172345Z
UID:25766-1785659400-1785661200@www.chehalislutheran.org
SUMMARY:Matins
DESCRIPTION:
URL:https://www.chehalislutheran.org/event/matins-3/2026-08-02/
END:VEVENT
BEGIN:VEVENT
DTSTART;TZID=America/Los_Angeles:20260906T083000
DTEND;TZID=America/Los_Angeles:20260906T090000
DTSTAMP:20260423T092339
CREATED:20240131T172345Z
LAST-MODIFIED:20240131T172345Z
UID:25905-1788683400-1788685200@www.chehalislutheran.org
SUMMARY:Matins
DESCRIPTION:
URL:https://www.chehalislutheran.org/event/matins-3/2026-09-06/
END:VEVENT
BEGIN:VEVENT
DTSTART;TZID=America/Los_Angeles:20261004T083000
DTEND;TZID=America/Los_Angeles:20261004T090000
DTSTAMP:20260423T092339
CREATED:20240131T172345Z
LAST-MODIFIED:20240131T172345Z
UID:25977-1791102600-1791104400@www.chehalislutheran.org
SUMMARY:Matins
DESCRIPTION:
URL:https://www.chehalislutheran.org/event/matins-3/2026-10-04/
END:VEVENT
BEGIN:VEVENT
DTSTART;TZID=America/Los_Angeles:20261101T083000
DTEND;TZID=America/Los_Angeles:20261101T090000
DTSTAMP:20260423T092339
CREATED:20240131T172345Z
LAST-MODIFIED:20240131T172345Z
UID:26051-1793521800-1793523600@www.chehalislutheran.org
SUMMARY:Matins
DESCRIPTION:
URL:https://www.chehalislutheran.org/event/matins-3/2026-11-01/
END:VEVENT
BEGIN:VEVENT
DTSTART;TZID=America/Los_Angeles:20261206T083000
DTEND;TZID=America/Los_Angeles:20261206T090000
DTSTAMP:20260423T092339
CREATED:20240131T172345Z
LAST-MODIFIED:20240131T172345Z
UID:26106-1796545800-1796547600@www.chehalislutheran.org
SUMMARY:Matins
DESCRIPTION:
URL:https://www.chehalislutheran.org/event/matins-3/2026-12-06/
END:VEVENT
BEGIN:VEVENT
DTSTART;TZID=America/Los_Angeles:20270103T083000
DTEND;TZID=America/Los_Angeles:20270103T090000
DTSTAMP:20260423T092339
CREATED:20240131T172345Z
LAST-MODIFIED:20240131T172345Z
UID:26199-1798965000-1798966800@www.chehalislutheran.org
SUMMARY:Matins
DESCRIPTION:
URL:https://www.chehalislutheran.org/event/matins-3/2027-01-03/
END:VEVENT
BEGIN:VEVENT
DTSTART;TZID=America/Los_Angeles:20270207T083000
DTEND;TZID=America/Los_Angeles:20270207T090000
DTSTAMP:20260423T092339
CREATED:20240131T172345Z
LAST-MODIFIED:20240131T172345Z
UID:26293-1801989000-1801990800@www.chehalislutheran.org
SUMMARY:Matins
DESCRIPTION:
URL:https://www.chehalislutheran.org/event/matins-3/2027-02-07/
END:VEVENT
BEGIN:VEVENT
DTSTART;TZID=America/Los_Angeles:20270307T083000
DTEND;TZID=America/Los_Angeles:20270307T090000
DTSTAMP:20260423T092339
CREATED:20240131T172345Z
LAST-MODIFIED:20240131T172345Z
UID:26390-1804408200-1804410000@www.chehalislutheran.org
SUMMARY:Matins
DESCRIPTION:
URL:https://www.chehalislutheran.org/event/matins-3/2027-03-07/
END:VEVENT
BEGIN:VEVENT
DTSTART;TZID=America/Los_Angeles:20270404T083000
DTEND;TZID=America/Los_Angeles:20270404T090000
DTSTAMP:20260423T092339
CREATED:20240131T172345Z
LAST-MODIFIED:20240131T172345Z
UID:26797-1806827400-1806829200@www.chehalislutheran.org
SUMMARY:Matins
DESCRIPTION:
URL:https://www.chehalislutheran.org/event/matins-3/2027-04-04/
END:VEVENT
BEGIN:VEVENT
DTSTART;TZID=America/Los_Angeles:20270502T083000
DTEND;TZID=America/Los_Angeles:20270502T090000
DTSTAMP:20260423T092339
CREATED:20240131T172345Z
LAST-MODIFIED:20240131T172345Z
UID:26870-1809246600-1809248400@www.chehalislutheran.org
SUMMARY:Matins
DESCRIPTION:
URL:https://www.chehalislutheran.org/event/matins-3/2027-05-02/
END:VEVENT
BEGIN:VEVENT
DTSTART;TZID=America/Los_Angeles:20270606T083000
DTEND;TZID=America/Los_Angeles:20270606T090000
DTSTAMP:20260423T092339
CREATED:20240131T172345Z
LAST-MODIFIED:20240131T172345Z
UID:26963-1812270600-1812272400@www.chehalislutheran.org
SUMMARY:Matins
DESCRIPTION:
URL:https://www.chehalislutheran.org/event/matins-3/2027-06-06/
END:VEVENT
BEGIN:VEVENT
DTSTART;TZID=America/Los_Angeles:20270704T083000
DTEND;TZID=America/Los_Angeles:20270704T090000
DTSTAMP:20260423T092339
CREATED:20240131T172345Z
LAST-MODIFIED:20240131T172345Z
UID:27022-1814689800-1814691600@www.chehalislutheran.org
SUMMARY:Matins
DESCRIPTION:
URL:https://www.chehalislutheran.org/event/matins-3/2027-07-04/
END:VEVENT
BEGIN:VEVENT
DTSTART;TZID=America/Los_Angeles:20270801T083000
DTEND;TZID=America/Los_Angeles:20270801T090000
DTSTAMP:20260423T092339
CREATED:20240131T172345Z
LAST-MODIFIED:20240131T172345Z
UID:27082-1817109000-1817110800@www.chehalislutheran.org
SUMMARY:Matins
DESCRIPTION:
URL:https://www.chehalislutheran.org/event/matins-3/2027-08-01/
END:VEVENT
BEGIN:VEVENT
DTSTART;TZID=America/Los_Angeles:20270905T083000
DTEND;TZID=America/Los_Angeles:20270905T090000
DTSTAMP:20260423T092339
CREATED:20240131T172345Z
LAST-MODIFIED:20240131T172345Z
UID:27126-1820133000-1820134800@www.chehalislutheran.org
SUMMARY:Matins
DESCRIPTION:
URL:https://www.chehalislutheran.org/event/matins-3/2027-09-05/
END:VEVENT
BEGIN:VEVENT
DTSTART;TZID=America/Los_Angeles:20271003T083000
DTEND;TZID=America/Los_Angeles:20271003T090000
DTSTAMP:20260423T092339
CREATED:20240131T172345Z
LAST-MODIFIED:20240131T172345Z
UID:27183-1822552200-1822554000@www.chehalislutheran.org
SUMMARY:Matins
DESCRIPTION:
URL:https://www.chehalislutheran.org/event/matins-3/2027-10-03/
END:VEVENT
BEGIN:VEVENT
DTSTART;TZID=America/Los_Angeles:20271107T083000
DTEND;TZID=America/Los_Angeles:20271107T090000
DTSTAMP:20260423T092339
CREATED:20240131T172345Z
LAST-MODIFIED:20240131T172345Z
UID:27427-1825576200-1825578000@www.chehalislutheran.org
SUMMARY:Matins
DESCRIPTION:
URL:https://www.chehalislutheran.org/event/matins-3/2027-11-07/
END:VEVENT
BEGIN:VEVENT
DTSTART;TZID=America/Los_Angeles:20271205T083000
DTEND;TZID=America/Los_Angeles:20271205T090000
DTSTAMP:20260423T092339
CREATED:20240131T172345Z
LAST-MODIFIED:20240131T172345Z
UID:27478-1827995400-1827997200@www.chehalislutheran.org
SUMMARY:Matins
DESCRIPTION:
URL:https://www.chehalislutheran.org/event/matins-3/2027-12-05/
END:VEVENT
BEGIN:VEVENT
DTSTART;TZID=America/Los_Angeles:20280102T083000
DTEND;TZID=America/Los_Angeles:20280102T090000
DTSTAMP:20260423T092339
CREATED:20240131T172345Z
LAST-MODIFIED:20240131T172345Z
UID:27527-1830414600-1830416400@www.chehalislutheran.org
SUMMARY:Matins
DESCRIPTION:
URL:https://www.chehalislutheran.org/event/matins-3/2028-01-02/
END:VEVENT
BEGIN:VEVENT
DTSTART;TZID=America/Los_Angeles:20280206T083000
DTEND;TZID=America/Los_Angeles:20280206T090000
DTSTAMP:20260423T092339
CREATED:20240131T172345Z
LAST-MODIFIED:20240131T172345Z
UID:27662-1833438600-1833440400@www.chehalislutheran.org
SUMMARY:Matins
DESCRIPTION:
URL:https://www.chehalislutheran.org/event/matins-3/2028-02-06/
END:VEVENT
BEGIN:VEVENT
DTSTART;TZID=America/Los_Angeles:20280305T083000
DTEND;TZID=America/Los_Angeles:20280305T090000
DTSTAMP:20260423T092339
CREATED:20240131T172345Z
LAST-MODIFIED:20240131T172345Z
UID:27712-1835857800-1835859600@www.chehalislutheran.org
SUMMARY:Matins
DESCRIPTION:
URL:https://www.chehalislutheran.org/event/matins-3/2028-03-05/
END:VEVENT
BEGIN:VEVENT
DTSTART;TZID=America/Los_Angeles:20280402T083000
DTEND;TZID=America/Los_Angeles:20280402T090000
DTSTAMP:20260423T092339
CREATED:20240131T172345Z
LAST-MODIFIED:20240131T172345Z
UID:27768-1838277000-1838278800@www.chehalislutheran.org
SUMMARY:Matins
DESCRIPTION:
URL:https://www.chehalislutheran.org/event/matins-3/2028-04-02/
END:VEVENT
END:VCALENDAR