BEGIN:VCALENDAR
VERSION:2.0
PRODID:-//Chehalis Lutheran - ECPv6.15.20//NONSGML v1.0//EN
CALSCALE:GREGORIAN
METHOD:PUBLISH
X-ORIGINAL-URL:https://www.chehalislutheran.org
X-WR-CALDESC:Events for Chehalis Lutheran
REFRESH-INTERVAL;VALUE=DURATION:PT1H
X-Robots-Tag:noindex
X-PUBLISHED-TTL:PT1H
BEGIN:VTIMEZONE
TZID:America/Los_Angeles
BEGIN:DAYLIGHT
TZOFFSETFROM:-0800
TZOFFSETTO:-0700
TZNAME:PDT
DTSTART:20240310T100000
END:DAYLIGHT
BEGIN:STANDARD
TZOFFSETFROM:-0700
TZOFFSETTO:-0800
TZNAME:PST
DTSTART:20241103T090000
END:STANDARD
BEGIN:DAYLIGHT
TZOFFSETFROM:-0800
TZOFFSETTO:-0700
TZNAME:PDT
DTSTART:20250309T100000
END:DAYLIGHT
BEGIN:STANDARD
TZOFFSETFROM:-0700
TZOFFSETTO:-0800
TZNAME:PST
DTSTART:20251102T090000
END:STANDARD
BEGIN:DAYLIGHT
TZOFFSETFROM:-0800
TZOFFSETTO:-0700
TZNAME:PDT
DTSTART:20260308T100000
END:DAYLIGHT
BEGIN:STANDARD
TZOFFSETFROM:-0700
TZOFFSETTO:-0800
TZNAME:PST
DTSTART:20261101T090000
END:STANDARD
BEGIN:DAYLIGHT
TZOFFSETFROM:-0800
TZOFFSETTO:-0700
TZNAME:PDT
DTSTART:20270314T100000
END:DAYLIGHT
BEGIN:STANDARD
TZOFFSETFROM:-0700
TZOFFSETTO:-0800
TZNAME:PST
DTSTART:20271107T090000
END:STANDARD
END:VTIMEZONE
BEGIN:VEVENT
DTSTART;TZID=America/Los_Angeles:20260421T100000
DTEND;TZID=America/Los_Angeles:20260421T120000
DTSTAMP:20260423T111422
CREATED:20240501T164944Z
LAST-MODIFIED:20240501T164944Z
UID:25560-1776765600-1776772800@www.chehalislutheran.org
SUMMARY:Quilters
DESCRIPTION:
URL:https://www.chehalislutheran.org/event/quilters-6/2026-04-21/
END:VEVENT
BEGIN:VEVENT
DTSTART;TZID=America/Los_Angeles:20260414T100000
DTEND;TZID=America/Los_Angeles:20260414T120000
DTSTAMP:20260423T111422
CREATED:20240501T164944Z
LAST-MODIFIED:20240501T164944Z
UID:25559-1776160800-1776168000@www.chehalislutheran.org
SUMMARY:Quilters
DESCRIPTION:
URL:https://www.chehalislutheran.org/event/quilters-6/2026-04-14/
END:VEVENT
BEGIN:VEVENT
DTSTART;TZID=America/Los_Angeles:20260407T100000
DTEND;TZID=America/Los_Angeles:20260407T120000
DTSTAMP:20260423T111422
CREATED:20240501T164944Z
LAST-MODIFIED:20240501T164944Z
UID:25558-1775556000-1775563200@www.chehalislutheran.org
SUMMARY:Quilters
DESCRIPTION:
URL:https://www.chehalislutheran.org/event/quilters-6/2026-04-07/
END:VEVENT
BEGIN:VEVENT
DTSTART;TZID=America/Los_Angeles:20260331T100000
DTEND;TZID=America/Los_Angeles:20260331T120000
DTSTAMP:20260423T111422
CREATED:20240501T164944Z
LAST-MODIFIED:20240501T164944Z
UID:25557-1774951200-1774958400@www.chehalislutheran.org
SUMMARY:Quilters
DESCRIPTION:
URL:https://www.chehalislutheran.org/event/quilters-6/2026-03-31/
END:VEVENT
BEGIN:VEVENT
DTSTART;TZID=America/Los_Angeles:20260324T100000
DTEND;TZID=America/Los_Angeles:20260324T120000
DTSTAMP:20260423T111422
CREATED:20240501T164944Z
LAST-MODIFIED:20240501T164944Z
UID:25556-1774346400-1774353600@www.chehalislutheran.org
SUMMARY:Quilters
DESCRIPTION:
URL:https://www.chehalislutheran.org/event/quilters-6/2026-03-24/
END:VEVENT
BEGIN:VEVENT
DTSTART;TZID=America/Los_Angeles:20260317T100000
DTEND;TZID=America/Los_Angeles:20260317T120000
DTSTAMP:20260423T111422
CREATED:20240501T164944Z
LAST-MODIFIED:20240501T164944Z
UID:25555-1773741600-1773748800@www.chehalislutheran.org
SUMMARY:Quilters
DESCRIPTION:
URL:https://www.chehalislutheran.org/event/quilters-6/2026-03-17/
END:VEVENT
BEGIN:VEVENT
DTSTART;TZID=America/Los_Angeles:20260310T100000
DTEND;TZID=America/Los_Angeles:20260310T120000
DTSTAMP:20260423T111422
CREATED:20240501T164944Z
LAST-MODIFIED:20240501T164944Z
UID:25554-1773136800-1773144000@www.chehalislutheran.org
SUMMARY:Quilters
DESCRIPTION:
URL:https://www.chehalislutheran.org/event/quilters-6/2026-03-10/
END:VEVENT
BEGIN:VEVENT
DTSTART;TZID=America/Los_Angeles:20260303T100000
DTEND;TZID=America/Los_Angeles:20260303T120000
DTSTAMP:20260423T111422
CREATED:20240501T164944Z
LAST-MODIFIED:20240501T164944Z
UID:25553-1772532000-1772539200@www.chehalislutheran.org
SUMMARY:Quilters
DESCRIPTION:
URL:https://www.chehalislutheran.org/event/quilters-6/2026-03-03/
END:VEVENT
BEGIN:VEVENT
DTSTART;TZID=America/Los_Angeles:20260224T100000
DTEND;TZID=America/Los_Angeles:20260224T120000
DTSTAMP:20260423T111422
CREATED:20240501T164944Z
LAST-MODIFIED:20240501T164944Z
UID:25552-1771927200-1771934400@www.chehalislutheran.org
SUMMARY:Quilters
DESCRIPTION:
URL:https://www.chehalislutheran.org/event/quilters-6/2026-02-24/
END:VEVENT
BEGIN:VEVENT
DTSTART;TZID=America/Los_Angeles:20260217T100000
DTEND;TZID=America/Los_Angeles:20260217T120000
DTSTAMP:20260423T111422
CREATED:20240501T164944Z
LAST-MODIFIED:20240501T164944Z
UID:25551-1771322400-1771329600@www.chehalislutheran.org
SUMMARY:Quilters
DESCRIPTION:
URL:https://www.chehalislutheran.org/event/quilters-6/2026-02-17/
END:VEVENT
BEGIN:VEVENT
DTSTART;TZID=America/Los_Angeles:20260210T100000
DTEND;TZID=America/Los_Angeles:20260210T120000
DTSTAMP:20260423T111422
CREATED:20240501T164944Z
LAST-MODIFIED:20240501T164944Z
UID:25550-1770717600-1770724800@www.chehalislutheran.org
SUMMARY:Quilters
DESCRIPTION:
URL:https://www.chehalislutheran.org/event/quilters-6/2026-02-10/
END:VEVENT
BEGIN:VEVENT
DTSTART;TZID=America/Los_Angeles:20260203T100000
DTEND;TZID=America/Los_Angeles:20260203T120000
DTSTAMP:20260423T111422
CREATED:20240501T164944Z
LAST-MODIFIED:20240501T164944Z
UID:25549-1770112800-1770120000@www.chehalislutheran.org
SUMMARY:Quilters
DESCRIPTION:
URL:https://www.chehalislutheran.org/event/quilters-6/2026-02-03/
END:VEVENT
BEGIN:VEVENT
DTSTART;TZID=America/Los_Angeles:20260127T100000
DTEND;TZID=America/Los_Angeles:20260127T120000
DTSTAMP:20260423T111422
CREATED:20240501T164944Z
LAST-MODIFIED:20240501T164944Z
UID:25548-1769508000-1769515200@www.chehalislutheran.org
SUMMARY:Quilters
DESCRIPTION:
URL:https://www.chehalislutheran.org/event/quilters-6/2026-01-27/
END:VEVENT
BEGIN:VEVENT
DTSTART;TZID=America/Los_Angeles:20260120T100000
DTEND;TZID=America/Los_Angeles:20260120T120000
DTSTAMP:20260423T111422
CREATED:20240501T164944Z
LAST-MODIFIED:20240501T164944Z
UID:25547-1768903200-1768910400@www.chehalislutheran.org
SUMMARY:Quilters
DESCRIPTION:
URL:https://www.chehalislutheran.org/event/quilters-6/2026-01-20/
END:VEVENT
BEGIN:VEVENT
DTSTART;TZID=America/Los_Angeles:20260113T100000
DTEND;TZID=America/Los_Angeles:20260113T120000
DTSTAMP:20260423T111422
CREATED:20240501T164944Z
LAST-MODIFIED:20240501T164944Z
UID:25546-1768298400-1768305600@www.chehalislutheran.org
SUMMARY:Quilters
DESCRIPTION:
URL:https://www.chehalislutheran.org/event/quilters-6/2026-01-13/
END:VEVENT
BEGIN:VEVENT
DTSTART;TZID=America/Los_Angeles:20260106T100000
DTEND;TZID=America/Los_Angeles:20260106T120000
DTSTAMP:20260423T111422
CREATED:20240501T164944Z
LAST-MODIFIED:20240501T164944Z
UID:25545-1767693600-1767700800@www.chehalislutheran.org
SUMMARY:Quilters
DESCRIPTION:
URL:https://www.chehalislutheran.org/event/quilters-6/2026-01-06/
END:VEVENT
BEGIN:VEVENT
DTSTART;TZID=America/Los_Angeles:20251230T100000
DTEND;TZID=America/Los_Angeles:20251230T120000
DTSTAMP:20260423T111422
CREATED:20240501T164944Z
LAST-MODIFIED:20240501T164944Z
UID:25544-1767088800-1767096000@www.chehalislutheran.org
SUMMARY:Quilters
DESCRIPTION:
URL:https://www.chehalislutheran.org/event/quilters-6/2025-12-30/
END:VEVENT
BEGIN:VEVENT
DTSTART;TZID=America/Los_Angeles:20251223T100000
DTEND;TZID=America/Los_Angeles:20251223T120000
DTSTAMP:20260423T111422
CREATED:20240501T164944Z
LAST-MODIFIED:20240501T164944Z
UID:25543-1766484000-1766491200@www.chehalislutheran.org
SUMMARY:Quilters
DESCRIPTION:
URL:https://www.chehalislutheran.org/event/quilters-6/2025-12-23/
END:VEVENT
BEGIN:VEVENT
DTSTART;TZID=America/Los_Angeles:20251216T100000
DTEND;TZID=America/Los_Angeles:20251216T120000
DTSTAMP:20260423T111422
CREATED:20240501T164944Z
LAST-MODIFIED:20240501T164944Z
UID:25542-1765879200-1765886400@www.chehalislutheran.org
SUMMARY:Quilters
DESCRIPTION:
URL:https://www.chehalislutheran.org/event/quilters-6/2025-12-16/
END:VEVENT
BEGIN:VEVENT
DTSTART;TZID=America/Los_Angeles:20251209T100000
DTEND;TZID=America/Los_Angeles:20251209T120000
DTSTAMP:20260423T111422
CREATED:20240501T164944Z
LAST-MODIFIED:20240501T164944Z
UID:25541-1765274400-1765281600@www.chehalislutheran.org
SUMMARY:Quilters
DESCRIPTION:
URL:https://www.chehalislutheran.org/event/quilters-6/2025-12-09/
END:VEVENT
BEGIN:VEVENT
DTSTART;TZID=America/Los_Angeles:20251202T100000
DTEND;TZID=America/Los_Angeles:20251202T120000
DTSTAMP:20260423T111422
CREATED:20240501T164944Z
LAST-MODIFIED:20240501T164944Z
UID:25540-1764669600-1764676800@www.chehalislutheran.org
SUMMARY:Quilters
DESCRIPTION:
URL:https://www.chehalislutheran.org/event/quilters-6/2025-12-02/
END:VEVENT
BEGIN:VEVENT
DTSTART;TZID=America/Los_Angeles:20251125T100000
DTEND;TZID=America/Los_Angeles:20251125T120000
DTSTAMP:20260423T111422
CREATED:20240501T164944Z
LAST-MODIFIED:20240501T164944Z
UID:25539-1764064800-1764072000@www.chehalislutheran.org
SUMMARY:Quilters
DESCRIPTION:
URL:https://www.chehalislutheran.org/event/quilters-6/2025-11-25/
END:VEVENT
BEGIN:VEVENT
DTSTART;TZID=America/Los_Angeles:20251118T100000
DTEND;TZID=America/Los_Angeles:20251118T120000
DTSTAMP:20260423T111422
CREATED:20240501T164944Z
LAST-MODIFIED:20240501T164944Z
UID:25538-1763460000-1763467200@www.chehalislutheran.org
SUMMARY:Quilters
DESCRIPTION:
URL:https://www.chehalislutheran.org/event/quilters-6/2025-11-18/
END:VEVENT
BEGIN:VEVENT
DTSTART;TZID=America/Los_Angeles:20251111T100000
DTEND;TZID=America/Los_Angeles:20251111T120000
DTSTAMP:20260423T111422
CREATED:20240501T164944Z
LAST-MODIFIED:20240501T164944Z
UID:25537-1762855200-1762862400@www.chehalislutheran.org
SUMMARY:Quilters
DESCRIPTION:
URL:https://www.chehalislutheran.org/event/quilters-6/2025-11-11/
END:VEVENT
BEGIN:VEVENT
DTSTART;TZID=America/Los_Angeles:20251104T100000
DTEND;TZID=America/Los_Angeles:20251104T120000
DTSTAMP:20260423T111422
CREATED:20240501T164944Z
LAST-MODIFIED:20240501T164944Z
UID:25536-1762250400-1762257600@www.chehalislutheran.org
SUMMARY:Quilters
DESCRIPTION:
URL:https://www.chehalislutheran.org/event/quilters-6/2025-11-04/
END:VEVENT
BEGIN:VEVENT
DTSTART;TZID=America/Los_Angeles:20251028T100000
DTEND;TZID=America/Los_Angeles:20251028T120000
DTSTAMP:20260423T111422
CREATED:20240501T164944Z
LAST-MODIFIED:20240501T164944Z
UID:25535-1761645600-1761652800@www.chehalislutheran.org
SUMMARY:Quilters
DESCRIPTION:
URL:https://www.chehalislutheran.org/event/quilters-6/2025-10-28/
END:VEVENT
BEGIN:VEVENT
DTSTART;TZID=America/Los_Angeles:20251021T100000
DTEND;TZID=America/Los_Angeles:20251021T120000
DTSTAMP:20260423T111422
CREATED:20240501T164944Z
LAST-MODIFIED:20240501T164944Z
UID:25534-1761040800-1761048000@www.chehalislutheran.org
SUMMARY:Quilters
DESCRIPTION:
URL:https://www.chehalislutheran.org/event/quilters-6/2025-10-21/
END:VEVENT
BEGIN:VEVENT
DTSTART;TZID=America/Los_Angeles:20251014T100000
DTEND;TZID=America/Los_Angeles:20251014T120000
DTSTAMP:20260423T111422
CREATED:20240501T164944Z
LAST-MODIFIED:20240501T164944Z
UID:25533-1760436000-1760443200@www.chehalislutheran.org
SUMMARY:Quilters
DESCRIPTION:
URL:https://www.chehalislutheran.org/event/quilters-6/2025-10-14/
END:VEVENT
BEGIN:VEVENT
DTSTART;TZID=America/Los_Angeles:20251007T100000
DTEND;TZID=America/Los_Angeles:20251007T120000
DTSTAMP:20260423T111422
CREATED:20240501T164944Z
LAST-MODIFIED:20240501T164944Z
UID:25532-1759831200-1759838400@www.chehalislutheran.org
SUMMARY:Quilters
DESCRIPTION:
URL:https://www.chehalislutheran.org/event/quilters-6/2025-10-07/
END:VEVENT
BEGIN:VEVENT
DTSTART;TZID=America/Los_Angeles:20250930T100000
DTEND;TZID=America/Los_Angeles:20250930T120000
DTSTAMP:20260423T111422
CREATED:20240501T164944Z
LAST-MODIFIED:20240501T164944Z
UID:25531-1759226400-1759233600@www.chehalislutheran.org
SUMMARY:Quilters
DESCRIPTION:
URL:https://www.chehalislutheran.org/event/quilters-6/2025-09-30/
END:VEVENT
END:VCALENDAR