BEGIN:VCALENDAR
VERSION:2.0
PRODID:-//Chehalis Lutheran - ECPv6.15.20//NONSGML v1.0//EN
CALSCALE:GREGORIAN
METHOD:PUBLISH
X-ORIGINAL-URL:https://www.chehalislutheran.org
X-WR-CALDESC:Events for Chehalis Lutheran
REFRESH-INTERVAL;VALUE=DURATION:PT1H
X-Robots-Tag:noindex
X-PUBLISHED-TTL:PT1H
BEGIN:VTIMEZONE
TZID:America/Los_Angeles
BEGIN:DAYLIGHT
TZOFFSETFROM:-0800
TZOFFSETTO:-0700
TZNAME:PDT
DTSTART:20250309T100000
END:DAYLIGHT
BEGIN:STANDARD
TZOFFSETFROM:-0700
TZOFFSETTO:-0800
TZNAME:PST
DTSTART:20251102T090000
END:STANDARD
BEGIN:DAYLIGHT
TZOFFSETFROM:-0800
TZOFFSETTO:-0700
TZNAME:PDT
DTSTART:20260308T100000
END:DAYLIGHT
BEGIN:STANDARD
TZOFFSETFROM:-0700
TZOFFSETTO:-0800
TZNAME:PST
DTSTART:20261101T090000
END:STANDARD
BEGIN:DAYLIGHT
TZOFFSETFROM:-0800
TZOFFSETTO:-0700
TZNAME:PDT
DTSTART:20270314T100000
END:DAYLIGHT
BEGIN:STANDARD
TZOFFSETFROM:-0700
TZOFFSETTO:-0800
TZNAME:PST
DTSTART:20271107T090000
END:STANDARD
END:VTIMEZONE
BEGIN:VEVENT
DTSTART;TZID=America/Los_Angeles:20260428T100000
DTEND;TZID=America/Los_Angeles:20260428T120000
DTSTAMP:20260423T092337
CREATED:20240501T164944Z
LAST-MODIFIED:20240501T164944Z
UID:25561-1777370400-1777377600@www.chehalislutheran.org
SUMMARY:Quilters
DESCRIPTION:
URL:https://www.chehalislutheran.org/event/quilters-6/2026-04-28/
END:VEVENT
BEGIN:VEVENT
DTSTART;TZID=America/Los_Angeles:20260505T100000
DTEND;TZID=America/Los_Angeles:20260505T120000
DTSTAMP:20260423T092337
CREATED:20240501T164944Z
LAST-MODIFIED:20240501T164944Z
UID:25585-1777975200-1777982400@www.chehalislutheran.org
SUMMARY:Quilters
DESCRIPTION:
URL:https://www.chehalislutheran.org/event/quilters-6/2026-05-05/
END:VEVENT
BEGIN:VEVENT
DTSTART;TZID=America/Los_Angeles:20260512T100000
DTEND;TZID=America/Los_Angeles:20260512T120000
DTSTAMP:20260423T092337
CREATED:20240501T164944Z
LAST-MODIFIED:20240501T164944Z
UID:25602-1778580000-1778587200@www.chehalislutheran.org
SUMMARY:Quilters
DESCRIPTION:
URL:https://www.chehalislutheran.org/event/quilters-6/2026-05-12/
END:VEVENT
BEGIN:VEVENT
DTSTART;TZID=America/Los_Angeles:20260519T100000
DTEND;TZID=America/Los_Angeles:20260519T120000
DTSTAMP:20260423T092337
CREATED:20240501T164944Z
LAST-MODIFIED:20240501T164944Z
UID:25615-1779184800-1779192000@www.chehalislutheran.org
SUMMARY:Quilters
DESCRIPTION:
URL:https://www.chehalislutheran.org/event/quilters-6/2026-05-19/
END:VEVENT
BEGIN:VEVENT
DTSTART;TZID=America/Los_Angeles:20260526T100000
DTEND;TZID=America/Los_Angeles:20260526T120000
DTSTAMP:20260423T092337
CREATED:20240501T164944Z
LAST-MODIFIED:20240501T164944Z
UID:25629-1779789600-1779796800@www.chehalislutheran.org
SUMMARY:Quilters
DESCRIPTION:
URL:https://www.chehalislutheran.org/event/quilters-6/2026-05-26/
END:VEVENT
BEGIN:VEVENT
DTSTART;TZID=America/Los_Angeles:20260602T100000
DTEND;TZID=America/Los_Angeles:20260602T120000
DTSTAMP:20260423T092337
CREATED:20240501T164944Z
LAST-MODIFIED:20240501T164944Z
UID:25637-1780394400-1780401600@www.chehalislutheran.org
SUMMARY:Quilters
DESCRIPTION:
URL:https://www.chehalislutheran.org/event/quilters-6/2026-06-02/
END:VEVENT
BEGIN:VEVENT
DTSTART;TZID=America/Los_Angeles:20260609T100000
DTEND;TZID=America/Los_Angeles:20260609T120000
DTSTAMP:20260423T092337
CREATED:20240501T164944Z
LAST-MODIFIED:20240501T164944Z
UID:25681-1780999200-1781006400@www.chehalislutheran.org
SUMMARY:Quilters
DESCRIPTION:
URL:https://www.chehalislutheran.org/event/quilters-6/2026-06-09/
END:VEVENT
BEGIN:VEVENT
DTSTART;TZID=America/Los_Angeles:20260616T100000
DTEND;TZID=America/Los_Angeles:20260616T120000
DTSTAMP:20260423T092337
CREATED:20240501T164944Z
LAST-MODIFIED:20240501T164944Z
UID:25695-1781604000-1781611200@www.chehalislutheran.org
SUMMARY:Quilters
DESCRIPTION:
URL:https://www.chehalislutheran.org/event/quilters-6/2026-06-16/
END:VEVENT
BEGIN:VEVENT
DTSTART;TZID=America/Los_Angeles:20260623T100000
DTEND;TZID=America/Los_Angeles:20260623T120000
DTSTAMP:20260423T092337
CREATED:20240501T164944Z
LAST-MODIFIED:20240501T164944Z
UID:25700-1782208800-1782216000@www.chehalislutheran.org
SUMMARY:Quilters
DESCRIPTION:
URL:https://www.chehalislutheran.org/event/quilters-6/2026-06-23/
END:VEVENT
BEGIN:VEVENT
DTSTART;TZID=America/Los_Angeles:20260630T100000
DTEND;TZID=America/Los_Angeles:20260630T120000
DTSTAMP:20260423T092337
CREATED:20240501T164944Z
LAST-MODIFIED:20240501T164944Z
UID:25723-1782813600-1782820800@www.chehalislutheran.org
SUMMARY:Quilters
DESCRIPTION:
URL:https://www.chehalislutheran.org/event/quilters-6/2026-06-30/
END:VEVENT
BEGIN:VEVENT
DTSTART;TZID=America/Los_Angeles:20260707T100000
DTEND;TZID=America/Los_Angeles:20260707T120000
DTSTAMP:20260423T092337
CREATED:20240501T164944Z
LAST-MODIFIED:20240501T164944Z
UID:25735-1783418400-1783425600@www.chehalislutheran.org
SUMMARY:Quilters
DESCRIPTION:
URL:https://www.chehalislutheran.org/event/quilters-6/2026-07-07/
END:VEVENT
BEGIN:VEVENT
DTSTART;TZID=America/Los_Angeles:20260714T100000
DTEND;TZID=America/Los_Angeles:20260714T120000
DTSTAMP:20260423T092337
CREATED:20240501T164944Z
LAST-MODIFIED:20240501T164944Z
UID:25748-1784023200-1784030400@www.chehalislutheran.org
SUMMARY:Quilters
DESCRIPTION:
URL:https://www.chehalislutheran.org/event/quilters-6/2026-07-14/
END:VEVENT
BEGIN:VEVENT
DTSTART;TZID=America/Los_Angeles:20260721T100000
DTEND;TZID=America/Los_Angeles:20260721T120000
DTSTAMP:20260423T092337
CREATED:20240501T164944Z
LAST-MODIFIED:20240501T164944Z
UID:25752-1784628000-1784635200@www.chehalislutheran.org
SUMMARY:Quilters
DESCRIPTION:
URL:https://www.chehalislutheran.org/event/quilters-6/2026-07-21/
END:VEVENT
BEGIN:VEVENT
DTSTART;TZID=America/Los_Angeles:20260728T100000
DTEND;TZID=America/Los_Angeles:20260728T120000
DTSTAMP:20260423T092337
CREATED:20240501T164944Z
LAST-MODIFIED:20240501T164944Z
UID:25757-1785232800-1785240000@www.chehalislutheran.org
SUMMARY:Quilters
DESCRIPTION:
URL:https://www.chehalislutheran.org/event/quilters-6/2026-07-28/
END:VEVENT
BEGIN:VEVENT
DTSTART;TZID=America/Los_Angeles:20260804T100000
DTEND;TZID=America/Los_Angeles:20260804T120000
DTSTAMP:20260423T092337
CREATED:20240501T164944Z
LAST-MODIFIED:20240501T164944Z
UID:25769-1785837600-1785844800@www.chehalislutheran.org
SUMMARY:Quilters
DESCRIPTION:
URL:https://www.chehalislutheran.org/event/quilters-6/2026-08-04/
END:VEVENT
BEGIN:VEVENT
DTSTART;TZID=America/Los_Angeles:20260811T100000
DTEND;TZID=America/Los_Angeles:20260811T120000
DTSTAMP:20260423T092337
CREATED:20240501T164944Z
LAST-MODIFIED:20240501T164944Z
UID:25775-1786442400-1786449600@www.chehalislutheran.org
SUMMARY:Quilters
DESCRIPTION:
URL:https://www.chehalislutheran.org/event/quilters-6/2026-08-11/
END:VEVENT
BEGIN:VEVENT
DTSTART;TZID=America/Los_Angeles:20260818T100000
DTEND;TZID=America/Los_Angeles:20260818T120000
DTSTAMP:20260423T092337
CREATED:20240501T164944Z
LAST-MODIFIED:20240501T164944Z
UID:25789-1787047200-1787054400@www.chehalislutheran.org
SUMMARY:Quilters
DESCRIPTION:
URL:https://www.chehalislutheran.org/event/quilters-6/2026-08-18/
END:VEVENT
BEGIN:VEVENT
DTSTART;TZID=America/Los_Angeles:20260825T100000
DTEND;TZID=America/Los_Angeles:20260825T120000
DTSTAMP:20260423T092337
CREATED:20240501T164944Z
LAST-MODIFIED:20240501T164944Z
UID:25800-1787652000-1787659200@www.chehalislutheran.org
SUMMARY:Quilters
DESCRIPTION:
URL:https://www.chehalislutheran.org/event/quilters-6/2026-08-25/
END:VEVENT
BEGIN:VEVENT
DTSTART;TZID=America/Los_Angeles:20260901T100000
DTEND;TZID=America/Los_Angeles:20260901T120000
DTSTAMP:20260423T092337
CREATED:20240501T164944Z
LAST-MODIFIED:20240501T164944Z
UID:25903-1788256800-1788264000@www.chehalislutheran.org
SUMMARY:Quilters
DESCRIPTION:
URL:https://www.chehalislutheran.org/event/quilters-6/2026-09-01/
END:VEVENT
BEGIN:VEVENT
DTSTART;TZID=America/Los_Angeles:20260908T100000
DTEND;TZID=America/Los_Angeles:20260908T120000
DTSTAMP:20260423T092337
CREATED:20240501T164944Z
LAST-MODIFIED:20240501T164944Z
UID:25919-1788861600-1788868800@www.chehalislutheran.org
SUMMARY:Quilters
DESCRIPTION:
URL:https://www.chehalislutheran.org/event/quilters-6/2026-09-08/
END:VEVENT
BEGIN:VEVENT
DTSTART;TZID=America/Los_Angeles:20260915T100000
DTEND;TZID=America/Los_Angeles:20260915T120000
DTSTAMP:20260423T092337
CREATED:20240501T164944Z
LAST-MODIFIED:20240501T164944Z
UID:25932-1789466400-1789473600@www.chehalislutheran.org
SUMMARY:Quilters
DESCRIPTION:
URL:https://www.chehalislutheran.org/event/quilters-6/2026-09-15/
END:VEVENT
BEGIN:VEVENT
DTSTART;TZID=America/Los_Angeles:20260922T100000
DTEND;TZID=America/Los_Angeles:20260922T120000
DTSTAMP:20260423T092337
CREATED:20240501T164944Z
LAST-MODIFIED:20240501T164944Z
UID:25938-1790071200-1790078400@www.chehalislutheran.org
SUMMARY:Quilters
DESCRIPTION:
URL:https://www.chehalislutheran.org/event/quilters-6/2026-09-22/
END:VEVENT
BEGIN:VEVENT
DTSTART;TZID=America/Los_Angeles:20260929T100000
DTEND;TZID=America/Los_Angeles:20260929T120000
DTSTAMP:20260423T092337
CREATED:20240501T164944Z
LAST-MODIFIED:20240501T164944Z
UID:25955-1790676000-1790683200@www.chehalislutheran.org
SUMMARY:Quilters
DESCRIPTION:
URL:https://www.chehalislutheran.org/event/quilters-6/2026-09-29/
END:VEVENT
BEGIN:VEVENT
DTSTART;TZID=America/Los_Angeles:20261006T100000
DTEND;TZID=America/Los_Angeles:20261006T120000
DTSTAMP:20260423T092337
CREATED:20240501T164944Z
LAST-MODIFIED:20240501T164944Z
UID:25981-1791280800-1791288000@www.chehalislutheran.org
SUMMARY:Quilters
DESCRIPTION:
URL:https://www.chehalislutheran.org/event/quilters-6/2026-10-06/
END:VEVENT
BEGIN:VEVENT
DTSTART;TZID=America/Los_Angeles:20261013T100000
DTEND;TZID=America/Los_Angeles:20261013T120000
DTSTAMP:20260423T092337
CREATED:20240501T164944Z
LAST-MODIFIED:20240501T164944Z
UID:25999-1791885600-1791892800@www.chehalislutheran.org
SUMMARY:Quilters
DESCRIPTION:
URL:https://www.chehalislutheran.org/event/quilters-6/2026-10-13/
END:VEVENT
BEGIN:VEVENT
DTSTART;TZID=America/Los_Angeles:20261020T100000
DTEND;TZID=America/Los_Angeles:20261020T120000
DTSTAMP:20260423T092337
CREATED:20240501T164944Z
LAST-MODIFIED:20240501T164944Z
UID:26011-1792490400-1792497600@www.chehalislutheran.org
SUMMARY:Quilters
DESCRIPTION:
URL:https://www.chehalislutheran.org/event/quilters-6/2026-10-20/
END:VEVENT
BEGIN:VEVENT
DTSTART;TZID=America/Los_Angeles:20261027T100000
DTEND;TZID=America/Los_Angeles:20261027T120000
DTSTAMP:20260423T092337
CREATED:20240501T164944Z
LAST-MODIFIED:20240501T164944Z
UID:26024-1793095200-1793102400@www.chehalislutheran.org
SUMMARY:Quilters
DESCRIPTION:
URL:https://www.chehalislutheran.org/event/quilters-6/2026-10-27/
END:VEVENT
BEGIN:VEVENT
DTSTART;TZID=America/Los_Angeles:20261103T100000
DTEND;TZID=America/Los_Angeles:20261103T120000
DTSTAMP:20260423T092337
CREATED:20240501T164944Z
LAST-MODIFIED:20240501T164944Z
UID:26055-1793700000-1793707200@www.chehalislutheran.org
SUMMARY:Quilters
DESCRIPTION:
URL:https://www.chehalislutheran.org/event/quilters-6/2026-11-03/
END:VEVENT
BEGIN:VEVENT
DTSTART;TZID=America/Los_Angeles:20261110T100000
DTEND;TZID=America/Los_Angeles:20261110T120000
DTSTAMP:20260423T092337
CREATED:20240501T164944Z
LAST-MODIFIED:20240501T164944Z
UID:26062-1794304800-1794312000@www.chehalislutheran.org
SUMMARY:Quilters
DESCRIPTION:
URL:https://www.chehalislutheran.org/event/quilters-6/2026-11-10/
END:VEVENT
BEGIN:VEVENT
DTSTART;TZID=America/Los_Angeles:20261117T100000
DTEND;TZID=America/Los_Angeles:20261117T120000
DTSTAMP:20260423T092337
CREATED:20240501T164944Z
LAST-MODIFIED:20240501T164944Z
UID:26077-1794909600-1794916800@www.chehalislutheran.org
SUMMARY:Quilters
DESCRIPTION:
URL:https://www.chehalislutheran.org/event/quilters-6/2026-11-17/
END:VEVENT
END:VCALENDAR