BEGIN:VCALENDAR
VERSION:2.0
PRODID:-//Chehalis Lutheran - ECPv6.15.20//NONSGML v1.0//EN
CALSCALE:GREGORIAN
METHOD:PUBLISH
X-WR-CALNAME:Chehalis Lutheran
X-ORIGINAL-URL:https://www.chehalislutheran.org
X-WR-CALDESC:Events for Chehalis Lutheran
REFRESH-INTERVAL;VALUE=DURATION:PT1H
X-Robots-Tag:noindex
X-PUBLISHED-TTL:PT1H
BEGIN:VTIMEZONE
TZID:America/Los_Angeles
BEGIN:DAYLIGHT
TZOFFSETFROM:-0800
TZOFFSETTO:-0700
TZNAME:PDT
DTSTART:20240310T100000
END:DAYLIGHT
BEGIN:STANDARD
TZOFFSETFROM:-0700
TZOFFSETTO:-0800
TZNAME:PST
DTSTART:20241103T090000
END:STANDARD
BEGIN:DAYLIGHT
TZOFFSETFROM:-0800
TZOFFSETTO:-0700
TZNAME:PDT
DTSTART:20250309T100000
END:DAYLIGHT
BEGIN:STANDARD
TZOFFSETFROM:-0700
TZOFFSETTO:-0800
TZNAME:PST
DTSTART:20251102T090000
END:STANDARD
BEGIN:DAYLIGHT
TZOFFSETFROM:-0800
TZOFFSETTO:-0700
TZNAME:PDT
DTSTART:20260308T100000
END:DAYLIGHT
BEGIN:STANDARD
TZOFFSETFROM:-0700
TZOFFSETTO:-0800
TZNAME:PST
DTSTART:20261101T090000
END:STANDARD
END:VTIMEZONE
BEGIN:VEVENT
DTSTART;TZID=America/Los_Angeles:20250409T180000
DTEND;TZID=America/Los_Angeles:20250409T190000
DTSTAMP:20260423T200028
CREATED:20250227T184033Z
LAST-MODIFIED:20250227T184033Z
UID:26372-1744221600-1744225200@www.chehalislutheran.org
SUMMARY:Soup Supper
DESCRIPTION:
URL:https://www.chehalislutheran.org/event/soup-supper-5/2025-04-09/
END:VEVENT
BEGIN:VEVENT
DTSTART;TZID=America/Los_Angeles:20250402T180000
DTEND;TZID=America/Los_Angeles:20250402T190000
DTSTAMP:20260423T200028
CREATED:20250227T184033Z
LAST-MODIFIED:20250227T184033Z
UID:26371-1743616800-1743620400@www.chehalislutheran.org
SUMMARY:Soup Supper
DESCRIPTION:
URL:https://www.chehalislutheran.org/event/soup-supper-5/2025-04-02/
END:VEVENT
BEGIN:VEVENT
DTSTART;TZID=America/Los_Angeles:20250326T180000
DTEND;TZID=America/Los_Angeles:20250326T190000
DTSTAMP:20260423T200028
CREATED:20250227T184033Z
LAST-MODIFIED:20250227T184033Z
UID:26370-1743012000-1743015600@www.chehalislutheran.org
SUMMARY:Soup Supper
DESCRIPTION:
URL:https://www.chehalislutheran.org/event/soup-supper-5/2025-03-26/
END:VEVENT
BEGIN:VEVENT
DTSTART;TZID=America/Los_Angeles:20250319T180000
DTEND;TZID=America/Los_Angeles:20250319T190000
DTSTAMP:20260423T200028
CREATED:20250227T184033Z
LAST-MODIFIED:20250227T184033Z
UID:26369-1742407200-1742410800@www.chehalislutheran.org
SUMMARY:Soup Supper
DESCRIPTION:
URL:https://www.chehalislutheran.org/event/soup-supper-5/2025-03-19/
END:VEVENT
BEGIN:VEVENT
DTSTART;TZID=America/Los_Angeles:20250312T180000
DTEND;TZID=America/Los_Angeles:20250312T190000
DTSTAMP:20260423T200028
CREATED:20250227T184033Z
LAST-MODIFIED:20250227T184033Z
UID:26368-1741802400-1741806000@www.chehalislutheran.org
SUMMARY:Soup Supper
DESCRIPTION:
URL:https://www.chehalislutheran.org/event/soup-supper-5/2025-03-12/
END:VEVENT
BEGIN:VEVENT
DTSTART;TZID=America/Los_Angeles:20250226T180000
DTEND;TZID=America/Los_Angeles:20250226T190000
DTSTAMP:20260423T200028
CREATED:20250227T184033Z
LAST-MODIFIED:20250227T184033Z
UID:26366-1740592800-1740596400@www.chehalislutheran.org
SUMMARY:Soup Supper
DESCRIPTION:
URL:https://www.chehalislutheran.org/event/soup-supper-5/2025-02-26/
END:VEVENT
BEGIN:VEVENT
DTSTART;TZID=America/Los_Angeles:20250219T180000
DTEND;TZID=America/Los_Angeles:20250219T190000
DTSTAMP:20260423T200028
CREATED:20250227T184033Z
LAST-MODIFIED:20250227T184033Z
UID:26365-1739988000-1739991600@www.chehalislutheran.org
SUMMARY:Soup Supper
DESCRIPTION:
URL:https://www.chehalislutheran.org/event/soup-supper-5/2025-02-19/
END:VEVENT
BEGIN:VEVENT
DTSTART;TZID=America/Los_Angeles:20250212T180000
DTEND;TZID=America/Los_Angeles:20250212T190000
DTSTAMP:20260423T200028
CREATED:20250227T184033Z
LAST-MODIFIED:20250227T184033Z
UID:26364-1739383200-1739386800@www.chehalislutheran.org
SUMMARY:Soup Supper
DESCRIPTION:
URL:https://www.chehalislutheran.org/event/soup-supper-5/2025-02-12/
END:VEVENT
END:VCALENDAR