BEGIN:VCALENDAR
VERSION:2.0
PRODID:-//Chehalis Lutheran - ECPv6.15.20//NONSGML v1.0//EN
CALSCALE:GREGORIAN
METHOD:PUBLISH
X-ORIGINAL-URL:https://www.chehalislutheran.org
X-WR-CALDESC:Events for Chehalis Lutheran
REFRESH-INTERVAL;VALUE=DURATION:PT1H
X-Robots-Tag:noindex
X-PUBLISHED-TTL:PT1H
BEGIN:VTIMEZONE
TZID:America/Los_Angeles
BEGIN:DAYLIGHT
TZOFFSETFROM:-0800
TZOFFSETTO:-0700
TZNAME:PDT
DTSTART:20250309T100000
END:DAYLIGHT
BEGIN:STANDARD
TZOFFSETFROM:-0700
TZOFFSETTO:-0800
TZNAME:PST
DTSTART:20251102T090000
END:STANDARD
BEGIN:DAYLIGHT
TZOFFSETFROM:-0800
TZOFFSETTO:-0700
TZNAME:PDT
DTSTART:20260308T100000
END:DAYLIGHT
BEGIN:STANDARD
TZOFFSETFROM:-0700
TZOFFSETTO:-0800
TZNAME:PST
DTSTART:20261101T090000
END:STANDARD
BEGIN:DAYLIGHT
TZOFFSETFROM:-0800
TZOFFSETTO:-0700
TZNAME:PDT
DTSTART:20270314T100000
END:DAYLIGHT
BEGIN:STANDARD
TZOFFSETFROM:-0700
TZOFFSETTO:-0800
TZNAME:PST
DTSTART:20271107T090000
END:STANDARD
END:VTIMEZONE
BEGIN:VEVENT
DTSTART;TZID=America/Los_Angeles:20260325T180000
DTEND;TZID=America/Los_Angeles:20260325T190000
DTSTAMP:20260423T161057
CREATED:20260129T174335Z
LAST-MODIFIED:20260129T174335Z
UID:27622-1774461600-1774465200@www.chehalislutheran.org
SUMMARY:Soup Supper
DESCRIPTION:
URL:https://www.chehalislutheran.org/event/soup-supper-6/2026-03-25/
END:VEVENT
BEGIN:VEVENT
DTSTART;TZID=America/Los_Angeles:20260318T180000
DTEND;TZID=America/Los_Angeles:20260318T190000
DTSTAMP:20260423T161057
CREATED:20260129T174335Z
LAST-MODIFIED:20260129T174335Z
UID:27621-1773856800-1773860400@www.chehalislutheran.org
SUMMARY:Soup Supper
DESCRIPTION:
URL:https://www.chehalislutheran.org/event/soup-supper-6/2026-03-18/
END:VEVENT
BEGIN:VEVENT
DTSTART;TZID=America/Los_Angeles:20260311T180000
DTEND;TZID=America/Los_Angeles:20260311T190000
DTSTAMP:20260423T161057
CREATED:20260129T174335Z
LAST-MODIFIED:20260129T174335Z
UID:27620-1773252000-1773255600@www.chehalislutheran.org
SUMMARY:Soup Supper
DESCRIPTION:
URL:https://www.chehalislutheran.org/event/soup-supper-6/2026-03-11/
END:VEVENT
BEGIN:VEVENT
DTSTART;TZID=America/Los_Angeles:20260304T180000
DTEND;TZID=America/Los_Angeles:20260304T190000
DTSTAMP:20260423T161057
CREATED:20260129T174335Z
LAST-MODIFIED:20260129T174335Z
UID:27619-1772647200-1772650800@www.chehalislutheran.org
SUMMARY:Soup Supper
DESCRIPTION:
URL:https://www.chehalislutheran.org/event/soup-supper-6/2026-03-04/
END:VEVENT
BEGIN:VEVENT
DTSTART;TZID=America/Los_Angeles:20260225T180000
DTEND;TZID=America/Los_Angeles:20260225T190000
DTSTAMP:20260423T161057
CREATED:20260129T174335Z
LAST-MODIFIED:20260129T174335Z
UID:27618-1772042400-1772046000@www.chehalislutheran.org
SUMMARY:Soup Supper
DESCRIPTION:
URL:https://www.chehalislutheran.org/event/soup-supper-6/2026-02-25/
END:VEVENT
END:VCALENDAR