BEGIN:VCALENDAR
VERSION:2.0
PRODID:-//Chehalis Lutheran - ECPv6.15.20//NONSGML v1.0//EN
CALSCALE:GREGORIAN
METHOD:PUBLISH
X-WR-CALNAME:Chehalis Lutheran
X-ORIGINAL-URL:https://www.chehalislutheran.org
X-WR-CALDESC:Events for Chehalis Lutheran
REFRESH-INTERVAL;VALUE=DURATION:PT1H
X-Robots-Tag:noindex
X-PUBLISHED-TTL:PT1H
BEGIN:VTIMEZONE
TZID:America/Los_Angeles
BEGIN:DAYLIGHT
TZOFFSETFROM:-0800
TZOFFSETTO:-0700
TZNAME:PDT
DTSTART:20230312T100000
END:DAYLIGHT
BEGIN:STANDARD
TZOFFSETFROM:-0700
TZOFFSETTO:-0800
TZNAME:PST
DTSTART:20231105T090000
END:STANDARD
BEGIN:DAYLIGHT
TZOFFSETFROM:-0800
TZOFFSETTO:-0700
TZNAME:PDT
DTSTART:20240310T100000
END:DAYLIGHT
BEGIN:STANDARD
TZOFFSETFROM:-0700
TZOFFSETTO:-0800
TZNAME:PST
DTSTART:20241103T090000
END:STANDARD
BEGIN:DAYLIGHT
TZOFFSETFROM:-0800
TZOFFSETTO:-0700
TZNAME:PDT
DTSTART:20250309T100000
END:DAYLIGHT
BEGIN:STANDARD
TZOFFSETFROM:-0700
TZOFFSETTO:-0800
TZNAME:PST
DTSTART:20251102T090000
END:STANDARD
BEGIN:DAYLIGHT
TZOFFSETFROM:-0800
TZOFFSETTO:-0700
TZNAME:PDT
DTSTART:20260308T100000
END:DAYLIGHT
BEGIN:STANDARD
TZOFFSETFROM:-0700
TZOFFSETTO:-0800
TZNAME:PST
DTSTART:20261101T090000
END:STANDARD
END:VTIMEZONE
BEGIN:VEVENT
DTSTART;TZID=America/Los_Angeles:20250608T103000
DTEND;TZID=America/Los_Angeles:20250608T113000
DTSTAMP:20260423T153839
CREATED:20240829T180310Z
LAST-MODIFIED:20240829T180310Z
UID:25876-1749378600-1749382200@www.chehalislutheran.org
SUMMARY:Sunday School & Adult Bible Study
DESCRIPTION:
URL:https://www.chehalislutheran.org/event/sunday-school-adult-bible-study-2/2025-06-08/
END:VEVENT
BEGIN:VEVENT
DTSTART;TZID=America/Los_Angeles:20250601T103000
DTEND;TZID=America/Los_Angeles:20250601T113000
DTSTAMP:20260423T153839
CREATED:20240829T180310Z
LAST-MODIFIED:20240829T180310Z
UID:25875-1748773800-1748777400@www.chehalislutheran.org
SUMMARY:Sunday School & Adult Bible Study
DESCRIPTION:
URL:https://www.chehalislutheran.org/event/sunday-school-adult-bible-study-2/2025-06-01/
END:VEVENT
BEGIN:VEVENT
DTSTART;TZID=America/Los_Angeles:20250525T103000
DTEND;TZID=America/Los_Angeles:20250525T113000
DTSTAMP:20260423T153839
CREATED:20240829T180310Z
LAST-MODIFIED:20240829T180310Z
UID:25874-1748169000-1748172600@www.chehalislutheran.org
SUMMARY:Sunday School & Adult Bible Study
DESCRIPTION:
URL:https://www.chehalislutheran.org/event/sunday-school-adult-bible-study-2/2025-05-25/
END:VEVENT
BEGIN:VEVENT
DTSTART;TZID=America/Los_Angeles:20250518T103000
DTEND;TZID=America/Los_Angeles:20250518T113000
DTSTAMP:20260423T153839
CREATED:20240829T180310Z
LAST-MODIFIED:20240829T180310Z
UID:25873-1747564200-1747567800@www.chehalislutheran.org
SUMMARY:Sunday School & Adult Bible Study
DESCRIPTION:
URL:https://www.chehalislutheran.org/event/sunday-school-adult-bible-study-2/2025-05-18/
END:VEVENT
BEGIN:VEVENT
DTSTART;TZID=America/Los_Angeles:20250511T103000
DTEND;TZID=America/Los_Angeles:20250511T113000
DTSTAMP:20260423T153839
CREATED:20240829T180310Z
LAST-MODIFIED:20240829T180310Z
UID:25872-1746959400-1746963000@www.chehalislutheran.org
SUMMARY:Sunday School & Adult Bible Study
DESCRIPTION:
URL:https://www.chehalislutheran.org/event/sunday-school-adult-bible-study-2/2025-05-11/
END:VEVENT
BEGIN:VEVENT
DTSTART;TZID=America/Los_Angeles:20250504T103000
DTEND;TZID=America/Los_Angeles:20250504T113000
DTSTAMP:20260423T153839
CREATED:20240829T180310Z
LAST-MODIFIED:20240829T180310Z
UID:25871-1746354600-1746358200@www.chehalislutheran.org
SUMMARY:Sunday School & Adult Bible Study
DESCRIPTION:
URL:https://www.chehalislutheran.org/event/sunday-school-adult-bible-study-2/2025-05-04/
END:VEVENT
BEGIN:VEVENT
DTSTART;TZID=America/Los_Angeles:20250427T103000
DTEND;TZID=America/Los_Angeles:20250427T113000
DTSTAMP:20260423T153839
CREATED:20240829T180310Z
LAST-MODIFIED:20240829T180310Z
UID:25870-1745749800-1745753400@www.chehalislutheran.org
SUMMARY:Sunday School & Adult Bible Study
DESCRIPTION:
URL:https://www.chehalislutheran.org/event/sunday-school-adult-bible-study-2/2025-04-27/
END:VEVENT
BEGIN:VEVENT
DTSTART;TZID=America/Los_Angeles:20250413T103000
DTEND;TZID=America/Los_Angeles:20250413T113000
DTSTAMP:20260423T153839
CREATED:20240829T180310Z
LAST-MODIFIED:20240829T180310Z
UID:25868-1744540200-1744543800@www.chehalislutheran.org
SUMMARY:Sunday School & Adult Bible Study
DESCRIPTION:
URL:https://www.chehalislutheran.org/event/sunday-school-adult-bible-study-2/2025-04-13/
END:VEVENT
BEGIN:VEVENT
DTSTART;TZID=America/Los_Angeles:20250406T103000
DTEND;TZID=America/Los_Angeles:20250406T113000
DTSTAMP:20260423T153839
CREATED:20240829T180310Z
LAST-MODIFIED:20240829T180310Z
UID:25867-1743935400-1743939000@www.chehalislutheran.org
SUMMARY:Sunday School & Adult Bible Study
DESCRIPTION:
URL:https://www.chehalislutheran.org/event/sunday-school-adult-bible-study-2/2025-04-06/
END:VEVENT
BEGIN:VEVENT
DTSTART;TZID=America/Los_Angeles:20250330T103000
DTEND;TZID=America/Los_Angeles:20250330T113000
DTSTAMP:20260423T153839
CREATED:20240829T180310Z
LAST-MODIFIED:20240829T180310Z
UID:25866-1743330600-1743334200@www.chehalislutheran.org
SUMMARY:Sunday School & Adult Bible Study
DESCRIPTION:
URL:https://www.chehalislutheran.org/event/sunday-school-adult-bible-study-2/2025-03-30/
END:VEVENT
BEGIN:VEVENT
DTSTART;TZID=America/Los_Angeles:20250323T103000
DTEND;TZID=America/Los_Angeles:20250323T113000
DTSTAMP:20260423T153839
CREATED:20240829T180310Z
LAST-MODIFIED:20240829T180310Z
UID:25865-1742725800-1742729400@www.chehalislutheran.org
SUMMARY:Sunday School & Adult Bible Study
DESCRIPTION:
URL:https://www.chehalislutheran.org/event/sunday-school-adult-bible-study-2/2025-03-23/
END:VEVENT
BEGIN:VEVENT
DTSTART;TZID=America/Los_Angeles:20250316T103000
DTEND;TZID=America/Los_Angeles:20250316T113000
DTSTAMP:20260423T153839
CREATED:20240829T180310Z
LAST-MODIFIED:20240829T180310Z
UID:25864-1742121000-1742124600@www.chehalislutheran.org
SUMMARY:Sunday School & Adult Bible Study
DESCRIPTION:
URL:https://www.chehalislutheran.org/event/sunday-school-adult-bible-study-2/2025-03-16/
END:VEVENT
BEGIN:VEVENT
DTSTART;TZID=America/Los_Angeles:20250309T103000
DTEND;TZID=America/Los_Angeles:20250309T113000
DTSTAMP:20260423T153839
CREATED:20240829T180310Z
LAST-MODIFIED:20240829T180310Z
UID:25863-1741516200-1741519800@www.chehalislutheran.org
SUMMARY:Sunday School & Adult Bible Study
DESCRIPTION:
URL:https://www.chehalislutheran.org/event/sunday-school-adult-bible-study-2/2025-03-09/
END:VEVENT
BEGIN:VEVENT
DTSTART;TZID=America/Los_Angeles:20250302T103000
DTEND;TZID=America/Los_Angeles:20250302T113000
DTSTAMP:20260423T153839
CREATED:20240829T180310Z
LAST-MODIFIED:20240829T180310Z
UID:25862-1740911400-1740915000@www.chehalislutheran.org
SUMMARY:Sunday School & Adult Bible Study
DESCRIPTION:
URL:https://www.chehalislutheran.org/event/sunday-school-adult-bible-study-2/2025-03-02/
END:VEVENT
BEGIN:VEVENT
DTSTART;TZID=America/Los_Angeles:20250223T103000
DTEND;TZID=America/Los_Angeles:20250223T113000
DTSTAMP:20260423T153839
CREATED:20240829T180310Z
LAST-MODIFIED:20240829T180310Z
UID:25861-1740306600-1740310200@www.chehalislutheran.org
SUMMARY:Sunday School & Adult Bible Study
DESCRIPTION:
URL:https://www.chehalislutheran.org/event/sunday-school-adult-bible-study-2/2025-02-23/
END:VEVENT
BEGIN:VEVENT
DTSTART;TZID=America/Los_Angeles:20250216T103000
DTEND;TZID=America/Los_Angeles:20250216T113000
DTSTAMP:20260423T153839
CREATED:20240829T180310Z
LAST-MODIFIED:20240829T180310Z
UID:25860-1739701800-1739705400@www.chehalislutheran.org
SUMMARY:Sunday School & Adult Bible Study
DESCRIPTION:
URL:https://www.chehalislutheran.org/event/sunday-school-adult-bible-study-2/2025-02-16/
END:VEVENT
BEGIN:VEVENT
DTSTART;TZID=America/Los_Angeles:20250209T103000
DTEND;TZID=America/Los_Angeles:20250209T113000
DTSTAMP:20260423T153839
CREATED:20240829T180310Z
LAST-MODIFIED:20240829T180310Z
UID:25859-1739097000-1739100600@www.chehalislutheran.org
SUMMARY:Sunday School & Adult Bible Study
DESCRIPTION:
URL:https://www.chehalislutheran.org/event/sunday-school-adult-bible-study-2/2025-02-09/
END:VEVENT
BEGIN:VEVENT
DTSTART;TZID=America/Los_Angeles:20250202T103000
DTEND;TZID=America/Los_Angeles:20250202T113000
DTSTAMP:20260423T153839
CREATED:20240829T180310Z
LAST-MODIFIED:20240829T180310Z
UID:25858-1738492200-1738495800@www.chehalislutheran.org
SUMMARY:Sunday School & Adult Bible Study
DESCRIPTION:
URL:https://www.chehalislutheran.org/event/sunday-school-adult-bible-study-2/2025-02-02/
END:VEVENT
BEGIN:VEVENT
DTSTART;TZID=America/Los_Angeles:20250126T103000
DTEND;TZID=America/Los_Angeles:20250126T113000
DTSTAMP:20260423T153839
CREATED:20240829T180310Z
LAST-MODIFIED:20240829T180310Z
UID:25857-1737887400-1737891000@www.chehalislutheran.org
SUMMARY:Sunday School & Adult Bible Study
DESCRIPTION:
URL:https://www.chehalislutheran.org/event/sunday-school-adult-bible-study-2/2025-01-26/
END:VEVENT
BEGIN:VEVENT
DTSTART;TZID=America/Los_Angeles:20250119T103000
DTEND;TZID=America/Los_Angeles:20250119T113000
DTSTAMP:20260423T153839
CREATED:20240829T180310Z
LAST-MODIFIED:20240829T180310Z
UID:25856-1737282600-1737286200@www.chehalislutheran.org
SUMMARY:Sunday School & Adult Bible Study
DESCRIPTION:
URL:https://www.chehalislutheran.org/event/sunday-school-adult-bible-study-2/2025-01-19/
END:VEVENT
BEGIN:VEVENT
DTSTART;TZID=America/Los_Angeles:20250112T103000
DTEND;TZID=America/Los_Angeles:20250112T113000
DTSTAMP:20260423T153839
CREATED:20240829T180310Z
LAST-MODIFIED:20240829T180310Z
UID:25855-1736677800-1736681400@www.chehalislutheran.org
SUMMARY:Sunday School & Adult Bible Study
DESCRIPTION:
URL:https://www.chehalislutheran.org/event/sunday-school-adult-bible-study-2/2025-01-12/
END:VEVENT
BEGIN:VEVENT
DTSTART;TZID=America/Los_Angeles:20250105T103000
DTEND;TZID=America/Los_Angeles:20250105T113000
DTSTAMP:20260423T153839
CREATED:20240829T180310Z
LAST-MODIFIED:20240829T180310Z
UID:25854-1736073000-1736076600@www.chehalislutheran.org
SUMMARY:Sunday School & Adult Bible Study
DESCRIPTION:
URL:https://www.chehalislutheran.org/event/sunday-school-adult-bible-study-2/2025-01-05/
END:VEVENT
BEGIN:VEVENT
DTSTART;TZID=America/Los_Angeles:20241229T103000
DTEND;TZID=America/Los_Angeles:20241229T113000
DTSTAMP:20260423T153839
CREATED:20240829T180310Z
LAST-MODIFIED:20240829T180310Z
UID:25853-1735468200-1735471800@www.chehalislutheran.org
SUMMARY:Sunday School & Adult Bible Study
DESCRIPTION:
URL:https://www.chehalislutheran.org/event/sunday-school-adult-bible-study-2/2024-12-29/
END:VEVENT
BEGIN:VEVENT
DTSTART;TZID=America/Los_Angeles:20241222T103000
DTEND;TZID=America/Los_Angeles:20241222T113000
DTSTAMP:20260423T153839
CREATED:20240829T180310Z
LAST-MODIFIED:20240829T180310Z
UID:25852-1734863400-1734867000@www.chehalislutheran.org
SUMMARY:Sunday School & Adult Bible Study
DESCRIPTION:
URL:https://www.chehalislutheran.org/event/sunday-school-adult-bible-study-2/2024-12-22/
END:VEVENT
BEGIN:VEVENT
DTSTART;TZID=America/Los_Angeles:20241215T103000
DTEND;TZID=America/Los_Angeles:20241215T113000
DTSTAMP:20260423T153839
CREATED:20240829T180310Z
LAST-MODIFIED:20240829T180310Z
UID:25851-1734258600-1734262200@www.chehalislutheran.org
SUMMARY:Sunday School & Adult Bible Study
DESCRIPTION:
URL:https://www.chehalislutheran.org/event/sunday-school-adult-bible-study-2/2024-12-15/
END:VEVENT
BEGIN:VEVENT
DTSTART;TZID=America/Los_Angeles:20241208T103000
DTEND;TZID=America/Los_Angeles:20241208T113000
DTSTAMP:20260423T153839
CREATED:20240829T180310Z
LAST-MODIFIED:20240829T180310Z
UID:25850-1733653800-1733657400@www.chehalislutheran.org
SUMMARY:Sunday School & Adult Bible Study
DESCRIPTION:
URL:https://www.chehalislutheran.org/event/sunday-school-adult-bible-study-2/2024-12-08/
END:VEVENT
BEGIN:VEVENT
DTSTART;TZID=America/Los_Angeles:20241201T103000
DTEND;TZID=America/Los_Angeles:20241201T113000
DTSTAMP:20260423T153839
CREATED:20240829T180310Z
LAST-MODIFIED:20240829T180310Z
UID:25849-1733049000-1733052600@www.chehalislutheran.org
SUMMARY:Sunday School & Adult Bible Study
DESCRIPTION:
URL:https://www.chehalislutheran.org/event/sunday-school-adult-bible-study-2/2024-12-01/
END:VEVENT
BEGIN:VEVENT
DTSTART;TZID=America/Los_Angeles:20241124T103000
DTEND;TZID=America/Los_Angeles:20241124T113000
DTSTAMP:20260423T153839
CREATED:20240829T180310Z
LAST-MODIFIED:20240829T180310Z
UID:25848-1732444200-1732447800@www.chehalislutheran.org
SUMMARY:Sunday School & Adult Bible Study
DESCRIPTION:
URL:https://www.chehalislutheran.org/event/sunday-school-adult-bible-study-2/2024-11-24/
END:VEVENT
BEGIN:VEVENT
DTSTART;TZID=America/Los_Angeles:20241117T103000
DTEND;TZID=America/Los_Angeles:20241117T113000
DTSTAMP:20260423T153839
CREATED:20240829T180310Z
LAST-MODIFIED:20240829T180310Z
UID:25847-1731839400-1731843000@www.chehalislutheran.org
SUMMARY:Sunday School & Adult Bible Study
DESCRIPTION:
URL:https://www.chehalislutheran.org/event/sunday-school-adult-bible-study-2/2024-11-17/
END:VEVENT
BEGIN:VEVENT
DTSTART;TZID=America/Los_Angeles:20241110T103000
DTEND;TZID=America/Los_Angeles:20241110T113000
DTSTAMP:20260423T153839
CREATED:20240829T180310Z
LAST-MODIFIED:20240829T180310Z
UID:25845-1731234600-1731238200@www.chehalislutheran.org
SUMMARY:Sunday School & Adult Bible Study
DESCRIPTION:
URL:https://www.chehalislutheran.org/event/sunday-school-adult-bible-study-2/2024-11-10/
END:VEVENT
END:VCALENDAR