BEGIN:VCALENDAR
VERSION:2.0
PRODID:-//Chehalis Lutheran - ECPv6.15.20//NONSGML v1.0//EN
CALSCALE:GREGORIAN
METHOD:PUBLISH
X-WR-CALNAME:Chehalis Lutheran
X-ORIGINAL-URL:https://www.chehalislutheran.org
X-WR-CALDESC:Events for Chehalis Lutheran
REFRESH-INTERVAL;VALUE=DURATION:PT1H
X-Robots-Tag:noindex
X-PUBLISHED-TTL:PT1H
BEGIN:VTIMEZONE
TZID:America/Los_Angeles
BEGIN:DAYLIGHT
TZOFFSETFROM:-0800
TZOFFSETTO:-0700
TZNAME:PDT
DTSTART:20230312T100000
END:DAYLIGHT
BEGIN:STANDARD
TZOFFSETFROM:-0700
TZOFFSETTO:-0800
TZNAME:PST
DTSTART:20231105T090000
END:STANDARD
BEGIN:DAYLIGHT
TZOFFSETFROM:-0800
TZOFFSETTO:-0700
TZNAME:PDT
DTSTART:20240310T100000
END:DAYLIGHT
BEGIN:STANDARD
TZOFFSETFROM:-0700
TZOFFSETTO:-0800
TZNAME:PST
DTSTART:20241103T090000
END:STANDARD
BEGIN:DAYLIGHT
TZOFFSETFROM:-0800
TZOFFSETTO:-0700
TZNAME:PDT
DTSTART:20250309T100000
END:DAYLIGHT
BEGIN:STANDARD
TZOFFSETFROM:-0700
TZOFFSETTO:-0800
TZNAME:PST
DTSTART:20251102T090000
END:STANDARD
BEGIN:DAYLIGHT
TZOFFSETFROM:-0800
TZOFFSETTO:-0700
TZNAME:PDT
DTSTART:20260308T100000
END:DAYLIGHT
BEGIN:STANDARD
TZOFFSETFROM:-0700
TZOFFSETTO:-0800
TZNAME:PST
DTSTART:20261101T090000
END:STANDARD
BEGIN:DAYLIGHT
TZOFFSETFROM:-0800
TZOFFSETTO:-0700
TZNAME:PDT
DTSTART:20270314T100000
END:DAYLIGHT
BEGIN:STANDARD
TZOFFSETFROM:-0700
TZOFFSETTO:-0800
TZNAME:PST
DTSTART:20271107T090000
END:STANDARD
END:VTIMEZONE
BEGIN:VEVENT
DTSTART;TZID=America/Los_Angeles:20260419T104500
DTEND;TZID=America/Los_Angeles:20260419T113000
DTSTAMP:20260423T113449
CREATED:20240102T191635Z
LAST-MODIFIED:20240102T191635Z
UID:25156-1776595500-1776598200@www.chehalislutheran.org
SUMMARY:Sunday School & Adult Bible Study
DESCRIPTION:
URL:https://www.chehalislutheran.org/event/sunday-school-adult-bible-study/2026-04-19/
END:VEVENT
BEGIN:VEVENT
DTSTART;TZID=America/Los_Angeles:20260412T104500
DTEND;TZID=America/Los_Angeles:20260412T113000
DTSTAMP:20260423T113449
CREATED:20240102T191635Z
LAST-MODIFIED:20240102T191635Z
UID:25144-1775990700-1775993400@www.chehalislutheran.org
SUMMARY:Sunday School & Adult Bible Study
DESCRIPTION:
URL:https://www.chehalislutheran.org/event/sunday-school-adult-bible-study/2026-04-12/
END:VEVENT
BEGIN:VEVENT
DTSTART;TZID=America/Los_Angeles:20260405T104500
DTEND;TZID=America/Los_Angeles:20260405T113000
DTSTAMP:20260423T113449
CREATED:20240102T191635Z
LAST-MODIFIED:20240102T191635Z
UID:25033-1775385900-1775388600@www.chehalislutheran.org
SUMMARY:Sunday School & Adult Bible Study
DESCRIPTION:
URL:https://www.chehalislutheran.org/event/sunday-school-adult-bible-study/2026-04-05/
END:VEVENT
BEGIN:VEVENT
DTSTART;TZID=America/Los_Angeles:20260329T104500
DTEND;TZID=America/Los_Angeles:20260329T113000
DTSTAMP:20260423T113449
CREATED:20240102T191635Z
LAST-MODIFIED:20240102T191635Z
UID:25016-1774781100-1774783800@www.chehalislutheran.org
SUMMARY:Sunday School & Adult Bible Study
DESCRIPTION:
URL:https://www.chehalislutheran.org/event/sunday-school-adult-bible-study/2026-03-29/
END:VEVENT
BEGIN:VEVENT
DTSTART;TZID=America/Los_Angeles:20260322T104500
DTEND;TZID=America/Los_Angeles:20260322T113000
DTSTAMP:20260423T113449
CREATED:20240102T191635Z
LAST-MODIFIED:20240102T191635Z
UID:25004-1774176300-1774179000@www.chehalislutheran.org
SUMMARY:Sunday School & Adult Bible Study
DESCRIPTION:
URL:https://www.chehalislutheran.org/event/sunday-school-adult-bible-study/2026-03-22/
END:VEVENT
BEGIN:VEVENT
DTSTART;TZID=America/Los_Angeles:20260315T104500
DTEND;TZID=America/Los_Angeles:20260315T113000
DTSTAMP:20260423T113449
CREATED:20240102T191635Z
LAST-MODIFIED:20240102T191635Z
UID:24993-1773571500-1773574200@www.chehalislutheran.org
SUMMARY:Sunday School & Adult Bible Study
DESCRIPTION:
URL:https://www.chehalislutheran.org/event/sunday-school-adult-bible-study/2026-03-15/
END:VEVENT
BEGIN:VEVENT
DTSTART;TZID=America/Los_Angeles:20260308T104500
DTEND;TZID=America/Los_Angeles:20260308T113000
DTSTAMP:20260423T113449
CREATED:20240102T191635Z
LAST-MODIFIED:20240102T191635Z
UID:24979-1772966700-1772969400@www.chehalislutheran.org
SUMMARY:Sunday School & Adult Bible Study
DESCRIPTION:
URL:https://www.chehalislutheran.org/event/sunday-school-adult-bible-study/2026-03-08/
END:VEVENT
BEGIN:VEVENT
DTSTART;TZID=America/Los_Angeles:20260301T104500
DTEND;TZID=America/Los_Angeles:20260301T113000
DTSTAMP:20260423T113449
CREATED:20240102T191635Z
LAST-MODIFIED:20240102T191635Z
UID:24976-1772361900-1772364600@www.chehalislutheran.org
SUMMARY:Sunday School & Adult Bible Study
DESCRIPTION:
URL:https://www.chehalislutheran.org/event/sunday-school-adult-bible-study/2026-03-01/
END:VEVENT
BEGIN:VEVENT
DTSTART;TZID=America/Los_Angeles:20260222T104500
DTEND;TZID=America/Los_Angeles:20260222T113000
DTSTAMP:20260423T113449
CREATED:20240102T191635Z
LAST-MODIFIED:20240102T191635Z
UID:24879-1771757100-1771759800@www.chehalislutheran.org
SUMMARY:Sunday School & Adult Bible Study
DESCRIPTION:
URL:https://www.chehalislutheran.org/event/sunday-school-adult-bible-study/2026-02-22/
END:VEVENT
BEGIN:VEVENT
DTSTART;TZID=America/Los_Angeles:20260215T104500
DTEND;TZID=America/Los_Angeles:20260215T113000
DTSTAMP:20260423T113449
CREATED:20240102T191635Z
LAST-MODIFIED:20240102T191635Z
UID:24870-1771152300-1771155000@www.chehalislutheran.org
SUMMARY:Sunday School & Adult Bible Study
DESCRIPTION:
URL:https://www.chehalislutheran.org/event/sunday-school-adult-bible-study/2026-02-15/
END:VEVENT
BEGIN:VEVENT
DTSTART;TZID=America/Los_Angeles:20260208T104500
DTEND;TZID=America/Los_Angeles:20260208T113000
DTSTAMP:20260423T113449
CREATED:20240102T191635Z
LAST-MODIFIED:20240102T191635Z
UID:24860-1770547500-1770550200@www.chehalislutheran.org
SUMMARY:Sunday School & Adult Bible Study
DESCRIPTION:
URL:https://www.chehalislutheran.org/event/sunday-school-adult-bible-study/2026-02-08/
END:VEVENT
BEGIN:VEVENT
DTSTART;TZID=America/Los_Angeles:20260201T104500
DTEND;TZID=America/Los_Angeles:20260201T113000
DTSTAMP:20260423T113449
CREATED:20240102T191635Z
LAST-MODIFIED:20240102T191635Z
UID:24849-1769942700-1769945400@www.chehalislutheran.org
SUMMARY:Sunday School & Adult Bible Study
DESCRIPTION:
URL:https://www.chehalislutheran.org/event/sunday-school-adult-bible-study/2026-02-01/
END:VEVENT
BEGIN:VEVENT
DTSTART;TZID=America/Los_Angeles:20260125T104500
DTEND;TZID=America/Los_Angeles:20260125T113000
DTSTAMP:20260423T113449
CREATED:20240102T191635Z
LAST-MODIFIED:20240102T191635Z
UID:24726-1769337900-1769340600@www.chehalislutheran.org
SUMMARY:Sunday School & Adult Bible Study
DESCRIPTION:
URL:https://www.chehalislutheran.org/event/sunday-school-adult-bible-study/2026-01-25/
END:VEVENT
BEGIN:VEVENT
DTSTART;TZID=America/Los_Angeles:20260118T104500
DTEND;TZID=America/Los_Angeles:20260118T113000
DTSTAMP:20260423T113449
CREATED:20240102T191635Z
LAST-MODIFIED:20240102T191635Z
UID:24718-1768733100-1768735800@www.chehalislutheran.org
SUMMARY:Sunday School & Adult Bible Study
DESCRIPTION:
URL:https://www.chehalislutheran.org/event/sunday-school-adult-bible-study/2026-01-18/
END:VEVENT
BEGIN:VEVENT
DTSTART;TZID=America/Los_Angeles:20260111T104500
DTEND;TZID=America/Los_Angeles:20260111T113000
DTSTAMP:20260423T113449
CREATED:20240102T191635Z
LAST-MODIFIED:20240102T191635Z
UID:24700-1768128300-1768131000@www.chehalislutheran.org
SUMMARY:Sunday School & Adult Bible Study
DESCRIPTION:
URL:https://www.chehalislutheran.org/event/sunday-school-adult-bible-study/2026-01-11/
END:VEVENT
BEGIN:VEVENT
DTSTART;TZID=America/Los_Angeles:20260104T104500
DTEND;TZID=America/Los_Angeles:20260104T113000
DTSTAMP:20260423T113449
CREATED:20240102T191635Z
LAST-MODIFIED:20240102T191635Z
UID:24698-1767523500-1767526200@www.chehalislutheran.org
SUMMARY:Sunday School & Adult Bible Study
DESCRIPTION:
URL:https://www.chehalislutheran.org/event/sunday-school-adult-bible-study/2026-01-04/
END:VEVENT
BEGIN:VEVENT
DTSTART;TZID=America/Los_Angeles:20240804T104500
DTEND;TZID=America/Los_Angeles:20240804T113000
DTSTAMP:20260423T113449
CREATED:20240102T191635Z
LAST-MODIFIED:20240102T191635Z
UID:24610-1722768300-1722771000@www.chehalislutheran.org
SUMMARY:Sunday School & Adult Bible Study
DESCRIPTION:
URL:https://www.chehalislutheran.org/event/sunday-school-adult-bible-study/2024-08-04/
END:VEVENT
BEGIN:VEVENT
DTSTART;TZID=America/Los_Angeles:20240728T104500
DTEND;TZID=America/Los_Angeles:20240728T113000
DTSTAMP:20260423T113449
CREATED:20240102T191635Z
LAST-MODIFIED:20240102T191635Z
UID:24609-1722163500-1722166200@www.chehalislutheran.org
SUMMARY:Sunday School & Adult Bible Study
DESCRIPTION:
URL:https://www.chehalislutheran.org/event/sunday-school-adult-bible-study/2024-07-28/
END:VEVENT
BEGIN:VEVENT
DTSTART;TZID=America/Los_Angeles:20240721T104500
DTEND;TZID=America/Los_Angeles:20240721T113000
DTSTAMP:20260423T113449
CREATED:20240102T191635Z
LAST-MODIFIED:20240102T191635Z
UID:24608-1721558700-1721561400@www.chehalislutheran.org
SUMMARY:Sunday School & Adult Bible Study
DESCRIPTION:
URL:https://www.chehalislutheran.org/event/sunday-school-adult-bible-study/2024-07-21/
END:VEVENT
BEGIN:VEVENT
DTSTART;TZID=America/Los_Angeles:20240714T104500
DTEND;TZID=America/Los_Angeles:20240714T113000
DTSTAMP:20260423T113449
CREATED:20240102T191635Z
LAST-MODIFIED:20240102T191635Z
UID:24607-1720953900-1720956600@www.chehalislutheran.org
SUMMARY:Sunday School & Adult Bible Study
DESCRIPTION:
URL:https://www.chehalislutheran.org/event/sunday-school-adult-bible-study/2024-07-14/
END:VEVENT
BEGIN:VEVENT
DTSTART;TZID=America/Los_Angeles:20240707T104500
DTEND;TZID=America/Los_Angeles:20240707T113000
DTSTAMP:20260423T113449
CREATED:20240102T191635Z
LAST-MODIFIED:20240102T191635Z
UID:24606-1720349100-1720351800@www.chehalislutheran.org
SUMMARY:Sunday School & Adult Bible Study
DESCRIPTION:
URL:https://www.chehalislutheran.org/event/sunday-school-adult-bible-study/2024-07-07/
END:VEVENT
BEGIN:VEVENT
DTSTART;TZID=America/Los_Angeles:20240630T104500
DTEND;TZID=America/Los_Angeles:20240630T113000
DTSTAMP:20260423T113449
CREATED:20240102T191635Z
LAST-MODIFIED:20240102T191635Z
UID:24605-1719744300-1719747000@www.chehalislutheran.org
SUMMARY:Sunday School & Adult Bible Study
DESCRIPTION:
URL:https://www.chehalislutheran.org/event/sunday-school-adult-bible-study/2024-06-30/
END:VEVENT
BEGIN:VEVENT
DTSTART;TZID=America/Los_Angeles:20240623T104500
DTEND;TZID=America/Los_Angeles:20240623T113000
DTSTAMP:20260423T113449
CREATED:20240102T191635Z
LAST-MODIFIED:20240102T191635Z
UID:24604-1719139500-1719142200@www.chehalislutheran.org
SUMMARY:Sunday School & Adult Bible Study
DESCRIPTION:
URL:https://www.chehalislutheran.org/event/sunday-school-adult-bible-study/2024-06-23/
END:VEVENT
BEGIN:VEVENT
DTSTART;TZID=America/Los_Angeles:20240616T104500
DTEND;TZID=America/Los_Angeles:20240616T113000
DTSTAMP:20260423T113449
CREATED:20240102T191635Z
LAST-MODIFIED:20240102T191635Z
UID:24603-1718534700-1718537400@www.chehalislutheran.org
SUMMARY:Sunday School & Adult Bible Study
DESCRIPTION:
URL:https://www.chehalislutheran.org/event/sunday-school-adult-bible-study/2024-06-16/
END:VEVENT
BEGIN:VEVENT
DTSTART;TZID=America/Los_Angeles:20240609T104500
DTEND;TZID=America/Los_Angeles:20240609T113000
DTSTAMP:20260423T113449
CREATED:20240102T191635Z
LAST-MODIFIED:20240102T191635Z
UID:24602-1717929900-1717932600@www.chehalislutheran.org
SUMMARY:Sunday School & Adult Bible Study
DESCRIPTION:
URL:https://www.chehalislutheran.org/event/sunday-school-adult-bible-study/2024-06-09/
END:VEVENT
BEGIN:VEVENT
DTSTART;TZID=America/Los_Angeles:20240602T104500
DTEND;TZID=America/Los_Angeles:20240602T113000
DTSTAMP:20260423T113449
CREATED:20240102T191635Z
LAST-MODIFIED:20240102T191635Z
UID:24601-1717325100-1717327800@www.chehalislutheran.org
SUMMARY:Sunday School & Adult Bible Study
DESCRIPTION:
URL:https://www.chehalislutheran.org/event/sunday-school-adult-bible-study/2024-06-02/
END:VEVENT
BEGIN:VEVENT
DTSTART;TZID=America/Los_Angeles:20240526T104500
DTEND;TZID=America/Los_Angeles:20240526T113000
DTSTAMP:20260423T113449
CREATED:20240102T191635Z
LAST-MODIFIED:20240102T191635Z
UID:24600-1716720300-1716723000@www.chehalislutheran.org
SUMMARY:Sunday School & Adult Bible Study
DESCRIPTION:
URL:https://www.chehalislutheran.org/event/sunday-school-adult-bible-study/2024-05-26/
END:VEVENT
BEGIN:VEVENT
DTSTART;TZID=America/Los_Angeles:20240519T104500
DTEND;TZID=America/Los_Angeles:20240519T113000
DTSTAMP:20260423T113449
CREATED:20240102T191635Z
LAST-MODIFIED:20240102T191635Z
UID:24599-1716115500-1716118200@www.chehalislutheran.org
SUMMARY:Sunday School & Adult Bible Study
DESCRIPTION:
URL:https://www.chehalislutheran.org/event/sunday-school-adult-bible-study/2024-05-19/
END:VEVENT
BEGIN:VEVENT
DTSTART;TZID=America/Los_Angeles:20240512T104500
DTEND;TZID=America/Los_Angeles:20240512T113000
DTSTAMP:20260423T113450
CREATED:20240102T191635Z
LAST-MODIFIED:20240102T191635Z
UID:24598-1715510700-1715513400@www.chehalislutheran.org
SUMMARY:Sunday School & Adult Bible Study
DESCRIPTION:
URL:https://www.chehalislutheran.org/event/sunday-school-adult-bible-study/2024-05-12/
END:VEVENT
BEGIN:VEVENT
DTSTART;TZID=America/Los_Angeles:20240505T104500
DTEND;TZID=America/Los_Angeles:20240505T113000
DTSTAMP:20260423T113450
CREATED:20240102T191635Z
LAST-MODIFIED:20240102T191635Z
UID:24597-1714905900-1714908600@www.chehalislutheran.org
SUMMARY:Sunday School & Adult Bible Study
DESCRIPTION:
URL:https://www.chehalislutheran.org/event/sunday-school-adult-bible-study/2024-05-05/
END:VEVENT
END:VCALENDAR