BEGIN:VCALENDAR
VERSION:2.0
PRODID:-//Chehalis Lutheran - ECPv6.15.20//NONSGML v1.0//EN
CALSCALE:GREGORIAN
METHOD:PUBLISH
X-WR-CALNAME:Chehalis Lutheran
X-ORIGINAL-URL:https://www.chehalislutheran.org
X-WR-CALDESC:Events for Chehalis Lutheran
REFRESH-INTERVAL;VALUE=DURATION:PT1H
X-Robots-Tag:noindex
X-PUBLISHED-TTL:PT1H
BEGIN:VTIMEZONE
TZID:America/Los_Angeles
BEGIN:DAYLIGHT
TZOFFSETFROM:-0800
TZOFFSETTO:-0700
TZNAME:PDT
DTSTART:20250309T100000
END:DAYLIGHT
BEGIN:STANDARD
TZOFFSETFROM:-0700
TZOFFSETTO:-0800
TZNAME:PST
DTSTART:20251102T090000
END:STANDARD
BEGIN:DAYLIGHT
TZOFFSETFROM:-0800
TZOFFSETTO:-0700
TZNAME:PDT
DTSTART:20260308T100000
END:DAYLIGHT
BEGIN:STANDARD
TZOFFSETFROM:-0700
TZOFFSETTO:-0800
TZNAME:PST
DTSTART:20261101T090000
END:STANDARD
BEGIN:DAYLIGHT
TZOFFSETFROM:-0800
TZOFFSETTO:-0700
TZNAME:PDT
DTSTART:20270314T100000
END:DAYLIGHT
BEGIN:STANDARD
TZOFFSETFROM:-0700
TZOFFSETTO:-0800
TZNAME:PST
DTSTART:20271107T090000
END:STANDARD
END:VTIMEZONE
BEGIN:VEVENT
DTSTART;TZID=America/Los_Angeles:20260426T104500
DTEND;TZID=America/Los_Angeles:20260426T113000
DTSTAMP:20260423T094317
CREATED:20240102T191635Z
LAST-MODIFIED:20240102T191635Z
UID:25165-1777200300-1777203000@www.chehalislutheran.org
SUMMARY:Sunday School & Adult Bible Study
DESCRIPTION:
URL:https://www.chehalislutheran.org/event/sunday-school-adult-bible-study/2026-04-26/
END:VEVENT
BEGIN:VEVENT
DTSTART;TZID=America/Los_Angeles:20260503T104500
DTEND;TZID=America/Los_Angeles:20260503T113000
DTSTAMP:20260423T094317
CREATED:20240102T191635Z
LAST-MODIFIED:20240102T191635Z
UID:25577-1777805100-1777807800@www.chehalislutheran.org
SUMMARY:Sunday School & Adult Bible Study
DESCRIPTION:
URL:https://www.chehalislutheran.org/event/sunday-school-adult-bible-study/2026-05-03/
END:VEVENT
BEGIN:VEVENT
DTSTART;TZID=America/Los_Angeles:20260510T104500
DTEND;TZID=America/Los_Angeles:20260510T113000
DTSTAMP:20260423T094317
CREATED:20240102T191635Z
LAST-MODIFIED:20240102T191635Z
UID:25591-1778409900-1778412600@www.chehalislutheran.org
SUMMARY:Sunday School & Adult Bible Study
DESCRIPTION:
URL:https://www.chehalislutheran.org/event/sunday-school-adult-bible-study/2026-05-10/
END:VEVENT
BEGIN:VEVENT
DTSTART;TZID=America/Los_Angeles:20260517T104500
DTEND;TZID=America/Los_Angeles:20260517T113000
DTSTAMP:20260423T094317
CREATED:20240102T191635Z
LAST-MODIFIED:20240102T191635Z
UID:25605-1779014700-1779017400@www.chehalislutheran.org
SUMMARY:Sunday School & Adult Bible Study
DESCRIPTION:
URL:https://www.chehalislutheran.org/event/sunday-school-adult-bible-study/2026-05-17/
END:VEVENT
BEGIN:VEVENT
DTSTART;TZID=America/Los_Angeles:20260524T104500
DTEND;TZID=America/Los_Angeles:20260524T113000
DTSTAMP:20260423T094317
CREATED:20240102T191635Z
LAST-MODIFIED:20240102T191635Z
UID:25618-1779619500-1779622200@www.chehalislutheran.org
SUMMARY:Sunday School & Adult Bible Study
DESCRIPTION:
URL:https://www.chehalislutheran.org/event/sunday-school-adult-bible-study/2026-05-24/
END:VEVENT
BEGIN:VEVENT
DTSTART;TZID=America/Los_Angeles:20260531T104500
DTEND;TZID=America/Los_Angeles:20260531T113000
DTSTAMP:20260423T094317
CREATED:20240102T191635Z
LAST-MODIFIED:20240102T191635Z
UID:25636-1780224300-1780227000@www.chehalislutheran.org
SUMMARY:Sunday School & Adult Bible Study
DESCRIPTION:
URL:https://www.chehalislutheran.org/event/sunday-school-adult-bible-study/2026-05-31/
END:VEVENT
BEGIN:VEVENT
DTSTART;TZID=America/Los_Angeles:20260607T104500
DTEND;TZID=America/Los_Angeles:20260607T113000
DTSTAMP:20260423T094317
CREATED:20240102T191635Z
LAST-MODIFIED:20240102T191635Z
UID:25671-1780829100-1780831800@www.chehalislutheran.org
SUMMARY:Sunday School & Adult Bible Study
DESCRIPTION:
URL:https://www.chehalislutheran.org/event/sunday-school-adult-bible-study/2026-06-07/
END:VEVENT
BEGIN:VEVENT
DTSTART;TZID=America/Los_Angeles:20260614T104500
DTEND;TZID=America/Los_Angeles:20260614T113000
DTSTAMP:20260423T094317
CREATED:20240102T191635Z
LAST-MODIFIED:20240102T191635Z
UID:25684-1781433900-1781436600@www.chehalislutheran.org
SUMMARY:Sunday School & Adult Bible Study
DESCRIPTION:
URL:https://www.chehalislutheran.org/event/sunday-school-adult-bible-study/2026-06-14/
END:VEVENT
BEGIN:VEVENT
DTSTART;TZID=America/Los_Angeles:20260621T104500
DTEND;TZID=America/Los_Angeles:20260621T113000
DTSTAMP:20260423T094317
CREATED:20240102T191635Z
LAST-MODIFIED:20240102T191635Z
UID:25698-1782038700-1782041400@www.chehalislutheran.org
SUMMARY:Sunday School & Adult Bible Study
DESCRIPTION:
URL:https://www.chehalislutheran.org/event/sunday-school-adult-bible-study/2026-06-21/
END:VEVENT
BEGIN:VEVENT
DTSTART;TZID=America/Los_Angeles:20260628T104500
DTEND;TZID=America/Los_Angeles:20260628T113000
DTSTAMP:20260423T094317
CREATED:20240102T191635Z
LAST-MODIFIED:20240102T191635Z
UID:25712-1782643500-1782646200@www.chehalislutheran.org
SUMMARY:Sunday School & Adult Bible Study
DESCRIPTION:
URL:https://www.chehalislutheran.org/event/sunday-school-adult-bible-study/2026-06-28/
END:VEVENT
BEGIN:VEVENT
DTSTART;TZID=America/Los_Angeles:20260705T104500
DTEND;TZID=America/Los_Angeles:20260705T113000
DTSTAMP:20260423T094317
CREATED:20240102T191635Z
LAST-MODIFIED:20240102T191635Z
UID:25727-1783248300-1783251000@www.chehalislutheran.org
SUMMARY:Sunday School & Adult Bible Study
DESCRIPTION:
URL:https://www.chehalislutheran.org/event/sunday-school-adult-bible-study/2026-07-05/
END:VEVENT
BEGIN:VEVENT
DTSTART;TZID=America/Los_Angeles:20260712T104500
DTEND;TZID=America/Los_Angeles:20260712T113000
DTSTAMP:20260423T094317
CREATED:20240102T191635Z
LAST-MODIFIED:20240102T191635Z
UID:25738-1783853100-1783855800@www.chehalislutheran.org
SUMMARY:Sunday School & Adult Bible Study
DESCRIPTION:
URL:https://www.chehalislutheran.org/event/sunday-school-adult-bible-study/2026-07-12/
END:VEVENT
BEGIN:VEVENT
DTSTART;TZID=America/Los_Angeles:20260719T104500
DTEND;TZID=America/Los_Angeles:20260719T113000
DTSTAMP:20260423T094317
CREATED:20240102T191635Z
LAST-MODIFIED:20240102T191635Z
UID:25751-1784457900-1784460600@www.chehalislutheran.org
SUMMARY:Sunday School & Adult Bible Study
DESCRIPTION:
URL:https://www.chehalislutheran.org/event/sunday-school-adult-bible-study/2026-07-19/
END:VEVENT
BEGIN:VEVENT
DTSTART;TZID=America/Los_Angeles:20260726T104500
DTEND;TZID=America/Los_Angeles:20260726T113000
DTSTAMP:20260423T094317
CREATED:20240102T191635Z
LAST-MODIFIED:20240102T191635Z
UID:25755-1785062700-1785065400@www.chehalislutheran.org
SUMMARY:Sunday School & Adult Bible Study
DESCRIPTION:
URL:https://www.chehalislutheran.org/event/sunday-school-adult-bible-study/2026-07-26/
END:VEVENT
BEGIN:VEVENT
DTSTART;TZID=America/Los_Angeles:20260802T104500
DTEND;TZID=America/Los_Angeles:20260802T113000
DTSTAMP:20260423T094317
CREATED:20240102T191635Z
LAST-MODIFIED:20240102T191635Z
UID:25768-1785667500-1785670200@www.chehalislutheran.org
SUMMARY:Sunday School & Adult Bible Study
DESCRIPTION:
URL:https://www.chehalislutheran.org/event/sunday-school-adult-bible-study/2026-08-02/
END:VEVENT
BEGIN:VEVENT
DTSTART;TZID=America/Los_Angeles:20260809T104500
DTEND;TZID=America/Los_Angeles:20260809T113000
DTSTAMP:20260423T094317
CREATED:20240102T191635Z
LAST-MODIFIED:20240102T191635Z
UID:25772-1786272300-1786275000@www.chehalislutheran.org
SUMMARY:Sunday School & Adult Bible Study
DESCRIPTION:
URL:https://www.chehalislutheran.org/event/sunday-school-adult-bible-study/2026-08-09/
END:VEVENT
BEGIN:VEVENT
DTSTART;TZID=America/Los_Angeles:20260816T104500
DTEND;TZID=America/Los_Angeles:20260816T113000
DTSTAMP:20260423T094317
CREATED:20240102T191635Z
LAST-MODIFIED:20240102T191635Z
UID:25788-1786877100-1786879800@www.chehalislutheran.org
SUMMARY:Sunday School & Adult Bible Study
DESCRIPTION:
URL:https://www.chehalislutheran.org/event/sunday-school-adult-bible-study/2026-08-16/
END:VEVENT
BEGIN:VEVENT
DTSTART;TZID=America/Los_Angeles:20260823T104500
DTEND;TZID=America/Los_Angeles:20260823T113000
DTSTAMP:20260423T094317
CREATED:20240102T191635Z
LAST-MODIFIED:20240102T191635Z
UID:25798-1787481900-1787484600@www.chehalislutheran.org
SUMMARY:Sunday School & Adult Bible Study
DESCRIPTION:
URL:https://www.chehalislutheran.org/event/sunday-school-adult-bible-study/2026-08-23/
END:VEVENT
BEGIN:VEVENT
DTSTART;TZID=America/Los_Angeles:20260830T104500
DTEND;TZID=America/Los_Angeles:20260830T113000
DTSTAMP:20260423T094317
CREATED:20240102T191635Z
LAST-MODIFIED:20240102T191635Z
UID:25894-1788086700-1788089400@www.chehalislutheran.org
SUMMARY:Sunday School & Adult Bible Study
DESCRIPTION:
URL:https://www.chehalislutheran.org/event/sunday-school-adult-bible-study/2026-08-30/
END:VEVENT
BEGIN:VEVENT
DTSTART;TZID=America/Los_Angeles:20260906T104500
DTEND;TZID=America/Los_Angeles:20260906T113000
DTSTAMP:20260423T094317
CREATED:20240102T191635Z
LAST-MODIFIED:20240102T191635Z
UID:25907-1788691500-1788694200@www.chehalislutheran.org
SUMMARY:Sunday School & Adult Bible Study
DESCRIPTION:
URL:https://www.chehalislutheran.org/event/sunday-school-adult-bible-study/2026-09-06/
END:VEVENT
BEGIN:VEVENT
DTSTART;TZID=America/Los_Angeles:20260913T104500
DTEND;TZID=America/Los_Angeles:20260913T113000
DTSTAMP:20260423T094317
CREATED:20240102T191635Z
LAST-MODIFIED:20240102T191635Z
UID:25922-1789296300-1789299000@www.chehalislutheran.org
SUMMARY:Sunday School & Adult Bible Study
DESCRIPTION:
URL:https://www.chehalislutheran.org/event/sunday-school-adult-bible-study/2026-09-13/
END:VEVENT
BEGIN:VEVENT
DTSTART;TZID=America/Los_Angeles:20260920T104500
DTEND;TZID=America/Los_Angeles:20260920T113000
DTSTAMP:20260423T094317
CREATED:20240102T191635Z
LAST-MODIFIED:20240102T191635Z
UID:25935-1789901100-1789903800@www.chehalislutheran.org
SUMMARY:Sunday School & Adult Bible Study
DESCRIPTION:
URL:https://www.chehalislutheran.org/event/sunday-school-adult-bible-study/2026-09-20/
END:VEVENT
BEGIN:VEVENT
DTSTART;TZID=America/Los_Angeles:20260927T104500
DTEND;TZID=America/Los_Angeles:20260927T113000
DTSTAMP:20260423T094317
CREATED:20240102T191635Z
LAST-MODIFIED:20240102T191635Z
UID:25953-1790505900-1790508600@www.chehalislutheran.org
SUMMARY:Sunday School & Adult Bible Study
DESCRIPTION:
URL:https://www.chehalislutheran.org/event/sunday-school-adult-bible-study/2026-09-27/
END:VEVENT
BEGIN:VEVENT
DTSTART;TZID=America/Los_Angeles:20261004T104500
DTEND;TZID=America/Los_Angeles:20261004T113000
DTSTAMP:20260423T094317
CREATED:20240102T191635Z
LAST-MODIFIED:20240102T191635Z
UID:25979-1791110700-1791113400@www.chehalislutheran.org
SUMMARY:Sunday School & Adult Bible Study
DESCRIPTION:
URL:https://www.chehalislutheran.org/event/sunday-school-adult-bible-study/2026-10-04/
END:VEVENT
BEGIN:VEVENT
DTSTART;TZID=America/Los_Angeles:20261011T104500
DTEND;TZID=America/Los_Angeles:20261011T113000
DTSTAMP:20260423T094317
CREATED:20240102T191635Z
LAST-MODIFIED:20240102T191635Z
UID:25995-1791715500-1791718200@www.chehalislutheran.org
SUMMARY:Sunday School & Adult Bible Study
DESCRIPTION:
URL:https://www.chehalislutheran.org/event/sunday-school-adult-bible-study/2026-10-11/
END:VEVENT
BEGIN:VEVENT
DTSTART;TZID=America/Los_Angeles:20261018T104500
DTEND;TZID=America/Los_Angeles:20261018T113000
DTSTAMP:20260423T094317
CREATED:20240102T191635Z
LAST-MODIFIED:20240102T191635Z
UID:26002-1792320300-1792323000@www.chehalislutheran.org
SUMMARY:Sunday School & Adult Bible Study
DESCRIPTION:
URL:https://www.chehalislutheran.org/event/sunday-school-adult-bible-study/2026-10-18/
END:VEVENT
BEGIN:VEVENT
DTSTART;TZID=America/Los_Angeles:20261025T104500
DTEND;TZID=America/Los_Angeles:20261025T113000
DTSTAMP:20260423T094317
CREATED:20240102T191635Z
LAST-MODIFIED:20240102T191635Z
UID:26014-1792925100-1792927800@www.chehalislutheran.org
SUMMARY:Sunday School & Adult Bible Study
DESCRIPTION:
URL:https://www.chehalislutheran.org/event/sunday-school-adult-bible-study/2026-10-25/
END:VEVENT
BEGIN:VEVENT
DTSTART;TZID=America/Los_Angeles:20261101T104500
DTEND;TZID=America/Los_Angeles:20261101T113000
DTSTAMP:20260423T094317
CREATED:20240102T191635Z
LAST-MODIFIED:20240102T191635Z
UID:26053-1793529900-1793532600@www.chehalislutheran.org
SUMMARY:Sunday School & Adult Bible Study
DESCRIPTION:
URL:https://www.chehalislutheran.org/event/sunday-school-adult-bible-study/2026-11-01/
END:VEVENT
BEGIN:VEVENT
DTSTART;TZID=America/Los_Angeles:20261108T104500
DTEND;TZID=America/Los_Angeles:20261108T113000
DTSTAMP:20260423T094317
CREATED:20240102T191635Z
LAST-MODIFIED:20240102T191635Z
UID:26058-1794134700-1794137400@www.chehalislutheran.org
SUMMARY:Sunday School & Adult Bible Study
DESCRIPTION:
URL:https://www.chehalislutheran.org/event/sunday-school-adult-bible-study/2026-11-08/
END:VEVENT
BEGIN:VEVENT
DTSTART;TZID=America/Los_Angeles:20261115T104500
DTEND;TZID=America/Los_Angeles:20261115T113000
DTSTAMP:20260423T094317
CREATED:20240102T191635Z
LAST-MODIFIED:20240102T191635Z
UID:26075-1794739500-1794742200@www.chehalislutheran.org
SUMMARY:Sunday School & Adult Bible Study
DESCRIPTION:
URL:https://www.chehalislutheran.org/event/sunday-school-adult-bible-study/2026-11-15/
END:VEVENT
END:VCALENDAR